Package: BioPlex Version: 1.15.0 Command: /home/biocbuild/bbs-3.22-bioc/R/bin/R CMD check --install=check:BioPlex.install-out.txt --library=/home/biocbuild/bbs-3.22-bioc/R/site-library --timings BioPlex_1.15.0.tar.gz StartedAt: 2025-10-23 12:01:25 -0400 (Thu, 23 Oct 2025) EndedAt: 2025-10-23 12:07:46 -0400 (Thu, 23 Oct 2025) EllapsedTime: 380.9 seconds RetCode: 0 Status: OK CheckDir: BioPlex.Rcheck Warnings: 0