Package: BioPlex Version: 1.16.0 Command: /home/biocbuild/bbs-3.22-bioc/R/bin/R CMD build --keep-empty-dirs --no-resave-data BioPlex StartedAt: 2025-11-04 11:08:26 -0500 (Tue, 04 Nov 2025) EndedAt: 2025-11-04 11:12:33 -0500 (Tue, 04 Nov 2025) EllapsedTime: 247.1 seconds RetCode: 1 Status: ERROR PackageFile: None PackageFileSize: NA