Package: BioImageDbs Version: 1.18.0 Command: /home/biocbuild/bbs-3.22-bioc/R/bin/R CMD INSTALL BioImageDbs StartedAt: 2025-10-30 10:58:48 -0400 (Thu, 30 Oct 2025) EndedAt: 2025-10-30 10:58:50 -0400 (Thu, 30 Oct 2025) EllapsedTime: 2.1 seconds RetCode: 0 Status: OK