Package: BioImageDbs Version: 1.18.0 Command: /home/biocbuild/bbs-3.22-bioc/R/bin/R CMD build --keep-empty-dirs --no-resave-data BioImageDbs StartedAt: 2025-10-30 11:12:15 -0400 (Thu, 30 Oct 2025) EndedAt: 2025-10-30 11:16:08 -0400 (Thu, 30 Oct 2025) EllapsedTime: 233.0 seconds RetCode: 0 Status: OK PackageFile: BioImageDbs_1.18.0.tar.gz PackageFileSize: 44.22 MiB