Package: BeadSorted.Saliva.EPIC Version: 1.18.0 Command: /home/biocbuild/bbs-3.22-bioc/R/bin/R CMD INSTALL BeadSorted.Saliva.EPIC StartedAt: 2025-11-04 11:03:42 -0500 (Tue, 04 Nov 2025) EndedAt: 2025-11-04 11:04:26 -0500 (Tue, 04 Nov 2025) EllapsedTime: 44.0 seconds RetCode: 0 Status: OK