Package: BeadSorted.Saliva.EPIC Version: 1.16.0 Command: /home/biocbuild/bbs-3.21-bioc/R/bin/R CMD check --install=check:BeadSorted.Saliva.EPIC.install-out.txt --library=/home/biocbuild/bbs-3.21-bioc/R/site-library --timings BeadSorted.Saliva.EPIC_1.16.0.tar.gz StartedAt: 2025-10-09 11:58:58 -0400 (Thu, 09 Oct 2025) EndedAt: 2025-10-09 12:04:17 -0400 (Thu, 09 Oct 2025) EllapsedTime: 319.0 seconds RetCode: 0 Status: OK CheckDir: BeadSorted.Saliva.EPIC.Rcheck Warnings: 0