Package: BeadArrayUseCases Version: 1.48.0 Command: /home/biocbuild/bbs-3.22-bioc/R/bin/R CMD INSTALL BeadArrayUseCases StartedAt: 2025-10-30 11:01:34 -0400 (Thu, 30 Oct 2025) EndedAt: 2025-10-30 11:02:07 -0400 (Thu, 30 Oct 2025) EllapsedTime: 32.9 seconds RetCode: 0 Status: OK