Package: BeadArrayUseCases Version: 1.47.0 Command: /home/biocbuild/bbs-3.22-bioc/R/bin/R CMD check --install=check:BeadArrayUseCases.install-out.txt --library=/home/biocbuild/bbs-3.22-bioc/R/site-library --timings BeadArrayUseCases_1.47.0.tar.gz StartedAt: 2025-10-28 12:01:12 -0400 (Tue, 28 Oct 2025) EndedAt: 2025-10-28 12:08:57 -0400 (Tue, 28 Oct 2025) EllapsedTime: 464.4 seconds RetCode: 0 Status: OK CheckDir: BeadArrayUseCases.Rcheck Warnings: 0