Package: AssessORFData Version: 1.28.0 Command: /home/biocbuild/bbs-3.22-bioc/R/bin/R CMD check --install=check:AssessORFData.install-out.txt --library=/home/biocbuild/bbs-3.22-bioc/R/site-library --timings AssessORFData_1.28.0.tar.gz StartedAt: 2025-10-30 12:17:11 -0400 (Thu, 30 Oct 2025) EndedAt: 2025-10-30 12:21:23 -0400 (Thu, 30 Oct 2025) EllapsedTime: 252.3 seconds RetCode: 0 Status: OK CheckDir: AssessORFData.Rcheck Warnings: 0