Package: AssessORFData Version: 1.28.0 Command: /home/biocbuild/bbs-3.22-bioc/R/bin/R CMD build --keep-empty-dirs --no-resave-data AssessORFData StartedAt: 2025-10-30 11:11:56 -0400 (Thu, 30 Oct 2025) EndedAt: 2025-10-30 11:13:45 -0400 (Thu, 30 Oct 2025) EllapsedTime: 108.7 seconds RetCode: 0 Status: OK PackageFile: AssessORFData_1.28.0.tar.gz PackageFileSize: 144.6 MiB