Package: AshkenazimSonChr21 Version: 1.40.0 Command: /home/biocbuild/bbs-3.22-bioc/R/bin/R CMD INSTALL AshkenazimSonChr21 StartedAt: 2025-10-30 10:55:50 -0400 (Thu, 30 Oct 2025) EndedAt: 2025-10-30 10:55:55 -0400 (Thu, 30 Oct 2025) EllapsedTime: 4.9 seconds RetCode: 0 Status: OK