Package: AshkenazimSonChr21 Version: 1.40.0 Command: /home/biocbuild/bbs-3.22-bioc/R/bin/R CMD check --install=check:AshkenazimSonChr21.install-out.txt --library=/home/biocbuild/bbs-3.22-bioc/R/site-library --timings AshkenazimSonChr21_1.40.0.tar.gz StartedAt: 2025-11-06 12:01:59 -0500 (Thu, 06 Nov 2025) EndedAt: 2025-11-06 12:02:31 -0500 (Thu, 06 Nov 2025) EllapsedTime: 32.0 seconds RetCode: 0 Status: OK CheckDir: AshkenazimSonChr21.Rcheck Warnings: 0