Package: AshkenazimSonChr21 Version: 1.40.0 Command: /home/biocbuild/bbs-3.22-bioc/R/bin/R CMD build --keep-empty-dirs --no-resave-data AshkenazimSonChr21 StartedAt: 2025-10-30 11:11:51 -0400 (Thu, 30 Oct 2025) EndedAt: 2025-10-30 11:12:25 -0400 (Thu, 30 Oct 2025) EllapsedTime: 34.3 seconds RetCode: 0 Status: OK PackageFile: AshkenazimSonChr21_1.40.0.tar.gz PackageFileSize: 9.756 MiB