Package: AneuFinderData Version: 1.38.0 Command: /home/biocbuild/bbs-3.22-bioc/R/bin/R CMD build --keep-empty-dirs --no-resave-data AneuFinderData StartedAt: 2025-10-30 11:11:44 -0400 (Thu, 30 Oct 2025) EndedAt: 2025-10-30 11:11:50 -0400 (Thu, 30 Oct 2025) EllapsedTime: 6.1 seconds RetCode: 0 Status: OK PackageFile: AneuFinderData_1.38.0.tar.gz PackageFileSize: 57.02 MiB