Package: AmpAffyExample Version: 1.50.0 Command: /home/biocbuild/bbs-3.22-bioc/R/bin/R CMD INSTALL AmpAffyExample StartedAt: 2025-10-30 10:56:58 -0400 (Thu, 30 Oct 2025) EndedAt: 2025-10-30 10:57:02 -0400 (Thu, 30 Oct 2025) EllapsedTime: 4.0 seconds RetCode: 0 Status: OK