Package: Affymoe4302Expr Version: 1.48.0 Command: /home/biocbuild/bbs-3.22-bioc/R/bin/R CMD INSTALL Affymoe4302Expr StartedAt: 2025-11-04 10:55:15 -0500 (Tue, 04 Nov 2025) EndedAt: 2025-11-04 10:55:18 -0500 (Tue, 04 Nov 2025) EllapsedTime: 2.5 seconds RetCode: 0 Status: OK