Package: Affymoe4302Expr Version: 1.48.0 Command: /home/biocbuild/bbs-3.22-bioc/R/bin/R CMD check --install=check:Affymoe4302Expr.install-out.txt --library=/home/biocbuild/bbs-3.22-bioc/R/site-library --timings Affymoe4302Expr_1.48.0.tar.gz StartedAt: 2025-11-04 12:02:08 -0500 (Tue, 04 Nov 2025) EndedAt: 2025-11-04 12:02:36 -0500 (Tue, 04 Nov 2025) EllapsedTime: 28.0 seconds RetCode: 0 Status: OK CheckDir: Affymoe4302Expr.Rcheck Warnings: 0