Package: Affymoe4302Expr Version: 1.48.0 Command: /home/biocbuild/bbs-3.22-bioc/R/bin/R CMD build --keep-empty-dirs --no-resave-data Affymoe4302Expr StartedAt: 2025-11-04 11:07:58 -0500 (Tue, 04 Nov 2025) EndedAt: 2025-11-04 11:08:25 -0500 (Tue, 04 Nov 2025) EllapsedTime: 27.3 seconds RetCode: 0 Status: OK PackageFile: Affymoe4302Expr_1.48.0.tar.gz PackageFileSize: 417.6 MiB