Package: AffymetrixDataTestFiles Version: 0.48.0 Command: /home/biocbuild/bbs-3.22-bioc/R/bin/R CMD INSTALL AffymetrixDataTestFiles StartedAt: 2025-10-30 10:56:07 -0400 (Thu, 30 Oct 2025) EndedAt: 2025-10-30 10:56:19 -0400 (Thu, 30 Oct 2025) EllapsedTime: 12.8 seconds RetCode: 0 Status: OK