Package: AffymetrixDataTestFiles Version: 0.48.0 Command: /home/biocbuild/bbs-3.22-bioc/R/bin/R CMD check --install=check:AffymetrixDataTestFiles.install-out.txt --library=/home/biocbuild/bbs-3.22-bioc/R/site-library --timings AffymetrixDataTestFiles_0.48.0.tar.gz StartedAt: 2025-10-30 12:16:55 -0400 (Thu, 30 Oct 2025) EndedAt: 2025-10-30 12:17:14 -0400 (Thu, 30 Oct 2025) EllapsedTime: 19.0 seconds RetCode: 0 Status: OK CheckDir: AffymetrixDataTestFiles.Rcheck Warnings: 0