Package: AffymetrixDataTestFiles Version: 0.48.0 Command: /home/biocbuild/bbs-3.22-bioc/R/bin/R CMD build --keep-empty-dirs --no-resave-data AffymetrixDataTestFiles StartedAt: 2025-10-30 11:11:42 -0400 (Thu, 30 Oct 2025) EndedAt: 2025-10-30 11:12:50 -0400 (Thu, 30 Oct 2025) EllapsedTime: 68.6 seconds RetCode: 0 Status: OK PackageFile: AffymetrixDataTestFiles_0.48.0.tar.gz PackageFileSize: 38.84 MiB