Package: Affyhgu133aExpr Version: 1.48.0 Command: /home/biocbuild/bbs-3.22-bioc/R/bin/R CMD INSTALL Affyhgu133aExpr StartedAt: 2025-11-04 10:55:43 -0500 (Tue, 04 Nov 2025) EndedAt: 2025-11-04 10:55:45 -0500 (Tue, 04 Nov 2025) EllapsedTime: 2.1 seconds RetCode: 0 Status: OK