Package: Affyhgu133aExpr Version: 1.48.0 Command: /home/biocbuild/bbs-3.22-bioc/R/bin/R CMD check --install=check:Affyhgu133aExpr.install-out.txt --library=/home/biocbuild/bbs-3.22-bioc/R/site-library --timings Affyhgu133aExpr_1.48.0.tar.gz StartedAt: 2025-11-04 12:02:08 -0500 (Tue, 04 Nov 2025) EndedAt: 2025-11-04 12:02:32 -0500 (Tue, 04 Nov 2025) EllapsedTime: 24.0 seconds RetCode: 0 Status: OK CheckDir: Affyhgu133aExpr.Rcheck Warnings: 0