Package: Affyhgu133Plus2Expr Version: 1.44.0 Command: /home/biocbuild/bbs-3.22-bioc/R/bin/R CMD check --install=check:Affyhgu133Plus2Expr.install-out.txt --library=/home/biocbuild/bbs-3.22-bioc/R/site-library --timings Affyhgu133Plus2Expr_1.44.0.tar.gz StartedAt: 2025-11-04 12:02:08 -0500 (Tue, 04 Nov 2025) EndedAt: 2025-11-04 12:02:28 -0500 (Tue, 04 Nov 2025) EllapsedTime: 20.3 seconds RetCode: 0 Status: OK CheckDir: Affyhgu133Plus2Expr.Rcheck Warnings: 0