Package: AWAggregatorData Version: 1.0.0 Command: /home/biocbuild/bbs-3.22-bioc/R/bin/R CMD INSTALL AWAggregatorData StartedAt: 2025-10-30 10:57:59 -0400 (Thu, 30 Oct 2025) EndedAt: 2025-10-30 10:58:20 -0400 (Thu, 30 Oct 2025) EllapsedTime: 21.3 seconds RetCode: 0 Status: OK