Package: AWAggregatorData Version: 1.0.0 Command: /home/biocbuild/bbs-3.22-bioc/R/bin/R CMD check --install=check:AWAggregatorData.install-out.txt --library=/home/biocbuild/bbs-3.22-bioc/R/site-library --timings AWAggregatorData_1.0.0.tar.gz StartedAt: 2025-10-30 12:17:14 -0400 (Thu, 30 Oct 2025) EndedAt: 2025-10-30 12:19:18 -0400 (Thu, 30 Oct 2025) EllapsedTime: 124.1 seconds RetCode: 0 Status: OK CheckDir: AWAggregatorData.Rcheck Warnings: 0