Package: AWAggregatorData Version: 1.0.0 Command: /home/biocbuild/bbs-3.22-bioc/R/bin/R CMD build --keep-empty-dirs --no-resave-data AWAggregatorData StartedAt: 2025-10-30 11:11:59 -0400 (Thu, 30 Oct 2025) EndedAt: 2025-10-30 11:12:54 -0400 (Thu, 30 Oct 2025) EllapsedTime: 54.9 seconds RetCode: 0 Status: OK PackageFile: AWAggregatorData_1.0.0.tar.gz PackageFileSize: 220.4 KiB