Package: ASICSdata Version: 1.30.0 Command: /home/biocbuild/bbs-3.22-bioc/R/bin/R CMD check --install=check:ASICSdata.install-out.txt --library=/home/biocbuild/bbs-3.22-bioc/R/site-library --timings ASICSdata_1.30.0.tar.gz StartedAt: 2025-11-04 12:02:23 -0500 (Tue, 04 Nov 2025) EndedAt: 2025-11-04 12:02:44 -0500 (Tue, 04 Nov 2025) EllapsedTime: 21.1 seconds RetCode: 0 Status: OK CheckDir: ASICSdata.Rcheck Warnings: 0