Package: ASICSdata Version: 1.28.0 Command: /home/biocbuild/bbs-3.21-bioc/R/bin/R CMD check --install=check:ASICSdata.install-out.txt --library=/home/biocbuild/bbs-3.21-bioc/R/site-library --timings ASICSdata_1.28.0.tar.gz StartedAt: 2025-10-14 11:58:47 -0400 (Tue, 14 Oct 2025) EndedAt: 2025-10-14 11:59:08 -0400 (Tue, 14 Oct 2025) EllapsedTime: 20.8 seconds RetCode: 0 Status: OK CheckDir: ASICSdata.Rcheck Warnings: 0