Package: ALLMLL Version: 1.50.0 Command: /home/biocbuild/bbs-3.22-bioc/R/bin/R CMD INSTALL ALLMLL StartedAt: 2025-11-04 10:56:24 -0500 (Tue, 04 Nov 2025) EndedAt: 2025-11-04 10:56:29 -0500 (Tue, 04 Nov 2025) EllapsedTime: 5.0 seconds RetCode: 0 Status: OK