Welcome to mirrors.dotsrc.org

All our mirrors of open source software are available via http, https, ftp and an onion service. More information about our mirrors including statistics and contact information is available on our mirror info pages.

For information about dotsrc.org and our other services please go to our website.

Index of /bioconductor/checkResults/release/data-experiment-LATEST/

File Name  ↓ File Size  ↓ Date  ↓ 
--
-2025-11-27 20:41:46
-2025-11-27 20:41:46
-2025-11-27 20:41:46
-2025-11-27 20:41:46
-2025-11-27 20:41:46
-2025-11-27 20:41:46
-2025-11-27 20:41:46
-2025-11-27 20:41:46
-2025-11-27 20:41:46
-2025-11-27 20:41:46
-2025-11-27 20:41:46
-2025-11-27 20:41:46
-2025-11-27 20:41:46
-2025-11-27 20:41:46
-2025-11-27 20:41:46
-2025-11-27 20:41:46
-2025-11-27 20:41:46
-2025-11-27 20:41:46
-2025-11-27 20:41:46
-2025-04-08 19:35:04
-2025-11-27 20:41:46
-2025-11-27 20:41:46
-2025-11-27 20:41:46
-2025-11-27 20:41:46
-2025-11-27 20:41:46
-2025-11-27 20:41:46
-2025-11-27 20:41:46
-2025-11-27 20:41:46
-2025-11-27 20:41:46
-2025-11-27 20:41:46
-2025-11-27 20:41:46
-2025-11-27 20:41:46
-2025-11-27 20:41:46
-2025-11-27 20:41:46
-2025-11-27 20:41:46
-2025-11-27 20:41:46
-2025-11-27 20:41:46
-2025-11-27 20:41:46
-2025-11-27 20:41:46
-2025-11-27 20:41:46
-2025-11-27 20:41:46
-2025-11-27 20:41:46
-2025-11-27 20:41:46
-2025-11-27 20:41:46
-2025-11-27 20:41:46
-2025-11-27 20:41:46
-2025-11-27 20:41:46
-2025-11-27 20:41:46
-2025-11-27 20:41:46
-2025-11-27 20:41:46
-2025-11-27 20:41:46
-2025-11-27 20:41:46
-2025-11-27 20:41:46
-2025-11-27 20:41:46
-2025-11-27 20:41:46
-2025-11-27 20:41:46
-2025-11-27 20:41:46
-2025-11-27 20:41:46
-2025-11-27 20:41:46
-2025-11-27 20:41:46
-2025-04-08 19:35:04
-2025-11-27 20:41:46
-2025-11-27 20:41:46
-2025-11-27 20:41:46
-2025-11-27 20:41:46
-2025-11-27 20:41:46
-2025-11-27 20:41:46
-2025-11-27 20:41:46
-2025-11-27 20:41:46
-2025-11-27 20:41:46
-2025-11-27 20:41:46
-2025-11-27 20:41:46
-2025-11-27 20:41:46
-2025-11-27 20:41:46
-2025-11-27 20:41:46
-2025-11-27 20:41:46
-2025-11-27 20:41:46
-2025-11-27 20:41:46
-2025-11-27 20:41:46
-2025-11-27 20:41:46
-2025-11-27 20:41:46
-2025-11-27 20:41:46
-2025-11-27 20:41:46
-2025-11-27 20:41:46
-2025-11-27 20:41:46
-2025-11-27 20:41:46
-2025-11-27 20:41:46
-2025-11-27 20:41:46
-2025-11-27 20:41:46
-2025-11-27 20:41:46
-2025-11-27 20:41:46
-2025-11-27 20:41:46
-2025-11-27 20:41:46
-2025-11-27 20:41:46
-2025-11-27 20:41:46
-2025-11-27 20:41:46
-2025-11-27 20:41:46
-2025-11-27 20:41:46
-2025-11-27 20:41:46
-2025-11-27 20:41:46
-2025-11-27 20:41:46
-2025-11-27 20:41:46
-2025-11-27 20:41:46
-2025-11-27 20:41:46
-2025-11-27 20:41:46
-2025-11-27 20:41:46
-2025-11-27 20:41:46
-2025-11-27 20:41:46
-2025-11-27 20:41:46
-2025-11-27 20:41:46
-2025-11-27 20:41:46
-2025-11-27 20:41:46
-2025-11-27 20:41:46
-2025-11-27 20:41:46
-2025-11-27 20:41:46
-2025-11-27 20:41:46
-2025-11-27 20:41:46
-2025-11-27 20:41:46
-2025-11-27 20:41:46
-2025-11-27 20:41:46
-2025-11-27 20:41:46
-2025-11-27 20:41:46
-2025-11-27 20:41:46
-2025-11-27 20:41:46
-2025-11-27 20:41:46
-2025-11-27 20:41:46
-2025-11-27 20:41:46
-2025-11-27 20:41:46
-2025-11-27 20:41:46
-2025-11-27 20:41:46
-2025-11-27 20:41:46
-2025-11-27 20:41:46
-2025-11-27 20:41:46
-2025-11-27 20:41:46
-2025-11-27 20:41:46
-2025-11-27 20:41:46
-2025-11-27 20:41:46
-2025-11-27 20:41:46
-2025-11-27 20:41:46
-2025-11-27 20:41:46
-2025-11-27 20:41:46
-2025-11-27 20:41:46
-2025-11-27 20:41:46
-2025-11-27 20:41:46
-2025-11-27 20:41:46
-2025-11-27 20:41:46
-2025-11-27 20:41:45
-2025-11-27 20:41:45
-2025-11-27 20:41:45
-2025-11-27 20:41:45
-2025-11-27 20:41:45
-2025-11-27 20:41:45
-2025-11-27 20:41:45
-2025-11-27 20:41:45
-2025-11-27 20:41:45
-2025-11-27 20:41:45
-2025-11-27 20:41:45
-2025-11-27 20:41:45
-2025-11-27 20:41:45
-2025-11-27 20:41:45
-2025-11-27 20:41:45
-2025-11-27 20:41:45
-2025-11-27 20:41:45
-2025-11-27 20:41:45
-2025-11-27 20:41:45
-2025-11-27 20:41:45
-2025-11-27 20:41:45
-2025-11-27 20:41:45
-2025-11-27 20:41:45
-2025-11-27 20:41:45
-2025-11-27 20:41:45
-2025-11-27 20:41:45
-2025-11-27 20:41:45
-2025-11-27 20:41:45
-2025-11-27 20:41:45
-2025-11-27 20:41:45
-2025-11-27 20:41:45
-2025-11-27 20:41:45
-2025-11-27 20:41:45
-2025-11-27 20:41:45
-2025-11-27 20:41:45
-2025-11-27 20:41:45
-2025-11-27 20:41:45
-2025-11-27 20:41:45
-2025-11-27 20:41:45
-2025-11-27 20:41:45
-2025-11-27 20:41:45
-2025-11-27 20:41:45
-2025-11-27 20:41:45
-2025-11-27 20:41:45
-2025-11-27 20:41:45
-2025-11-27 20:41:45
-2025-11-27 20:41:45
-2025-11-27 20:41:45
-2025-11-27 20:41:45
-2025-11-27 20:41:45
-2025-11-27 20:41:45
-2025-11-27 20:41:45
-2025-11-27 20:41:45
-2025-04-08 19:35:03
-2025-11-27 20:41:45
-2025-11-27 20:41:45
-2025-11-27 20:41:45
-2025-11-27 20:41:45
-2025-11-27 20:41:45
-2025-11-27 20:41:45
-2025-11-27 20:41:45
-2025-11-27 20:41:45
-2025-11-27 20:41:46
-2025-11-27 20:41:46
-2025-11-27 20:41:46
-2025-11-27 20:41:46
-2025-11-27 20:41:46
-2025-11-27 20:41:46
-2025-11-27 20:41:46
-2025-11-27 20:41:46
-2025-11-27 20:41:46
-2025-11-27 20:41:46
-2025-11-27 20:41:46
-2025-11-27 20:41:46
-2025-11-27 20:41:46
-2025-11-27 20:41:46
-2025-11-27 20:41:46
-2025-11-27 20:41:46
-2025-11-27 20:41:46
-2025-11-27 20:41:46
-2025-11-27 20:41:46
-2025-11-27 20:41:46
-2025-11-27 20:41:46
-2025-11-27 20:41:46
-2025-11-27 20:41:46
-2025-11-27 20:41:46
-2025-11-27 20:41:46
-2025-11-27 20:41:46
-2025-11-27 20:41:46
-2025-11-27 20:41:46
-2025-11-27 20:41:46
-2025-11-27 20:41:46
-2025-11-27 20:41:46
-2025-11-27 20:41:46
-2025-11-27 20:41:46
-2025-11-27 20:41:46
-2025-11-27 20:41:46
-2025-11-27 20:41:46
-2025-11-27 20:41:46
-2025-11-27 20:41:46
-2025-11-27 20:41:46
-2025-11-27 20:41:46
-2025-11-27 20:41:46
-2025-11-27 20:41:46
-2025-11-27 20:41:46
-2025-11-27 20:41:46
-2025-11-27 20:41:46
-2025-11-27 20:41:46
-2025-11-27 20:41:46
-2025-11-27 20:41:46
-2025-11-27 20:41:46
-2025-11-27 20:41:46
-2025-11-27 20:41:46
-2025-11-27 20:41:46
-2025-11-27 20:41:46
-2025-11-27 20:41:46
-2025-11-27 20:41:46
-2025-11-27 20:41:46
-2025-11-27 20:41:46
-2025-11-27 20:41:46
-2025-11-27 20:41:46
-2025-11-27 20:41:46
-2025-11-27 20:41:46
-2025-11-27 20:41:46
-2025-11-27 20:41:46
-2025-11-27 20:41:46
-2025-11-27 20:41:46
-2025-11-27 20:41:46
-2025-11-27 20:41:46
-2025-11-27 20:41:46
-2025-11-27 20:41:46
-2025-11-27 20:41:46
-2025-11-27 20:41:46
-2025-11-27 20:41:46
-2025-11-27 20:41:46
-2025-11-27 20:41:46
-2025-11-27 20:41:46
-2025-11-27 20:41:46
-2025-11-27 20:41:46
-2025-11-27 20:41:46
-2025-11-27 20:41:46
-2025-11-27 20:41:46
-2025-11-27 20:41:46
-2025-11-27 20:41:46
-2025-11-27 20:41:46
-2025-11-27 20:41:46
-2025-11-27 20:41:46
-2025-11-27 20:41:46
-2025-11-27 20:41:46
-2025-11-27 20:41:46
-2025-11-27 20:41:46
-2025-11-27 20:41:46
-2025-11-27 20:41:46
-2025-11-27 20:41:46
-2025-11-27 20:41:46
-2025-11-27 20:41:46
-2025-11-27 20:41:46
-2025-11-27 20:41:46
-2025-11-27 20:41:46
-2025-11-27 20:41:46
-2025-11-27 20:41:46
-2025-11-27 20:41:46
-2025-11-27 20:41:46
-2025-11-27 20:41:46
-2025-11-27 20:41:46
-2025-11-27 20:41:46
-2025-11-27 20:41:46
-2025-11-27 20:41:46
-2025-11-27 20:41:46
-2025-11-27 20:41:46
-2025-11-27 20:41:46
-2025-11-27 20:41:46
-2025-11-27 20:41:46
-2025-11-27 20:41:46
-2025-11-27 20:41:46
-2025-11-27 20:41:46
-2025-11-27 20:41:46
-2025-11-27 20:41:46
-2025-11-27 20:41:46
-2025-11-27 20:41:46
-2025-11-27 20:41:46
-2025-11-27 20:41:46
-2025-11-27 20:41:46
-2025-11-27 20:41:46
-2025-11-27 20:41:46
-2025-11-27 20:41:46
-2025-11-27 20:41:46
-2025-11-27 20:41:46
-2025-11-27 20:41:46
-2025-11-27 20:41:46
-2025-11-27 20:41:46
-2025-11-27 20:41:46
-2025-11-27 20:41:46
-2025-11-27 20:41:46
-2025-11-27 20:41:46
-2025-11-27 20:41:46
-2025-11-27 20:41:46
-2025-11-27 20:41:46
-2025-11-27 20:41:46
-2025-11-27 20:41:46
-2025-11-27 20:41:46
-2025-11-27 20:41:46
-2025-11-27 20:41:46
-2025-11-27 20:41:46
-2025-11-27 20:41:46
-2025-11-27 20:41:46
-2025-11-27 20:41:46
-2025-11-27 20:41:46
-2025-11-27 20:41:46
-2025-11-27 20:41:46
-2025-11-27 20:41:46
-2025-11-27 20:41:46
-2025-11-27 20:41:46
-2025-11-27 20:41:46
-2025-11-27 20:41:46
-2025-11-27 20:41:46
-2025-11-27 20:41:46
-2025-11-27 20:41:46
-2025-11-27 20:41:46
-2025-11-27 20:41:46
-2025-11-27 20:41:46
-2025-11-27 20:41:46
-2025-11-27 20:41:46
-2025-11-27 20:41:46
-2025-11-27 20:41:46
-2025-11-27 20:41:46
-2025-11-27 20:41:46
-2025-11-27 20:41:46
-2025-11-27 20:41:46
-2025-11-27 20:41:46
-2025-11-27 20:41:46
-2025-11-27 20:41:46
-2025-11-27 20:41:46
-2025-11-27 20:41:46
-2025-11-27 20:41:46
-2025-11-27 20:41:46
-2025-11-27 20:41:45
-2025-11-27 20:41:45
-2025-11-27 20:41:45
-2025-11-27 20:41:45
-2025-11-27 20:41:45
-2025-11-27 20:41:45
-2025-11-27 20:41:45
-2025-11-27 20:41:45
-2025-11-27 20:41:45
-2025-11-27 20:41:45
-2025-11-27 20:41:45
-2025-11-27 20:41:45
-2025-11-27 20:41:45
-2025-11-27 20:41:45
-2025-11-27 20:41:45
-2025-11-27 20:41:45
-2025-11-27 20:41:45
-2025-11-27 20:41:45
-2025-11-27 20:41:45
-2025-11-27 20:41:45
-2025-11-27 20:41:45
-2025-11-27 20:41:45
-2025-11-27 20:41:45
-2025-11-27 20:41:45
-2025-11-27 20:41:45
-2025-11-27 20:41:45
-2025-11-27 20:41:45
-2025-11-27 20:41:45
-2025-11-27 20:41:45
-2025-11-27 20:41:45
-2025-11-27 20:41:45
-2025-11-27 20:41:45
-2025-11-27 20:41:45
-2025-11-27 20:41:45
-2025-11-27 20:41:45
-2025-11-27 20:41:45
-2025-11-27 20:41:45
-2025-11-27 20:41:45
-2025-11-27 20:41:45
-2025-11-27 20:41:45
-2025-11-27 20:41:45
-2025-11-27 20:41:45
-2025-11-27 20:41:45
-2025-11-27 20:41:45
-2025-11-27 20:41:45
-2025-11-27 20:41:45
-2025-11-27 20:41:45
-2025-11-27 20:41:45
-2025-11-27 20:41:45
-2025-11-27 20:41:45
-2025-11-27 20:41:45
-2025-11-27 20:41:45
-2025-11-27 20:41:45
-2025-11-27 20:41:45
-2025-11-27 20:41:45
-2025-11-27 20:41:45
0 B2025-11-27 20:41:45
1.1 MiB2025-11-27 20:41:48
6.0 KiB2025-11-27 20:41:45
11.9 KiB2025-11-27 20:41:45
534.4 KiB2025-11-27 20:41:45
7.4 KiB2025-11-27 20:41:45
46.8 KiB2025-11-27 20:41:45
602.7 KiB2025-11-27 20:41:47
3.3 KiB2025-11-27 20:41:45
31.8 KiB2025-11-27 20:41:45
2.6 KiB2025-11-27 20:41:45
47.5 KiB2025-11-27 20:41:45
7.0 KiB2025-11-27 20:41:45
7.1 KiB2025-11-27 20:41:45
7.1 KiB2025-11-27 20:41:45