Welcome to mirrors.dotsrc.org

All our mirrors of open source software are available via http, https, ftp and an onion service. More information about our mirrors including statistics and contact information is available on our mirror info pages.

For information about dotsrc.org and our other services please go to our website.

Index of /bioconductor/checkResults/release/data-experiment-LATEST/

File Name  ↓ File Size  ↓ Date  ↓ 
--
-2025-10-09 19:01:43
-2025-10-09 19:01:43
-2025-10-09 19:01:43
-2025-10-09 19:01:43
-2025-10-09 19:01:43
-2025-10-09 19:01:43
-2025-10-09 19:01:43
-2025-10-09 19:01:43
-2025-10-09 19:01:43
-2025-10-09 19:01:43
-2025-10-09 19:01:43
-2025-10-09 19:01:43
-2025-10-09 19:01:43
-2025-10-09 19:01:43
-2025-10-09 19:01:43
-2025-10-09 19:01:43
-2025-10-09 19:01:43
-2025-10-09 19:01:43
-2025-10-09 19:01:43
-2025-10-09 19:01:43
-2025-10-09 19:01:43
-2025-10-09 19:01:43
-2025-10-09 19:01:43
-2025-10-09 19:01:43
-2025-10-09 19:01:43
-2025-10-09 19:01:43
-2025-10-09 19:01:43
-2025-10-09 19:01:43
-2025-10-09 19:01:43
-2025-10-09 19:01:43
-2025-10-09 19:01:43
-2025-10-09 19:01:43
-2025-10-09 19:01:43
-2025-10-09 19:01:43
-2025-10-09 19:01:43
-2025-10-09 19:01:43
-2025-10-09 19:01:43
-2025-10-09 19:01:43
-2025-10-09 19:01:43
-2025-10-09 19:01:43
-2025-10-09 19:01:43
-2025-10-09 19:01:43
-2025-10-09 19:01:43
-2025-10-09 19:01:43
-2025-10-09 19:01:43
-2025-10-09 19:01:43
-2025-10-09 19:01:43
-2025-10-09 19:01:43
-2025-10-09 19:01:43
-2025-10-09 19:01:43
-2025-10-09 19:01:43
-2025-10-09 19:01:43
-2025-10-09 19:01:43
-2025-10-09 19:01:43
-2025-10-09 19:01:43
-2025-10-09 19:01:43
-2025-10-09 19:01:43
-2025-10-09 19:01:43
-2025-10-09 19:01:43
-2025-10-09 19:01:44
-2025-10-09 19:01:44
-2025-10-09 19:01:44
-2025-10-09 19:01:44
-2025-10-09 19:01:44
-2025-10-09 19:01:44
-2025-10-09 19:01:44
-2025-10-09 19:01:44
-2025-10-09 19:01:44
-2025-10-09 19:01:44
-2025-10-09 19:01:44
-2025-10-09 19:01:44
-2025-10-09 19:01:44
-2025-10-09 19:01:44
-2025-10-09 19:01:44
-2025-10-09 19:01:44
-2025-10-09 19:01:44
-2025-10-09 19:01:44
-2025-10-09 19:01:44
-2025-10-09 19:01:44
-2025-10-09 19:01:44
-2025-10-09 19:01:44
-2025-10-09 19:01:44
-2025-10-09 19:01:44
-2025-10-09 19:01:44
-2025-10-09 19:01:44
-2025-10-09 19:01:44
-2025-10-09 19:01:44
-2025-10-09 19:01:44
-2025-10-09 19:01:44
-2025-10-09 19:01:44
-2025-10-09 19:01:44
-2025-10-09 19:01:44
-2025-10-09 19:01:44
-2025-10-09 19:01:44
-2025-10-09 19:01:44
-2025-10-09 19:01:44
-2025-10-09 19:01:44
-2025-10-09 19:01:44
-2025-10-09 19:01:44
-2025-10-09 19:01:44
-2025-10-09 19:01:44
-2025-10-09 19:01:44
-2025-10-09 19:01:44
-2025-10-09 19:01:44
-2025-10-09 19:01:44
-2025-10-09 19:01:44
-2025-10-09 19:01:44
-2025-10-09 19:01:44
-2025-10-09 19:01:44
-2025-10-09 19:01:44
-2025-10-09 19:01:44
-2025-10-09 19:01:44
-2025-10-09 19:01:44
-2025-10-09 19:01:44
-2025-10-09 19:01:44
-2025-10-09 19:01:44
-2025-10-09 19:01:44
-2025-10-09 19:01:44
-2025-10-09 19:01:44
-2025-10-09 19:01:44
-2025-10-09 19:01:44
-2025-10-09 19:01:44
-2025-10-09 19:01:44
-2025-10-09 19:01:44
-2025-10-09 19:01:44
-2025-10-09 19:01:44
-2025-10-09 19:01:44
-2025-10-09 19:01:44
-2025-10-09 19:01:44
-2025-10-09 19:01:44
-2025-10-09 19:01:44
-2025-10-09 19:01:44
-2025-10-09 19:01:44
-2025-10-09 19:01:44
-2025-10-09 19:01:44
-2025-10-09 19:01:44
-2025-10-09 19:01:44
-2025-10-09 19:01:44
-2025-10-09 19:01:44
-2025-10-09 19:01:44
-2025-10-09 19:01:44
-2025-10-09 19:01:44
-2025-10-09 19:01:44
-2025-10-09 19:01:44
-2025-10-09 19:01:44
-2025-10-09 19:01:44
-2025-10-09 19:01:44
-2025-10-09 19:01:44
-2025-10-09 19:01:44
-2025-10-09 19:01:44
-2025-10-09 19:01:44
-2025-10-09 19:01:44
-2025-10-09 19:01:44
-2025-10-09 19:01:44
-2025-10-09 19:01:44
-2025-10-09 19:01:44
-2025-10-09 19:01:44
-2025-10-09 19:01:44
-2025-10-09 19:01:44
-2025-10-09 19:01:44
-2025-10-09 19:01:44
-2025-10-09 19:01:44
-2025-10-09 19:01:44
-2025-10-09 19:01:44
-2025-10-09 19:01:44
-2025-10-09 19:01:44
-2025-10-09 19:01:44
-2025-10-09 19:01:44
-2025-10-09 19:01:44
-2025-10-09 19:01:44
-2025-10-09 19:01:44
-2025-10-09 19:01:44
-2025-10-09 19:01:44
-2025-10-09 19:01:44
-2025-10-09 19:01:44
-2025-10-09 19:01:44
-2025-10-09 19:01:44
-2025-10-09 19:01:44
-2025-10-09 19:01:44
-2025-10-09 19:01:44
-2025-10-09 19:01:44
-2025-10-09 19:01:44
-2025-10-09 19:01:44
-2025-10-09 19:01:44
-2025-10-09 19:01:44
-2025-10-09 19:01:44
-2025-10-09 19:01:44
-2025-10-09 19:01:44
-2025-10-09 19:01:44
-2025-10-09 19:01:44
-2025-10-09 19:01:44
-2025-10-09 19:01:44
-2025-10-09 19:01:44
-2025-10-09 19:01:44
-2025-10-09 19:01:44
-2025-10-09 19:01:44
-2025-10-09 19:01:44
-2025-10-09 19:01:44
-2025-10-09 19:01:44
-2025-10-09 19:01:44
-2025-10-09 19:01:44
-2025-10-09 19:01:44
-2025-10-09 19:01:44
-2025-10-09 19:01:44
-2025-10-09 19:01:44
-2025-10-09 19:01:44
-2025-10-09 19:01:44
-2025-10-09 19:01:45
-2025-10-09 19:01:45
-2025-10-09 19:01:45
-2025-10-09 19:01:45
-2025-10-09 19:01:45
-2025-10-09 19:01:45
-2025-10-09 19:01:44
-2025-10-09 19:01:44
-2025-10-09 19:01:44
-2025-10-09 19:01:44
-2025-10-09 19:01:45
-2025-10-09 19:01:45
-2025-10-09 19:01:45
-2025-10-09 19:01:45
-2025-10-09 19:01:45
-2025-10-09 19:01:45
-2025-10-09 19:01:45
-2025-10-09 19:01:45
-2025-10-09 19:01:45
-2025-10-09 19:01:43
-2025-10-09 19:01:43
-2025-10-09 19:01:43
-2025-10-09 19:01:43
-2025-10-09 19:01:43
-2025-10-09 19:01:43
-2025-10-09 19:01:43
-2025-10-09 19:01:43
-2025-10-09 19:01:43
-2025-10-09 19:01:43
-2025-10-09 19:01:43
-2025-10-09 19:01:43
-2025-10-09 19:01:43
-2025-10-09 19:01:43
-2025-10-09 19:01:43
-2025-10-09 19:01:43
-2025-10-09 19:01:43
-2025-10-09 19:01:43
-2025-10-09 19:01:43
-2025-10-09 19:01:43
-2025-10-09 19:01:43
-2025-10-09 19:01:43
-2025-10-09 19:01:43
-2025-10-09 19:01:43
-2025-10-09 19:01:43
-2025-10-09 19:01:43
-2025-10-09 19:01:43
-2025-10-09 19:01:43
-2025-10-09 19:01:43
-2025-10-09 19:01:43
-2025-10-09 19:01:43
-2025-10-09 19:01:43
-2025-10-09 19:01:43
-2025-10-09 19:01:43
-2025-10-09 19:01:43
-2025-10-09 19:01:43
-2025-10-09 19:01:43
-2025-10-09 19:01:43
-2025-10-09 19:01:43
-2025-10-09 19:01:43
-2025-10-09 19:01:43
-2025-10-09 19:01:43
-2025-10-09 19:01:43
-2025-10-09 19:01:43
-2025-10-09 19:01:43
-2025-10-09 19:01:43
-2025-10-09 19:01:43
-2025-10-09 19:01:43
-2025-10-09 19:01:43
-2025-10-09 19:01:43
-2025-10-09 19:01:43
-2025-10-09 19:01:43
-2025-10-09 19:01:43
-2025-10-09 19:01:43
-2025-10-09 19:01:43
-2025-10-09 19:01:43
-2025-10-09 19:01:43
-2025-10-09 19:01:43
-2025-10-09 19:01:43
-2025-10-09 19:01:43
-2025-10-09 19:01:43
-2025-10-09 19:01:43
-2025-10-09 19:01:43
-2025-10-09 19:01:43
-2025-10-09 19:01:43
-2025-10-09 19:01:43
-2025-10-09 19:01:43
-2025-10-09 19:01:43
-2025-10-09 19:01:43
-2025-10-09 19:01:43
-2025-10-09 19:01:43
-2025-10-09 19:01:44
-2025-10-09 19:01:44
-2025-10-09 19:01:44
-2025-10-09 19:01:44
-2025-10-09 19:01:44
-2025-10-09 19:01:44
-2025-10-09 19:01:44
-2025-10-09 19:01:44
-2025-10-09 19:01:44
-2025-10-09 19:01:44
-2025-10-09 19:01:44
-2025-10-09 19:01:44
-2025-10-09 19:01:44
-2025-10-09 19:01:44
-2025-10-09 19:01:44
-2025-10-09 19:01:44
-2025-10-09 19:01:44
-2025-10-09 19:01:44
-2025-10-09 19:01:44
-2025-10-09 19:01:44
-2025-10-09 19:01:44
-2025-10-09 19:01:44
-2025-10-09 19:01:44
-2025-10-09 19:01:44
-2025-10-09 19:01:44
-2025-10-09 19:01:44
-2025-10-09 19:01:44
-2025-10-09 19:01:44
-2025-10-09 19:01:44
-2025-10-09 19:01:44
-2025-10-09 19:01:44
-2025-10-09 19:01:44
-2025-10-09 19:01:44
-2025-10-09 19:01:44
-2025-10-09 19:01:44
-2025-10-09 19:01:44
-2025-10-09 19:01:44
-2025-10-09 19:01:44
-2025-10-09 19:01:44
-2025-10-09 19:01:44
-2025-10-09 19:01:44
-2025-10-09 19:01:44
-2025-10-09 19:01:44
-2025-10-09 19:01:44
-2025-10-09 19:01:44
-2025-10-09 19:01:44
-2025-10-09 19:01:44
-2025-10-09 19:01:44
-2025-10-09 19:01:44
-2025-10-09 19:01:44
-2025-10-09 19:01:44
-2025-10-09 19:01:44
-2025-10-09 19:01:44
-2025-10-09 19:01:44
-2025-10-09 19:01:44
-2025-10-09 19:01:44
-2025-10-09 19:01:44
-2025-10-09 19:01:44
-2025-10-09 19:01:44
-2025-10-09 19:01:44
-2025-10-09 19:01:44
-2025-10-09 19:01:44
-2025-10-09 19:01:44
-2025-10-09 19:01:44
-2025-10-09 19:01:44
-2025-10-09 19:01:44
-2025-10-09 19:01:44
-2025-10-09 19:01:44
-2025-10-09 19:01:44
-2025-10-09 19:01:44
-2025-10-09 19:01:44
-2025-10-09 19:01:44
-2025-10-09 19:01:44
-2025-10-09 19:01:44
-2025-10-09 19:01:44
-2025-10-09 19:01:44
-2025-10-09 19:01:44
-2025-10-09 19:01:44
-2025-10-09 19:01:44
-2025-10-09 19:01:44
-2025-10-09 19:01:44
-2025-10-09 19:01:44
-2025-10-09 19:01:44
-2025-10-09 19:01:44
-2025-10-09 19:01:44
-2025-10-09 19:01:44
-2025-10-09 19:01:44
-2025-10-09 19:01:44
-2025-10-09 19:01:44
-2025-10-09 19:01:44
-2025-10-09 19:01:44
-2025-10-09 19:01:44
-2025-10-09 19:01:44
-2025-10-09 19:01:44
-2025-10-09 19:01:44
-2025-10-09 19:01:44
-2025-10-09 19:01:44
-2025-10-09 19:01:44
-2025-10-09 19:01:44
-2025-10-09 19:01:44
-2025-10-09 19:01:44
-2025-10-09 19:01:44
-2025-10-09 19:01:44
-2025-10-09 19:01:44
-2025-10-09 19:01:44
-2025-10-09 19:01:44
-2025-10-09 19:01:44
-2025-10-09 19:01:44
-2025-10-09 19:01:44
-2025-10-09 19:01:44
-2025-10-09 19:01:44
-2025-10-09 19:01:44
-2025-10-09 19:01:44
-2025-10-09 19:01:44
-2025-10-09 19:01:44
-2025-10-09 19:01:44
-2025-10-09 19:01:44
-2025-10-09 19:01:44
-2025-10-09 19:01:45
-2025-10-09 19:01:45
-2025-10-09 19:01:45
-2025-10-09 19:01:45
-2025-10-09 19:01:45
-2025-10-09 19:01:45
-2025-10-09 19:01:45
-2025-10-09 19:01:45
-2025-10-09 19:01:45
-2025-10-09 19:01:45
-2025-10-09 19:01:45
-2025-10-09 19:01:45
-2025-10-09 19:01:45
-2025-10-09 19:01:45
-2025-10-09 19:01:45
-2025-10-09 19:01:45
-2025-10-09 19:01:45
7.1 KiB2025-10-09 19:01:43
7.1 KiB2025-10-09 19:01:43
7.0 KiB2025-10-09 19:01:43
47.2 KiB2025-10-09 19:01:43
2.6 KiB2025-10-09 19:01:43
31.6 KiB2025-10-09 19:01:43
3.3 KiB2025-10-09 19:01:43
599.3 KiB2025-10-09 19:01:45
46.5 KiB2025-10-09 19:01:43
7.4 KiB2025-10-09 19:01:43
529.4 KiB2025-10-09 19:01:43
11.7 KiB2025-10-09 19:01:43
6.0 KiB2025-10-09 19:01:43
1.2 MiB2025-10-09 19:01:47
0 B2025-10-09 19:01:43