Package: synaptome.data Version: 0.99.6 Command: /home/biocbuild/bbs-3.21-bioc/R/bin/R CMD build --keep-empty-dirs --no-resave-data synaptome.data StartedAt: 2025-10-15 06:02:17 -0400 (Wed, 15 Oct 2025) EndedAt: 2025-10-15 06:02:34 -0400 (Wed, 15 Oct 2025) EllapsedTime: 16.2 seconds RetCode: 0 Status: OK PackageFile: synaptome.data_0.99.6.tar.gz PackageFileSize: 302.6 KiB