Package: scAnnotatR.models Version: 0.99.10 Command: /home/biocbuild/bbs-3.22-bioc/R/bin/R CMD INSTALL scAnnotatR.models StartedAt: 2025-11-05 05:55:07 -0500 (Wed, 05 Nov 2025) EndedAt: 2025-11-05 05:55:09 -0500 (Wed, 05 Nov 2025) EllapsedTime: 1.9 seconds RetCode: 0 Status: OK