Package: scAnnotatR.models Version: 0.99.10 Command: /home/biocbuild/bbs-3.22-bioc/R/bin/R CMD check --install=check:scAnnotatR.models.install-out.txt --library=/home/biocbuild/bbs-3.22-bioc/R/site-library --timings scAnnotatR.models_0.99.10.tar.gz StartedAt: 2025-11-05 06:00:27 -0500 (Wed, 05 Nov 2025) EndedAt: 2025-11-05 06:01:26 -0500 (Wed, 05 Nov 2025) EllapsedTime: 58.4 seconds RetCode: 0 Status: OK CheckDir: scAnnotatR.models.Rcheck Warnings: 0