=ioF_QQ[vdSq{݅@%1EjxȤ3v}uQbݲg5 Yw׫^B ¸s^ ]<6Oq}6zGFfk|*(B=M\)Bðx::ޖf j<,y}4VApM-f >Ξ uBWW,ZCE"31r}lbvSv'/ʏM[>1k> 8@͆hisׯ:i⾎*KBy~4Vwj}jCw4La-7O4-aY;Ue'TdO n efgWC1=$2Bp5f$n\eD3.zTߛSZ cf^nPyA[1f1-xE:|wyg֌BW}QV|.hjAJ%鄿u:9iLZ4Cq0Vvgyc7#H4GaޘJRe I񏇚7罂>ɾ Y9QJbI3dEdϖRa?Х̝n%M |AK+HbѾ)#UPI67d_2nTF3Z Z`魒 ǟ:yc}aQѣ*J`t}yj6D!([8|BǨjq0C$e0". \ѓQ^=ilqʍb1YЁ 9HoM<7͟VɧbmJf#c-i 7DKtiK0NYF146UCĂ Maq=d2"Y7" ɊPCЛLQp,~tkWYiWǃÒ< M[d*VDDn$%Pn].=KTĵo]?Wr%EuݒEhe#!B"C/y9[ݜl]1)=[~xDVXU}+8pð0-eYa%F r2JQ gagA`{ZP5z͛7kL@.`OT %hpʸ |J?'nYMH?L SyA#ܖC)9*~!=ZN4XB/o![JX(NK/WQ:gR/; -YJOlF=l$*ʾfMňB81rd" 5r:  }BvHq!x"fRFgLDjdS8烑9N]D{?O?N2}nuXc4l0B |&#+9lY{7f{h HFW%*ӿӿmo=^-b-_*8%͆a*qPGTD46Lh Wa[eKf[& ڭMXIJCҚA94̣(()?W+W]p⯰?{4}uPH.jg8x ;)Q옽uV -:NZdYnBSt2Йʋ(7*bY+dU#Oq>h: Qfo%[d9(+{6 DN#WMatdBQb%Ēc@lip'!_#B/vtN؇؃㡇ɟgLb%w N_"E1QLU2vQ?VegM3hNBr{ -8N a"w{ɴРn9￟IT XdSPU? AgB> RUqH=%DAƓ2VPV7p+@#۸U$RҌP5х"QJsz1 2W#ɷSJQ -L1R ]ߍ]séjN=W<&V ,FJ *P LE-$J2 g0@ -zAF\]27tsgE ,8HշnT59˱xaҙxp$ MքeBk* WAD\AR2+0w;y4 cT",d |gd \[@ arD &Zb pS*ysʴ`CFZF.y0IB1 1Q{1t2-\ҍU<[DT1Lo< =+ <E;!KIp`y!rA*>ceZE}LEM quYW€@.rS IY+ߧz*n&sg0sMTi9uvcMQ̣s՞&)z|7O.5yr0!W4̓\z1zjQ,Nѷ=M>(,^vEOm=sؔկɒCQEAl錴[dU|!3l!5#.OkܚZ63b%K D-v Eq4zb>7VZw5t_x|u"OO>0_zL>j䉙>ޚG?R>jNɑhCv\ZO4ZK\O{>FjȭZ:{ e}]ڱػ$W >M[gFDr;#C$ B MBu>ybއ܄߶|r䂯4` K^`R>-o{ 7"d]~_~}I1)a)'_*_S{b6'! ZM@e6e+ fmG0w n!V8 |-Jy:Z;W.{ iQQ2.YpR'a-0}Moi'jc]Dh +0eݐ< A8]''Zb^q=z;Wl7AAA (ws ${×K|N{.ar$SSL"[F -l5$FNaCq3pvD3 ]bp]l3!Oτ`;bK@P,bNp}rU0")\INQ2(R=%[2`B\Kgi0M+DkOExjN)T*a?%Pc϶a贚|]{W}uUl4++|m0C:8Z~ouPi4/9Dp#TMl24K+/~1ސNT~5ir !uzKqi۽Ǟn6 XtC7jI~3i?lAve"9Dpׇ]O7ԌEvcZ#Z~_> яWgWZid fMc\.IWHa6Q8NA 'v*o 1a8PM9(V*N}֔ډ8/qJ-Ra2ϡ@PvU۫;[`W0k(\bY$7jZ&"H4~uun)XiU~ڀ }*piUKāxM ɏ ,й|NkA3E꽷gꢷwdc.ˍK0߼zvGpAC-5n5^Y$NdlIwo|8W3 pH"ŬX- B2|O}\G;GN1nw:w!g89< &ÓOwOc9|؇w?><9<};ם_c~9|}9l>9}xsx؇c}9#=D"RۥpcNsHo 8Y}l n.4<7(\?)GU>_y?M:? oo~zI?GSN%.ysv^x-tZ;ꗷ.i B=oSWŗ8@t~AV q Zue?gr~nFӝ[VRGEmi ?*iqFe41pPq/9|fb`[&HB] @ :9 a0c>ُ3^Ku.:5 b8T}~8譚wG0YK'gB(pwj{vx=r?l{Re|&*ݖĚ܍#*0n[oh/\U_a$qqd''#Y1-h=ӓ":GqƃGn z9\&o`@9d YAyeHxx5n: w&>*v+_zRhU`DiC͝S|y>] (?b;-͉3O^X@X%(i5F{fpdſyʥl;hS av"ѹ\m_>Dgr }<=5<ܼ "قQvߝO uw8ޝTmA3?lIGC%oな7;o9W8͡ppMǯ ¿gtgy'WCsl?ęv*BMjuqH"NPWDq"~ExxC5jf-JlYBKC/QĥP9\M]xQg'ڈ6d0$gMY;EC߾銇Ru%cPy{ԓ;ԑL8BogMaY}+ Kyor?(G@׹7W繏7"p] n>7Sb0rqqzzrzl]8z8ols!"BmPp_rS͝6orSFEH7 5 e-tJWN!d C@2!`[ [HmֻNy[sT2-M+m`Օ?Իy%n&vowB]"9GVgq !T +Kvgo|U<;F!o;K?QwqY*ڴ7ְVdh2B --^ϓZpP[oh1Io56/.vv@- A8ѽg)OS@EunvXf,C.d4SyqDVydl vYP[h/>"n~OE?zw^MBϛ*yub 9"AAb^AUgx19]>j4rw@2o>>XɃ$84@MC0xk;8֝/@>}D#jN\pJgm6yK~ΒEyM𺀷 Pl(m؏/1243rJ4Zmk(ݍxxӌ"dp -a؉bY{Qg6 X3O'I1+w'qΆQ;cVߠ=\a_JRIX#Oܝ+?>үNdOU]%R% DFaD\zοNKb'+.ОE3ۚd@+Վk[!cW^Zn&~ #{O'@ 4u:ݬc[jEMCojIoI3J5VzX֘ЈEŵB{ˏb_U:RhֿiH+g/nfގViEWa9z?#re95Ǚ#WIg"Dfՙф(jڇa/G3ELkPz~N'J7Lmg3^lGT vϞrtoNhv7ZaX>ߏf;l"'#gc^C9C&VSw/7ha"W"w0Abns—Kյ+c͆Ռ̟⏸Uyrxc`N6J ҷI(/UWӍ֠)i?b,:^*8fWσ"h^zHJM |꿴_uH_J*XYT|q#ނj]dqB"*[[F>Cme ̿a+?ځr7o]9ޮ9NyZ0F3` G^׭l sOSN"%}ݴÊ#`Car|u,|r{5;Ui/D|x>dG٪̫ӡm n}%[][ ؆Dg]%6(8Eċs<+CMBQ9? $.L2$.L2$.ot@v [r]Jb?z=7[F*RY|q/Yp3 K9b m\7Eh#t']\$}~05M"s!M;mG4@qyn=Sy2.b)s#2Ca&]'~q%u^qߜbݧ:@a[ W럅w%aZ4C1ژ_D$Tg|'6st6xK\ܼ/-0DB^D.Xu{ d?fAŠ Іfz؎ޝrEtFb}ޔhC K  Ƹm:+izQXȳ\C3q ? eۜ"'BtPHo@+ ƺex٧qBD-iKqz02N7{v<0]> GWgg|9pDՖ^X?y7}[^:RTBa(a?j+ƄDέ[{ږ9ߏf;l"DfƮx+#hpKt؉]ޝtԙw:~HD/@1i?f6_Vl.'0jFx[O`у U/kSw/p aq|C˹04?E _ ;xʾj0)jXh5#s ? 'j7TiÓgbU=t*;Qo\dxn 3?χMskxLbu&>nW~'BV9!NaxI4 @BH( 1*21*21*21*21*3*SI\&qeI\&qeI\W5e]sR6,nܛ dUP^Ze?9MNGer<?s<{scH`.4;gs:v<@'2<Mpm,fX55:k=zwӗOvhLncnWޅLzzS:hr [ W'sױ`~M҃~W>~tׂrP&ԀiQ%Ek:{4A~/Ωwz!{=b?#x|n$~ε[-5k FmR+Ǘe4āYh*) TNFȦhԚ!0ߑ.9Uz8Ao΋ïl֦h-JG.;L?gS>|u^(ya!12+!_$d>Z?%3fcaL< x@s'!cfz#? kTuvHw'Tصp [ީޢ/]~r{6D;z+\s2~6dߺ0,g>!U7QMڟ<}vKA!%FQA(\8PIs>2O!Lwz(!9 "j[C=%򽨲 Q2X BGgE կgˣ+ Ym!4ӛ:Caր 1dfG'+0$1ge]%IYrNWrZL.́fɑYr:X,9oFFKJyR 'XӗRMj?H[y\^xO'O"$O"$O"$-%f8Rȕ\)+2brxdB%X-6b׊ft[b$HbIb 3?\3n+NjzXvD-G|W)5))u{ur+\$HzV ]d-#̥T|q/Nط6*ֿ3/HܮTU\yJ{O+hkw8TmlzUSjM8.\fïՃTWMP rup?uF}jU:UDvh9={gTA;;zZ-^0Marp7RE_(oV`Q/wf: BLz+yFZ14~ 3#:[a~V*W_ϏZ7[Jy]>YǹV7vpg?cЃڨ_F*(**7x/2($S)K3 hDܓC7o iDRLujC5 :HCTAD]'ւm/U("қPĊezKoiU-Vk*57ZUEj1c w.F%[|/6e\@ϻSMkF?JI[vV[~孶0u彯խ^z4OU|ٗzdJ]z`k h2sb罯=5MFߤx^A<99eH]ŅѱlP9$!n p k_83U} cW}\1EHlFp:I[>&'Pr%'Pr%'Pr%'mu1Ecٷ: 6LF;9I;> גǷb?>_^|k=ySMlPڇO([ KxQ"U}Y_ȇOژșoN5>?}lG_-N\sV|zN2V ĩ85\v+f-XM3ӏb8N$|Vbܻ*we¤d\5" 1iDEtJY\"#8|)#4]'ݰ:Yʗ N%I͊(Zq; 0DN@kCsdW =43[g'-M)Yðp)zSmAߥ-TB !!@BB$!@$ư4 !+Aa$^  ۂɫ! a@Z#>?#?+CπPBxd<!GDlDFDl/@ĶRK}F3I-Es JRd%/}Kf_2wK; џB ICz5ێ/ XAy߂'0P``sq x:ȳl=}<>SϵVe)Өi'Oi?a!oƛ o)a"D& 2m (f~`|mIs?MWjuص={e~>Us/ Fjtݨ7VUUuUW[5-iݼڶnz=?y(͝pWhh*j<%`-~afd( p1 vxv  6M\︺MZ3`;Woxx6֐VuJ@*ERRF=RQV͐4vlM/uRkKNj\%N&b{#pç=)Jkjs}ˡt1P E6fWVpAMĄ )w0/ l )Lmc6h ܫDrMg`!n~OnE9zw^MBϛ yub "!;b^A7Og\x19]>j8uchn>Qo>>X#Ⱦ}FMAx8Nʗ e>5U.'=M_e\}wxv"r(y'6:p@~{> iL JZGm畏(ݍxxӌc"cp`؉bY{Qg6 Xn3O'I1w!qΆQ5cVߚ=[ _JRI:wB&XUwq7F޸XTpU9,_SCl/#doZ[mIgj򆷒6V)S^$ W_e"#2""#"2""#"2""#"2""#*I?qz"SǨ5]_)]s$Hzt:0{{~S0#3R{\q}lXN?dJЯ ߕ#ͽNpS#a:p؄.%KՑFp7 i_\4E%""!""!""!"x"mm aE%ZRZW4-$}}$h%B-B G3]`R4DrLqh9I13MܔM9C^I;*pQDV5H_, uƿ>˃S5-4JI? @C͇lnɔ( t;ˋ );Ш = iL3Zz.{AyQ_F34 YJʺ䯧x[7NWE$i4g& XEI@R?=&V]Ef$* _z@JN 9I@R?!n/#l(U<.+¨@"%I ˅ʜJ /M $!~!~\ZD2/x3HSN*P|q4Eׅx]V@~su i?}?JIoU6XF}  ;c?9_v=CJ E?AA_I+. FL h z^1 ֑z-$iKI[ǩg|NOOA/@œ Q Q QP3^H?jk8й* _y2߫sz'n('\5'2<~)VN@ϋ88 ̩Z--`j$nXnJ 27"n) RʎQ(Me5_RuDwYő9ꑣ9ꑣ9ꑣ9ꭉdl|WVa'lQXtEl"o(}Q=vGNĥpMi hϢQmMsYrZjǵIڐK/D-7XV#Rg[57.#mMo߄&7 <[BQ x߄&ww@ MB9Y&7ῗd'ZH[g-#H[N3Y%їQ0W4G,/HQSt1R_o4ߺ^'iG4<2 d'?𿥆aV+W[Ұ50&q ZRĿ 4B!Z + "InHEH3f_)i.y! d C@J%@R20GԻy%J<s*́]E-#`Okcr#g"q&EIu$ɭцN7 z=S^k6cB[38tǿl2?6nn:?ZU'OIZ,0*@iVν~'A9W\[s(̜\* V\<˦f6MҞ3YC^ 꽙fZ'Xm n\Uiznu=vlo_a{EO1h/#W_PS!mo4ArR_gVBӵEQibcR`ғޒ4g-րuf NIR~qˍj1Ck(Ou-E݌u^o׿J뿜T^^Y,Ê,.Z,3q^BrpI@S!t']\*}~,(,d/)j?t/%_\Ʋ˳sYDf^Yemhv Mo;acvVWy(GvAA؛myy@]sN[vހ7 8:5 zp~`n [>MO[|8` aő[!l_?^ގlU 70޿O+)w.Y/}Cyk3mfgi#65׼odh[XklUDroM`ƠCSDKȻ61+&ߊg45-iʲ?|;\fd2N5ou Jl~;.p,buCؠ`RG s/h7} ELhP4I\&qeI\&qeI\Zqy1*B)Ii!o>_:[7ZC#oi8k;}ƾROrX_hRRH+V]_W'/Zkހc«"C=\2a98 L&?2>Ea9LJqz}8{g͉,zY+0K}I Pjcފ?./NaƷ~b1GgC#\PeƐ9p.^CjmGCt{(HXgk9Wcr#ʇg7%.B$TxƼ!*[gww=tnYXؚpV$ :Q.'B>'Ko@+ ƺez٧qAb;k'.GqٳQ hX=:>;L(V[z~N'{(~eܳ߂; EqeQ,=_a4&T\*ao-Mp6ǭmgDkao'A80 :pdAu]{3;;J!k ;ӘU<~4s'߉`h<?5prȧ TBlNF~Ma3D1m׊v׍ Wl5#a's0ـxA8}窗5Xʩ;_ Ǘ_8tEPE˹|2fns—KXd+4E݇ 2>*,#e-ޘ>SBNrpw<anGw^V {O703|ެ7'E ?JI;^hzfbRI'IhD}ٵHĽT')M5Ze-90)v}1S b)>b}O>Qܧ Q?,1pj wA&2vA6(Xya] Ԝ7,HJRnh0AaULf:L佲H ܈a(l?QL 0#Yoh5njH[ U#! d C@m5lnV >1JZ*~3=;A5..%R*Tr]lSu'rw>ͤ؎@-NL>J-U! T8(d'Ӄݙ|U<;b!Xbu$UU 2Җq1yyyyy%90yyWV/rϋ8 ʫ"/"߯RYbgq2;L3"R|t0E4(j"Vdqv$>MQ)j7Evg ܽMbu&>}K f!kTU qs{ G%yTG%yTG%yTG%yTG%yTnG%L2$.L2$.Lrהu͍zKٰ]pon,ĒUIByjl4;2+h![!eG쀶ͽhD4gõŲ=>bhO_O?.>ߏ?3i\y0ΦM`X- 0l\^ǂ[W4!K:^] CiWP̦iG7bW w \;"9yÇap|;󹑘U8BlԀ5*KȂ_f]2ϧp/7S9#N9Skrh0Gnϟ޻ḙ`]$oOb ]dؑ8MORݻY*Gөy,c-Yn $W-iu/Nn[9iU8n t*##A8mzb9f3]^dwaݠ ;Y[`>ڻ4ن3;@ >t.;M#g-IE7٘;".v.7r71ӱ!s v< 9wo?waÉχk6`g3 |˞BWp_;/fbnXݶ(6Y퓫]#w",h|<(RcQ‚aY P$!Xm/!6pW~;$cg!mpgt"鵘\͔#EtYrM^KJNJ0,VG2֨Fngi?9G'''')e %O$O$O ?Pϼ*-$OWZEXgnS:aw,ΌZKMѩ9:СLBaDΚ,̩RW rRWdXC7=ޯwp{ [D%Tg2 Y7l%V~?GbuPؓyYbȽ>gZ\Ă-W%G}`I|Z:Jps: .>"΄Ϳ+*Gy ؕop+7?O~Ԍw^Diii/˄֑{u?Jsd k)#]zP/@m_+ޥڣ[k2e*INpn t̜Ng챭L֔WohZv|hd .TZuͽY:x'?Y)I7 %UƻHz]i/#|-P'6"+.L P u̍#,ɪ^i c;vKA_ MM_F/ Uv [g5 8@oƚ8*8QOxKTtQSeֿVȶfM F_)-⃹e;v؊PƛgHمXc%p]Z% H%5j5:KI?/nՑ$nZM7Y\a%S A&s_ꥨXSxkBTAH1)rDg&/|IEQ*WbHY B-nGWCEJK赐Q_xՌUOR+T3:ɪ _ߓ{^M<8(k[Ijo6S)`@v兪MEǬͯ*H ^ƭ]pGZMЁCh?|{L_UN2? ݥ>Qn<`ϥ+0 p!*e(2Q 0NМS:S5#G̀ ,n(Ep\5Ep)<1(ݼJFJ"p?(_"p jcADK/YvifEx&e և'B.Grc!`V 7 Mo~[ 8~&! hrh`# Yɑ ȑE `?@n66m.;݀t1kjͯty:z[>HDp̈́,#JB5~gVR Q9De sn]}L%i^RܜL?|` +k7Ws7囦4*6\}l 0 qEgWW*|E<8|r4&$*K>0;˞U_g\.ɭ1qYW-2hjJ\uEyQlslMj#3F_ wqU+:m?k8[݊eﭸ,.O¸|Z8F5ҍ_)|=כ|wu|Rcj*:KѠAб_QT`MQy|U?vǜ&l59e^3#jT~"8XJ6qz6HHq[Gd߇D~IOGOGz/G-Zj%JEvM9S[rN_Y}ΊZBO}dIX91Y| N^92Ӈ=ufWQUi; "s:. x4 fʗ$ Cv_2vĜꆪM7w a[0M9(2u~&՜Wh`^ua-: x $+f[\ ,&K\e) Z9Аgq&U2՚TWsBZ2:z~Mbuf}K`_2 co:P߬c<n||brrJ??b,n.{?Uך(% _%π`j1MrAQ[b6A>Gwan&fN=>U:AEKlJh'&#*AԺZUիӴh^, 1{g{"D QO]ki/#-3V:Rp f:($RΏ|FŕK']ɤJ\(Y3H$w$,J eM=$ ޚ/n՜3xn&)@$H@S8*Nnb|A1+x<>x|t {i_[ m-8ϐbn,CE b8-EMW&]50:45c)Η_G*Bg;XPV4UG+% K!$}$-dҁ_"B*:/=\eֿIhpH/#sVBj *6e8e~j` Bkiz ފM y B^?O+N@eOٴ#=Zݞɭޯw; ʹםC#zاlY]!MZe_wh;MehYwzMOjOzӊ[ ƿ9Vi!? _\q|gU a0'='S=V,r\%y_-Io?X>s`I|W - yЛ 3Ws#"H|u1f}=VuS?E(P@Q( D @("@q4BYH,N8.@r;]I):#@:F+C&pn(F@bQDJ7eH ? ,%m|  l쒜Ff 2@d"3 Dt0}b%9LF;i%NWIUOuQK{H-:{yQ2vEseZRMf"0`&\gPj0 z;VӚϩ#ia! (`B'_|5=XxF(\e#Kt)NuʔhεNQwn,I8f‘7 ׻7;]nb.3_4u]O ~3_swE-8b%Qb%Qb%QbL?o&@ucO8>c+$KB g4ӎ>TUHq7$ћP 1KuAn>;:7b\'ū.>PE+xd7YrG+Z2RYX˒Y2ʟW*"rؒ3f#)iH[4'? O`/OC4kq ? / #? _nEPQeEKq/228N^(&A}QQ G/_֑f׍_d/#m߅ !@B ;@2lLBR@@GC, # aP(}"&~I&}`Ld':pqDAtqlO̩n߬Whho1$?Mڊw@ )7պ5je-ۮ{*?<6 xkw@=.#C8y΃pypׅ*uUi_Tdl:`ʃ ֻ6([!0(Pu2 v*av3JE4ozbv?Z;<ܑn?BПEg?>)β_3? 躦g)iQ୚>@2! d C8|n>skn}!mI\R*U.yqz%nA^:պmJ5T G1r.隙5i~];tFΘK _\ΘLޗ@$[Fd+FY^;930rV)/Kב.M,%e3nn:Zio QFxHۓ+MZb)-vIi_jNxS@jWj")LUL3%%+"tEl<2{g{ڏ S,zHUVjLHaH_/l:2~Op]g .G?X8HVA 2‘~~PG >.&v Ώ=?xha4Okمy#*9˭\Ӫ~^ R )%eZzӠӞW<"P{GVv 72SڨsniJ_u)[T /kހKnSkՌOd} c/&1Qڼ+ 7/v+v7Fh Zeo\KToI-f-=y!DROYR4Pw@_6+ZưQaϝň)Zk2R+NjzP{OM ]:Xfhp*h{ d'/ӸoNQb:@gO r#pB/ Lv0fZm?9V3 {f|'6t6WOWؖ?R4C^tj^Ve^::gs{^w5tv1-8bySՂ.T,$]^+x!e^ALN{vw׃N: 3&7,`9F&'B@.:@i0o=}1c-\ä-Ƭߢm~bRާqc1Ҙi+hӋ lp:~Hث:p 8AL[1Aajgèd=qt7yEN#%iRo8VhvSɋl=Wlaw$>=~yv&eMĎI2_+)Īz#@7@BGqy; gf9啅eA۞ QBm%ZQզN2Rw# r \$2T?_b{L7 #hJI[9g,QDOFH_^qq;,xD̃nMe&ppb6$BVdq'> O}l`'~FؾZٽCү\!í dWjGX]e0̄a& sͻ]jտ NS[T'+0~}F3@93ۚdckXtagZPAlDxJ,Ցu#됝%-s O'? K '? OW@ϫ"? _@E Cd/P6<'QsBA+"6f("6nvF?,es|ygwy8^R kQkMO2>{ga~ؼsܳ*GO|j3mέEsiNn/-QJ=E{`]ږ DHCyVRdf./C8YW~7D—n>֕5]v:p)4Qė˅-h0dQ,ӸIM:<;lۻk{O'B[@ 4Ү:mvd2@.? |9K zZKGpm^UPmɂP{Sd`ǰExy+h {#$Xz7*g{d?^ˣ돧 \-OY(Px lÐ؇ЁN=wqFKG16߿~8,3AĒ]Ԕ9-b?Uɽ7sMײ {6v#8Dmg3^ׁI=w(v8:0mW)/ߏ[>İSĂ"JFR#N*>dGxϏnrVZj@|إW{WdnVH7]2ϧpQܗ,yNF6JwxWw OX?Ov7HgWwUo?ɕs98w7n1~+reF,yVo+}b*_.GWWS.&E|BU`.MD`@S U窢='g4mGӫB2QլBKh<s?g-Sd(K#>`<Ů r bGB"d#q!uk6T+%?nJsT)?jMtJIB+2*xaϧ[/)~KZyrk+fɸJ590TS /BR V>jX@? }HW3h V_ D<J$_9Bb"!bwWmq)g_UV%%^L׉+YtrL#X|5Q\5gY_ޤ_JZ/C_jR42L]/=/(9#yk _Nڲ/PB_( /,EPB_(vI ZPRh<+B_(bE$iID.f"A1L M,s@KbWaR# ^ GJ;v6[fZF(iUUZzUzf/nHyG"<:9RZ\H4Fid)#m'B!EkBd"3 Df 2h 7BN!Ac40IUOWտg׭p'KV]L`-3p )!d!{G[uEڞT L-MȤɣrKXھ8רhR҈^ Zi)L1MX,鋄' V<>=Ws7hف096H7Fo4Ud'?Od!;tCd'>+7OKOg$:jΪ{o%7TG+ӧ).Hà M{n[ڌ40ZF@,i3Ioe*m>k ]lQA!7|PG=*aչho`iVl~Fy'r%+^qߜb:^ WʅNQab4C1ژ_;[g4g|'6y62xK\/-B^4 a3۟ەS 􁡱+<ѕ]d%[]EW*~ (L=U*07q`Ou-Vj;c^(E?:}2c U@?d. C#RRe#u5QkM)MUν{-ңS[lϻgM73*plV\%;+B^LVWm&J833{g{LI׿|C iwU&_4Q_F**W|q_ <%ێ>V&7kF`״NiA__ y:V!CcE(+pbLr6X x-j:fӀ;U`ɣ⊏*Ļ{ vߕB0K^7qt_q䎗U.ln4_TT|qd/G,LdPK 94!A)<Dk)4)&:6ZqX|,_?HE4-S[zf o07Ѩ|Қx4 4VyO56UZD['A ](d&iLld2ZA[ SZAoˇ2T~pAvH$+@,)PW3KGKx j16fZ3ŐL(8\LLN3NT3I sztL-lu8s4RsNy;J{ЅL;,Ep0 E]׼E0حe PO*& ggl^@>.7evBμ2Sw]Yd^oh_')id'?Odmd?d'?Or/iϪ!?M/ZT<v+v2R#?@nYRK"3@ y"Gy VԵ!B"P>J 5H)%J$Mfb YP'f/> n~OXRޝ`Ӆ@P(DG=ub H!!#b^AALgLx19]>j8au9ih ` 3lD@}/<jr'Sq4o=ʝ2v~˄+&GA x-jP=!B$7%~:Wx=*mrQ:.W&Sƹ ݕE"&"'y$6:p@~{ iL m&.Lj[d3EwE;.0^`ΆQe1oO+?|7_ki8%AQv-&qv硙Iy&Vf-, 0^V{C[^鸃 RZekw8Tmpg^kմj]e0̲n0~jYgC3Mg+K ߛժ4I Hg$} B:b~UzkV{m|V'(5j<E=at{i;0'l3Rr~~|NJϗᔠTNΌ!fq/O{,+|E܅ΰ` Oӏtg2_nyׅbWLrJ]h67\43fˣ$x>N⾋.[nE7pw+ Զ ͟<>tm>:uD0&,cߋI)of-WWF2Җΰ NpB'8! NNpB^<0b x[m.L M颍G&i2II(t^rE|b #5jMe- }Kf_2ٗ̾dRG0URZ T*LSn;`R'$JbG!kOi)@-^7X$-' _WJ_F4u$Q'RR#xC8<$egK؂@MtHXG!UR̐/[Q*:;mǻAvrԑre<:?KI*yTsp,G<#Yϗ$f, "\FBo-5-3 Un!bug,R+n}eI Ykv,]Ec\%ƄZ^gu8szf[-4XGyWZZ7Cy qԌ:Hi_!XWjI׸O`H`rIY6,^,^t(!,r bʰׂˆ.lֽӧ+ ⚐(7c>A㏗$ۿr>7p-_5#`+AcD0c}? v4;5PB yX0rqqzzrzlf\D}f-QVwM{S!;Nӡ̺ĥ3۽2ޯ99Z?f1 k.%m|?&  @f2dV3aSRWzJѦq<-t#߉U"-mImj[i"iRn"0EvowB"9,te2(UV=؝ +:gSER NVP; ૿|2 #' 5c/r"E F1y2k ͸G"$'ph8Y?Jэ3K_KjaH(z@9Hk㯽wAJpQkIVḝ.ۧjY9/B756']&־ Wn">PA_ "GFFF// j׸_5A_)o)A}{O"#*OQD9"Z 2RT$OqY[K贤o-kJn%l$sqR3ldG MH!Dմmgx?jATOy'XyjWk*g/(u7BOjJI׿4ϕw՝ۺ၄ s|x |\c_x @W(;5W_7C/_ZO[F߈߈߈߈86H#7[mam>eDK~D(LV9#$s.@'y Nt.r' "#. . . .0.?++R>ү$No˞j&n$6mvV}tL\qZZ_N2+L'8! NpB<\'8! NpBO|?"|%%^' 8aO/Nd=ˏNCˊy}MhZԂZM$Hl3F RR{vL o椇' ۖc@B*Li(p(̷փaσa$v> zwɗmvyt+jON;}w~tvq [n\p'{{Ӏbnw䫄\#S(@i !gn$LqF<(~͠M*a^YB 2x9ʴ{!Cn"^{3Ż9wG.;7M(c`NC3k'xI8#~ >'t10k ^cEBa+h{7ak >f@^2SZvFSйMRoSⷳ狛/W_/y$R F{Ai7Ny ӻw'fv@#})ٻ89cǶɴgM;sEJ 7\]|eGݩx=~'wf߶ӗ+?}:pFw_\탗Il7G7-,]Ȓ>}pv,%rk Oc\d&2nO?~>|}>pvu}>= f{=szs~vu#}++/7Nao>|>u7G!̖yk|pzu}ux .#ܟb $*ʎ 0l5||sn^:g 'PPcG *1t"{U|͙{_GH lȝ,b (\±1ݚFfcytgǏ)P,_-;BO?ZZklμ\@]|BO?q-{EA-{Jf&`0ƛGT&b|cכhXvN$l FĜ9DHBt׳3aŹE2Jr1 #BB*I Vi55` Pqpnփ|~y>t;wzz|}'vEҾ99}5lB/Nq?b \`M>tyo?ڞ,"G]' r7Gټ94 n-.aTWE_ӢSvE*l"ugS@}t_arԚ0詛#,Oԙ9.vTxQ17e_":,] #)Bj?BŃ`K`[az0לFH%6+'O ~T0:9ƙ,K4*'%37WpÉvSx);? u * 6_t5x,r&|| ]$hv+^)xaz J[~"|>ah-%>|lGzY O#vzc6yyw#];\kG?'h՛-0=:0ȵ\;6ȵ\;JsHPh֝W1p G _jJum7%WC ըח0ud'_jӗ3r$dsJ~bі1nBuϨs2fNJm B.mFa)iЗ)7Ye~wUrwHf2ٟd'?Q?&.pjPgKUҬfҬn5d@%GNp\dDGde"lYJJo/1r5Tƿ}Sj; ۹VG <3_7WJ?""W" :yU%GF5OĆ G8oV\aB(eb ex&݊B\TE >](}Ixpj L~S~yƜ[ U!b (4{)_ׂlc)`xW[lCZWY\%0m{a\K.YVYdl6@is A3(B&'2  ge8ćCBL t=hAo O_'08M tZ@zͲbd_M ׈://%cŻD|@A1KF)wՐM\5|L뿄T,R|qC~ῷ䙯gYx5^\RI!,%Kߡ?$dW sLd=U 2#M`TAN  Pjcooşy_{'0[?y:i1OW y˼'5o9n~D"eP~m8[k 1g7%Bu@c^gww=t4;ckK1`Qc$\g1A3s x5-֝/۝>}^DLcrqs͞&1'vjڇa/C3E]t>gJ ;Ә y{C/푫YM|ׄ wd "wc8<ދ~ڙ@p ؉L<3t !ao KIL[1fca-U;F- ֓9염zd> ,/ L ~j0˹ 3`ns1(:@[W҃u#>{fzSCA1}_8J^ۇ /d^[70X^gl\!D 3!@nx͗rMRm[uRUt7Y|'@p_y>x:akr6=U*pcBmeU[s? F2R# b ƌU2fDj!I%\Krs3=kyf]i؞NzPkUwᅋ/9iW9)Q 5/#e\Kz8JyNpo~ɀ)ǿ* U\Jg"yB2۱adO1>dsC:] lYDJ[_zC/#m_DF4`DF4`DF4`DFѿgӼϘRnUIRjl4übr\99~u6{^pᇀȉ8v qPL@`}M@GwG0LgW@9zwӗOy~?j.P*f ?Z}lЀIv5AJa]'BÔ֛B/tq喏=?ڎ6SPڻ4ن3;]P_#v!n¬9.&mwQ'1_&w&*w.WX͐Թ.KstG ޜR7r0`Tv؅#|0\p _=89&Naavۢttl\2sf9E@sLJ^Aᕊ{0,uoΉȝʿqrIkt}i붧eu6=KC{O\*/3ص&`}h?|(ͯ|3~nj4%H)!JlRñQpyWVtU1Pzi\5#6 vE$'o'+*@DY9ݓ%<y%p@A0Gw%^ɒQd 1*,9ZLK䪧%ŧԃʒ+h:l2jRUg-1px߸ Tf1"rl?GmXy7zlH7ӚET;metu_W52R_4LjX74?/q3` P4Sɡ`ڣ[k2ex`&9\s 3)p&ut4u|8=tij8hu/ ܫQ_U8< ._05H 0S0Q3ou2R6[5?`҅Ej7~s@nSR9}:$Dq <; 9EL@li{7Fpzz?QRR~lCcB4jKby * -c?-AOb҃´wmi뿩ׂߨTa Bo7' F!ɀ/xp$vIf3hi&2R+m.vYY\.tIZxw:שrō°WWנ/7{b~@c*Kӷ-?X6YkM_zG%???RW2Ԓ1JzOP24(-)_?\¬Qq)K[(iI[1lX\FIRҖ L b 0"`W0 bR,@H1 #.8GnQ88asй82`\3=)8N(P8Ю:PpA/nD%\R(0-kVO `{ Vx/዗Mz( +Fe\0Ҧ$GKDFA/RS\(5~eIy7Xѫ`? G0 fma4~ i\an]>rՑlF3deptd'?O/odl9d'?O'_? @/;"? =G ]J d_ m!AS#r* _*]p`".+B+ҍEG(V ZB+Ph ա~IoT,lt?ӽɤإ_I}[`um W >wDKԹD:7zFr:>ڊe'ū"GFB3ۚd wkxcWi^ZxF-KF~{(d&|uj0Q/#md<<<< Q,<<< H+:1# XƼ>1z|~}bX{9|}I'\%. Ě÷.9{Rz]$?5]%RҖ}Mlz B'Of2ٟdRG0uA2)~I[ +[#! H^FlhD2]a2< p{EׁZfɯ굆ݐ/SNiFM M,%m' '}bOmd* a"CƟ}-Xss>er*b\uF|f]v0OUu#;٩Z QIJx7Ά0kIjTy(םpWh Ux“Z>4.QBs5&rmg c=gkUt?n>q vtvkcR(5AZS_;zMMRSP2rT%}L[WImiGuҕ.X|qŻʳ\Ir$sJ.֓eb4l*$/\^rgi)ﻢ,\G_몦ep _d'?YON2fd'?YӠd'b\:,l޴`UޒۥGU\2 /y̔_(u`j Y;& Io"nk%i(Ұ^rC ?sOpU3s2_|SzBɺH/ӸoNhj1~SwXgBJ Lv0qubZm?-3 {b\39rT%nh .gؖ?RX!/1́0Aƞt Sp[C^:xq$Vxo1rP,R7',;"[kjLn >oJ8'vC v;wjG7^ALN{vw׃´M\kD~@  ! jxƳas']u~ mU[&_ 0p356n|.s %yJMGjbHU.w/VqG3'FBy7}^6RVPBa(Wa?j멐Ƅˁ*pskoveN:5avSs0v\ > N:Iy&VՃt A/˓ ox43|eT \LKnGoo KN pK[. ukT}'ѩi3qO >)3,\G*W#?-#mTK_%/ ,W; K_7}-@`Po. K_9VV3Bklp}a~8Rnir0tar(]1UB O,i+6YWj5'LPy}퍭nr=w{g9\A W,$78t 9ؼ~'#A$[NKPAAVZP\%A9A(C*cn%ag5,D7HtW@-pPD5uVJJRnn:* z(h$'U+Wν_ғS[NJO̜3VCgjeY~kEҧ2YgZ jBv8:L6S2WEۨdq՝iS%,qui/#eWa:e#e5AZi_F*S|qk,|Mה|Mה|Mה|M__.xXk?z3 Z2R6nZ,a@gE~!> ZmZ#&0RQ_di)(hD|ُθ/i MRw^.0)5.1Ņ"躢mTȗ8[=WJkү%pOMvܯ3-~dRpvNqɖ?3Zèe8G2 d'?) %~*[ [B~|X"Y=X0"k. O4D+Eo6.QG_o`j/#md 3 @f2_ :ZHK*]Rv_n7ͽ]/BA*>Y>/dZK7 t+[a9e˺ԂOR~ɍfr+o}x{r;YR)v"@8'Pq#^qߜabm:@_AZ Wkoa4C1ژ_;[g&g|'6r62xK\ż/-"B^4#.5egG Byq- xz錍W"*l'D*Hޝ4t_mHM}ub'Try])gww=tr,yU.7ヅ? t{) 3$ by|bIz٧q>D%gq hƙfn€ kգ3M'OjKpxr+<np؛>uo))Pׁ{ݰ5UHcBehf@h7q}rOX2'XhV|el6kۨ=u[acyؑ#~ՊyQȦM?[jEX08OV*8IW$d].h5#e7F# _Y3wUőd}&3YLg>\!L/}kz=)߽-KմfH+E{jKKRŨZV^Mh^z^*] ֿlF )`Q4QZ4Y4?&e⋣Q5 >+;[m_ G [JZlzD~XC"B@ %(\‚Kh?nT})UW H+%eYPgo.fPn ̜Vbv׊KU$=&SUxL8ulNO\f:wA#_lo7_8%tsԑa_'_9i] E"P@(E qoLV@(Ei$ `?o~QP`\+@1(@"F=?"x=+j_*~"'2A z6Gb+ <4 Z "` sS>:VNN4M)l QF2Q;{<"O~l(#}E}_A~#f=/VJ(( #/w :X1t_q2|Wj4} M‡FBTs0V !q}:h-w(}B/!\60DL]`nԚ~]N2?.[5yd 3 @f5}=Yɩik<@>(rIKr_7(t7"N=Rr7A46kOy}BCpڈθ_h4Eew8R-Q_jeK7uS #(梠^~ch7~uw@AS_z=Sw|i]  _1 )zr5k>Q7H8Gezq$X`+xg0ng#eU-k 2R;QőJD /Qzw U۱)]:R84(% IмR7VTt(U5._ltGEt& JTqkBZ5iQ}K"M.Dsy`VE*Yҕ8s"?u_o6H+\1ȡ2[bĈY/= %b?  )`UUQT]VdqUJRTI*IQ%)$EUr;J=jR̪Ȕդ?ӵFRRV߹ )Bzv:0{ -20sʬbv׊˿XH LfG95>p ؜d)]׍sz:akuC _Fb[d&))ewn5 hKHQwYZ`5b5Oza >zSTBG|2z8dHp=t670W_ojA__J*x3*U^H$]MgY\aȟDKO;? ʳ~Pgu8B٬ʦ(1Gܟy2xc`N6y#e 7 )ɐjJo7UU_|;,qB,Qr=^[~ #gu_gGׁxp$My{A3ށpLQNjk+/G?| S ){"񙿹&WTNΌ>fw]YӤe=U* bFHoK)iUmzzeV=-kA>]SrRw_>'u*'jΟٖRL&9~F?7lf`ayxL7񍓷]2#ӡl#$\toRɈywzIWd 6 ^0߆=ρ΃wp|3']-й;x?֫jizK҃@lsg{~?&u$ߨ_)o C/>V5Ӌ3GN^4-;hu<>aH#֟޷_vq8e]/VC]:=|Ǵ/R]otPbsͪ,1OpyN}:^ce?XtgͩU']eǎ&?o Emc@-cz4"/;! eȎԓ^g*gv ū@d3Qai {}9l>9}xsx؇c}9#? .*䥻pu'` [3؀9a5m$pԅZVb|QE$zm;tO񐬰%W k(o]s  @<6oDhif ƃr(@BBHUߝu~sfN,h4ݙNmslھ‹j[I q>*s4yLSf" %kÕ{EuML)a0؏3^Ku.:x-7йaL #?^;pw)`9/;`M_B9 & 2<;&NZ38`oyHi}EEWp>C Yt\Ɗ=}טj:oiy f,Q6LF;q#cM yǿ$ɗ^wپEGM 9Ϝ:PUE*Ns7B1xߺWa7 op#-ZP#ު>DF8{ĦĻ "7$6+."g" F#g#YxG6BdsU,QFee|FYy]6gҖ>cށ)p'hs^r~o^2?S理cm0"+fBo?A=3YO.8"O ~d9?[G8\w ź'e6wߍۮ&[P7H-aMd;7MAϣ1.Zsx=<ӖrOz~M}Q[o2 N+,)ZlC,%GX؏̏h4H49YiYrx9'sϻ 4' jv֏h{&>:;v __;_uMQ/nN΅ƭ_olR`RwB7eʘQɸZP_t<(ӄb5w)+}.RO;m[9'ȣ}}=K]"s16MJS_g.QG_5Ab@ @B !4 !@i6W !F0_ğğH/q DADQ4)}bO#o -5 ϕd'?YOdOiYd'?YOF4Y_GD".:%i2j-<蠑W@[ukӏ08'Ih"do.筋#59:(16ژBShc mšIo(#9^ ~ܢ{k8Aå_ =03լ}q  XMEu͏w&~BJ?gl Ch[bpZ 3&ܻTΎ;\&{i&&Hã#V7ؤ` 3O_O?b>C11h1B&sekxDv9ğ zh[o yDzЙ?[>~j;E7 OkbbMm 괱s*❞sgmwsQo<2E Zbj,784v< ܰd9v2zaTzfC ߑ.nV> |h!,p %dwTS m-WYߠk}'ͧ-ִ-/ W瘶!oނ M Ӎ6?ڊշpEˁ_.,Cec /@m7ijHP{8vٹ 3r`wYB.NfcL}?x!㻉 O[^0p~E݃;RVߕa܅9r?|Nql?;e i߅ᲧPx`>9Uz8Ao΋ïlh-JG.#;L?gS>|u^(ya!12+!_W{EsIGgχ կgˣ+S_x)޼-r*#<q@e1'sgBq.uq᪪e9?4(o9i}Õur!r!r!rRǟa&iCSBB4 B6R<1YAb.FbezQm9jMB}zqz {ՁZfIC>QW߱za-HH[O@if3u?e$p';فVm O皀 pd";ف.5`B[l}-(TQh͌Bk^hUQWlj8!uP=>Qo>>XJ_昖]P4B灖u'EӁK>yLGj/b;U.A=Mi䖨 kգ32Rx-b?ÝɽQď3pEf ?fCQ\.~ oWY! 9ƫDSѭD;71-syH"|-kVۙWN0C=p~ _ѶlؙƬ|5\< cEGO3gz6܍ "wc <sSmnrw;ӻ:3NgY>= P dlz>lw]P\aԌ񶜠̑3у8W/kR)ICɈS)?xR S dRU ;/Dqy- gfqs'kbBgɘL}ү1Ý$&$=UuU#,G.Dp<|pw?;? A!Y%ͪUßg8b؈!sx4~6-Wkpm8p !& rxX X5Nhp^qO_O?.>ߏ?Vs;.4`һ֛:uֱ&h@ζRA02's&ж޼u~e%҃~W>~tD^Js„p<`VM{߸(xY_1@`4mJ ?cT;=g>dGxnsV Zj@|إW{Wd—R0Dv<*ܰ9v2zaTzhj4#O]x Ʋ ~3@e\Qp`!]n[df[a[KlK+?ہ7E1Za:­+ִ9{gw?zT`Z9m {o`8޴ :*ѮUw?Ѥ: \TWao7:_oDo4\m-It.8{oޢmB,G:պ5t쬧3t]bsxT=}R3U"/ ]%YYrtq.姫uS6|q +FSo@‚cvտίyEQlM͓Q+Fpw<F K6[P~5mEK̴ o~;.eXRu&-%e]*Bu$j]S_Z'2E"*>'ssbCOf1wJǿU[]**!*A&6w@` gC?l{@d\x 71%: u ]3P5(%lk+8€.wEGP€0% (a@ JP€}Vnd;Yiߚ&KIy v猜"|qWdbyE*oG/=0%%Xɱ5 i?g*B`<}=̆ G8o16g MC{Gw_'Pz7!DC)[C7=_{vtoMٹï;G$XnZ\_ׂ )iuK"Jw^|&1,*Rq DEa?/mQzѤ_F*JT|qG^XKoNVzot/'|J_\qR|\U@86EYn 8c"Nڧ ='F.A1a`~$ 9`I|.0n=ZV" }UIfo>Ru$Z^ _Fڲo<> oQ7F(+(&C 8F(o-i%o[DF(+Ԣݐm%c hl|6 w;y2D E᎖L)#ژԛC")G?ߙur$cTUN_ *%Ea7?j5=T!|}l<#`w}l5$A}p0I+{H'<~}k{<# G*7P-˸wVݨ hյZK(Fؼ$a7JnīVِ%a5b>)Fc0 Mfh-M/x2ˬ o6C>c2Qtq/ɐ&&c1dj& B mٶC:@; Q×'6kR׺3bG称荸-eQťDxnhhPRҖd'?O3%OKo ?Q_d@%Sɰe4 Zj|d>]7pVhYo"Mk 7VDK=Cxr'4We,b8۞XL=z}sR9w i~8\mG:TU`bN PjcoNoşy_{}ಜDLِK-q+cp!l˜yњ rC?p Dj8uA qh`$ 5 X\AHo9@ ƺey٧qND=hqz0w2N5{vDTl}!_49e f8ヘfRqK)iRᅪmQfGĝoMHSI ʴ`Q(̶&Y9,9-G[Z$}cWE^5VhGu0[^E*B4t+%<u]@_F(@PH~j! BXxH a"bB+>LLyTxJbl`zˈzIp"M7f^5ﺡz#NxqZU!B:- )lh/+3hZQnn6kc&m=cGL0$RۙAWcuOvϞ^Tl$8:ƙbwal(rż<~?z:sodF_gjK/oGSw/73[ 4l97$ygVNeaUiXRWzhh^C1f澀Do7G]vw%70~,OBJU?gCh 4[d N{D:] zabp(*Z h,nUdG>r}v~n]\Tf۱`t 85A 5] ?͟0+҃~W>~tľ^Js„p<`FM{߸8x_1@Um ?4L`T;=G7|Fo܊lԀ5*KȂ/ \a -Bey>|ardWm%wxw OX\{\$s{/quo?ϕs9י7n1VB/8~[S,?\zvr]#.)vW^| B>YC Dג⧶]Ԗ;ců쯟QT ^EŠ/c )/KKցVfc)Wo߱z!_iKb3!뵚N_F9Hjכ׈TV|q$Or1%/-Q*)-xێOvH9Zo 6B[VOZڸBԩOsOkZ |ъ@+B _)}a)-\2Z׀a_FZwU K + !GDTbhI;ISoZGJ=e:ƞ:M"FFQCEGT=⊻^+8?8#YL> guϳ7̈Flf^©")i'(w:L@f(V3O{+s8y~b1Uyo $ t}}m#gE׶y@׭5U zy-n;;I4"B{w^M}5&X>oJ4C K$kh+xJ"^ALN{vw׃N: 3&7,:'/Bj!ī&y|YcIz٧q11](*],'=MHa&}8V 5;SDjKéGYky7}@*RVUBa(ӷa?jkƄUЭ { ۖ9 ǫׁCEggO9B0>tv7v1L9w?@9mx2ٻ <ۑO;nw;KCJ:3Ng {0~Þ(fc͗ۇnWl5a's0ٽxNi)|%_~aof6Lpor 8!\^ 'pT313w|$%b>?# **QIgbU= *PQo\!x 3?χf|yaQ_kNߥG#2G#"~K/iP?Ni%xMbXMbFcbHs_qᢢM-dZgzDT0(Hybsϧo3/kU\ BEbI`2B%oAL%pw`+k̳m N˳o:;/HZl=~i^D?uFuy?9E???S?ss?ebOɬ׽DZn$姦j]5gUu_ 2Ԗq;"9FDyGDYg*k|>c>S6J>l,F,K/x6#byTFI1 :5pED?DϹfO#׍F(f_F2?W:d'?YO?__dd'?YSdϋ8O9Yd'?`-+_yj-XwPkΉx M5m.vD ְr\(9rA5s 5sxǯ{$5ZD<+a0(׌"2 }E~\+ɸ>{WCa'lZGzs4+/I|&T0 \sq߶>L\۔>)^q6^,T@,D.+98vvejY3Y3Y2W`<=}H?ZI2Җ9H߄&7 Mo%߄&7i'7 Td߄nyr8 ik-4H[.]g,/jdA94]os߾^ BF[b)7iwAyE.>E9worJf le~wirG2 d'?Q?*0pkPKZVҲfԲd3 "/wh@#F+V m $AD!"+XDeyu:P߬c<^/_uzr㑬t;wבlQ՚Q?f$AEE@p\MG\|:[?\_1)7'!94[DXH"0JPxeB@ >pN6-+UM%$H6׿w/|fMg]I]ZGCuM#)`S,8B WrivYoi.{i\ʾ+73_~h|EdC ZL@ sv:?X_kHK"GܘčIܘ1E_7!_FZƋwjK/ީ-U;Pǣgu]ׂ_m/%,_eEG(BZB Qh! -B/-oYZW5H+}+^L9V39{C#(1+nb|tFw iuNRR?z۠e?aTiS <@|)_l2׃GO2 d'"jZ ]BQ|i\").B(P8{H?-٬2.KPIli;k?@8sMZ yȭG\nL@ٶ"O)?-)O))/J]w#fԈT0 &5H?- uߴ{=5KˤQ_N*X|qD:Rd'xն~) )iUZ)[bjbd֔"/%#yH{d-'mDB4 DB4 DB4 DB?J`h)::PbvxiM(GE?1*Ò$Z L+h).WDkEqE\Zh Z[-\qtVő+++⬝+?+>ү)ӖiOU]u%IXDvCd7Dv'ވQ9߁G>A<ݮPtOְD)zkeOX$(!@ JPB%h4T±lL.Bxhy+Aa04.LdL ŔIxI5X(_bX pu$uך`I[fo[-Zj"eNQr*ݾ6?Xw{LI\y_q \0Ro(.74B}LX1v5 Շw+:e2;zgN&j}p f-w}]>\Q} =ܟnՐ>c?}ǧ٫+?WV~\J1~ +PjckfߧVݚYOW}prt|g2뻼^Iy 7o鳃/>ZS7LO0N@)7:vShN>p芯OU ]x6x/nv=;0IWո֛/yulNzfzqWCU%=QՑ+Qe/й"3Q_;!PeV}XѨv5_OBPL3#i*_gWW|wٟiw)w~Fϗ(cuEGP_*'NzOà *P7_#fCAK~׾8:'pJG}ĺ7ֻԋ|/#Oon}~ۙ5# KHQ;#9sH"J\ Ж-:57 b齩wn/JD$EyRDEpvvdY潥;I^C .ߕw ! ěTv [Z%EPHVh(E.%EOBAo+B穼փAΛQVlفogǛ-1N LHe:OVtlZdx9q\{w,2PKJ>%e!CKH۟y++;y'L}Wgjґ 3~VI&zQ3fk!Tlg6U*ٚ$bs|,gw/lֆ xjRpr<9 ~OShjmWݟeطww3TiE<zn6H=udK' rDY޶UP(Wwֈ?uz~)3lw{ci<ߢ"r-K:0'pyUjoBqk,2wRog㾞t7xF vA!ӻQ~89KU"3Z #x<g~k/]b2 ͯuAEd,v_Ayhqx9!BD'5>98]/r_? eY`y"muڔﺐ+#nzu<xWuz>;Y!p4 Ȓ_%dqy>xk(,?x}M;AC8≷y@~Oû z>k[sZҫ[-'9__H| +72|kin^}6A=? xo7Mj}ܷ33^N0ЇKZ`QAw2x# qPO"Ys/ՋD-럐>(DlܟiޟrՔ8 ?"/=3n.&ǧA;??3OYdc,z<| o{uϼ?^AAoKuR<^MKCyO^]muzÆ7A?4B8A-fG_-+qB4n%~Xdp+u{TnwZOH:M Jc'z*BB Z»:ϥoXb<,'#4˛e;A7HW^o?Z"[yA uKr8:0@RL TeO>ݟz0R'L}Y/H=OeaolxU\[@xeyEO<c\N MopDtLBVz _>-|?? o 摧*,;7/z(?ߟr {* I__=OQ! 82uoA/7VW>1M5/oڟUeRqZAt^L45dk=^47./ﳁ[_#{vox7mP@28 o- #eU8 ʈ4Hn_VBy?{^ $΂}y~%x\< ~',^a_X&]X%q?4]/.ePoȲv#'Q#Kfmk DH:Xϑ?O[noHe!T9tE䦿0  |F>]]_.Kxmԝs؟%O} ϧS˗jw͑nv N_y}м Y{Y壿X`t}IO}K1WW.?П<Ҽ)W<x'B }0X8#P%qdGi?EI&yI||  g1~B%5#wA_MO)^ST@ٞVqi\_ [ⱷd2o0=n[pK83^5%awzlIrd/wȔv}f#%ư|3GGC[t*+^.r$+Bo|?ŋY&PW 2&qMx@~Ϟ@><"#uZ._<ծ^z}]j؁Dxj ;p??~?7ftofJf ׼1D|!0/AwzFBitүgZ<0>aK]@5~xvUX閿*~~ޟ/ɣ<&VcrZ9vH!VO)cҁ\Ӧ>yOUSS';$g$x@CĪ>tjtʊU|Kp4NKȏiL w#"_-"2-ynW>Пb IO¢P;{uҿ'3|@',[|hͫ$ǥE,9Ϡ͓fxE:' f#PM>1o m]N]ԫ~"s㍐|7<-Ϻz|{rC Z[& aLDޮyG]|vB7c9mkޜUHx1_drr|>u_+̰ :opiůWj_>/~@)N1I 5oS(0.^P?X%YxeDzCمނu~m,<`^OS (bRn3x'7E%S.6cge=M< (}߿Ɣ*,G"c G1_odus$[z $5*g⢿7H˷]s\(U&~_0, }ίXWzg|1.- B-hOI$BWBV"Gy|oo^\c95ˉ _|!vxe6yP=o]Zx M}h4o{-vy?u5eVv>h%c6FڸYM.<7i^8z H:FR:{A8_-\t9a1]:o,XAX/!S`Vkty1Z!q=ށ;K"ۺ|~)Tpcw`-W`}My_%e9/}P׃yղ.`xaQ>T_X><(d? xW,F3x q24x`3X57h}]>P2Ϭ$W; .c< bq='Q oޠxܬXλEnK\+^yofIoA2<vK}(tͲ:eUx237Sʨ0Y= 3%o<+}m/Br +27,L1ϥ,GOg*2oE),  2ow]HX~ a)"D#.KH]FݙxP}GI('!`~!bTa%_0Ÿ&TO6s:/W7izUU:?Ϗtl;iom#_6IJ.F{EO8=_qDNAO˨2OP [`FzC޾>'V3]xS95Gߚ|};+?JW/nmwEם䳛}@e^Y /'H C_wwMYLzx&k|#]" y0FA,ϛi\ޅ7TY] "_ POd1! bDtn z!C9X݁Yx?+bRt/(lgC]O`X lZܜ*&yT=C8]SWWŸLyp5;QHqPKgڊ֓k|4C!+Z4w9~\  cAXk^G_Q?yޣY䱣gElS#!6 ŷaoF@;wc+yKcgM}B'~O?|B wo6H}bsПzo/0X,Z> Td!ިx RcgzJ;Hʈ!U&;r{ 3,_~]1Ɗ~?x0 C-g9,Rn?[Wũo3@ޯ`O׾'㜭MOWX؟^ggC0ip45Z%U>%pons=H)^ͭ+,A _}%c!Btf5< ^ mr`S[QzB‰,dtjIc:}6%YsfA 'g= X'/ּe ȝo++pq_CbMwzmC'3]=/,c"X ͆l-s|'Tvs+ bod,V_-O?/yp2rYxu-GgWu Cd4dϯNgԯh;Qi?fjX/3Nm]3쇔oKjbhLZ:z|"(fP&o&اK$y#GߋKy'(By.g}?W;ޚx_(+L^o~`ۏC>CRMwq(GXByC7@(TOx/yXލLHOM8z\ЍWyUb1 1߄=瘪^~/xb}z,JQc|b_̍`=S?9ϐjN9oqw;EI>9-Sw)d{t<^X"/ MFj&,{QroH߸8zx'󗉯_x ˽?Q֗+ox2 7`|k}Cb'ק,Q1ϮG⹏`9;hwf# ^r&k-K~HP>xK<A}esг.3 N' |>~0x)SߡV qQP>6;|:M{4Y_*Jwfb !Mom:dr?Eٜ ?v7\F=>2SVYLSՄ m#ox`!gb,b[2#%G T12WFͽt=l5^sR/Yӛ=cB|"DA@bk %"*9"`Hf"ZySezV{YV𬨼ˁy7KNASPb~ =o}[љKyV AV7g^+Ch~LI@sÓagJ5пxUG:wd[|)RgtҜ}$gd<_CY+}}`q.bI(R(ϕ\GyxP_2ox "o+瓻fꩋVUܴ1>y>O[?CRY SwN6u‰*P|*vgzPP =.`C\߾ ?@G^}<][y/{XL HT"b7wxz]AJ'{?~u ?R"iȧch `??+=!X~<ѧ4p~> EeqcpQ}\`YZB%+T<_Rj3{ҔϗU枏9)+JbˑR N#G-}A{I ^1avE{y*K&^*!ڠ{^-տD6ߋKWJ[o//eX˥yЗ>}NXJ~N3f}h˥ߧhC#wn]ms?Yr1[X{vć.r.ppkKy>gGwq~^!sR/7D*ui<`I~xf>q=t~7uOf_N 3% co cަU:\ J/JlqZ} //"aZ+z} b<[ m}7+ _c). l}}oo! g矢ǃ= Y$iΡV/ޱ/AQɣ9S5=!ojdx?Ddzo\ߎ@tP_2xu ?Wy1o|q;y;5^*F%R[_ /N/18GyŻ%bc ~K~Tx_(ˏ:sj}}@<"w^7x^R@{/=jx}\\|]%'&g|d_4&ԯ5wM9h< yf}9.dr?x \/[W5Q[75ޏ?`<ͫ x)kM ƺSG>|!-xLȺ54?۝Fܓט2LsVH>,w?{s'5^$s/pP?|VUo5^aHrNDx_?|裔b[x/狼~T/K ޕz;^HySyҟűig'TdrZqLN~]-94lv? P3LC?RVZ9O,[cN4yfşr>, UšJt(o6:xVY\LA ;ZE~ g2]P#h}Tx~y,ݐ#̇7_ fA}B/.bt a87sW<kf ,Twi^a L/x T`>EP\.b~#|>ʎw,jc ~Hs`Baҥ+2\8oU>e%W,:?PcYN|P`>go[|KAxyoUGW<~/ r7Ⳓ`K{PE naEh>TeYͰ#/6d`Fz88jVJ#qZ4Ah ~G/q/_}Jt H .N t»읽o?V/0xj9!?wXLuo Z2Ę372E_̈G z9HAxw)[{@z1O'r0ǣ!/glHxxjjDD1rf{ƻU_ jUܥ~Yd/՞ZGB!." !'x}<ÿy߾>ϻ 9nƱGmxp*/O@x|;BlqYljKϛ_DVTX:_:?9VZV +Je^ =+ QJ9j5xXA\j'X*Q̿x<)O*~S? oK\) PiS<#>#M #:So5^n<^yѳ;ޓ$_e'"\,<+˯o'<]]s7I"it )>T}g[1Cq9ǿ}}[Z^zș:ث9ǃ\^ix0;nB7dz`;LY&VR=8ߨ 1`Tߕ z; |5^![LWy sOG47Iiz68#o \t:b+~a /xAj+Y3}(YYJ:U?6eZQ~("a^_wt'*x˯J< );)"~}_~AQ*3@/74cgJU~|߾U#Iv*X"%;f܄Ȗ_`9Sf󡷄눊7[ThQO"ZܷųCgx˳r&ww[qx_z]`=?G[vR1iM~YQi|޹"`|*ekb,=ߴgiNL-v9WÿWU~xn6`ES~^zQ[y F3z Uj"cLXN_л.=~I_He~8O3KFe8O_{śJD U"?j}eiH^:ǃ9/Ě8<_qA]o%A̟VmB\3kn[g/J_kh,䛹(„$_?eNJѲIt.r[V ՞{CddO"{Zz, s3*5"p|^-G緋O<@ݨ!|od뭐_1>~;_R x@vx;x ~؊Ow7mF)=~_^܊/jr>o\/G:bIJ>]w^;޵YͰ(t>md<ヿ=a>h+S9JȂ[Aψ% 8'}?xUkhV9^ϳ+Qi5~WhxoG 4-Do[_,<>_}']|[l:ougmU$Ő(N,axVNy; _ۍx"{xlL5SdtXqo2\%R+)ħ|۫5~.7^+|N݀Hfv/T`O @eϮg}dy0K?G嗞ߝ}Zކw :mQ3l2on>>k_ԓf< ?U2SNB s<O}#KN`/¾T/7DWo-/EYJy$LUbYb?ddp΃ ޾ˍ/)w,q@ˋ . >ρ؂W\$/&W:C&R/z)ʃ.y)|~HG<'fbLU9Wl9KD柸yk+v#Ozx`"҅Q,4i}8W%u0O%@o z~Ϯ#{:cs iyJn0^4W>?輯{C:9w% xɞ߲,o4_ o@<g}ݒߛGx0@|N7:kƒߛrlf?eV}9d^/3F(xF4|"]-S_jzFD& P߰}~7TY"[Nߥ/~l&||SzZ_~9<.%^/S 9]DFfu;7yu :-?/LŖw2k9.䏬O+dv{ B2s`T$:C˞A'"|Z^Gy^OϪ_^O#3Glum ~>=@Tەf<~lx6G; 8Po7-_;~rOǂ I7~򒂧^ܾ˲ӾpD^ϲ8 !hm"2ٟWBb`anFE80u '|hU-pG(̑=.W2WlCͮVKf3ʋ> Up|{,U"uDqRw"W?dP)ϳi)5 l<b=PeN[J ޏ;Ю504טfxE’sk0pǫ1-76;U >[AݻfrO?"%vx7Rvt{>< ݐ|/3| b[^*:,DN{ۏ'}v0eW_&ei{tQ_/3˻2Rv ז7JDQ:}dy={F!p|T}'پ^͍o[k0&KxEz7 u>C!ۡ^~]كW1>do@H޻ޓ6?ܟ|_pGi߼s%O !W*Bͷ<$xr^ūj.Y˻NSp*2vwB7׋q8z|"_iާ܌VM}gj !Qc^giYe'ݒ5o$\yfow;$+o=}>o)1!Uj|~>L1*Ơ:or >A%тr?OcGo⛖6>`m|[*Qw{|1MR;U|oZ"1nO|w:+YkQ?5-YO<,|dC7+<>+% g 3u<4Gt"~x"u_x!wd>6ߑ EVby<>m_y7GJiQjLWWW^E#hrIy>Di,ߛ7ҟ*T#Y;\dC9wHɫŕd-^ɟ'YM*T7B+"]~< <]*K0N>@ 4=!O\8~v?{ 9~YIwB];̐v|EN]_B/!G"_.~.5H%2մz^B,dO _sHk~j޵P9Zd4K.8$zUԚQy}璏_l}oK=ϠxK]j굧lz,ϞAb$գїw>/,g|}0?َ TmX@^/^?Z3nJx-e$Q|8@]L%ư9v!V{)Jp7{,Fy0us_=>Ǔ*mC;]Ue)"vLY@VJe:{^~d+A_;Գ<{*"࿞- x?_/p,zؽ:ւ)p|v<%@RU`7< ]n~5 G떜?}?# l}AЊЖ5~G;Wr' $9//9_.?#};<BuoA߯EϠQf< ;,o O{F>B_FA6(UzJ}oCs&\!} aEb"QբA:5Oe3kUi\#UFF"JKųDlxOx^?ܛOB-=T!y!鼾=?=YR@-5_LRsʃI:RIb-C|0{l-fh}/Rr<>~I<5Iqm U{"k Hc@(({q'ꫠݚh'/V"==m[kM}?X~Zߒw IF?{_T?_Lw|'|AnL<|Nݾ3c\=`>o`γ]YH+ujɐG~]z՟c\Ub~L'_j=u qZljܟWg7ϕ\H?Y+=H!\LE3<;>K!m}v?JtE~п'CǯCEA~t[f<8~rx`уm|VE9-~;y }?A4ziv΀~ޖ0Ϋ*EזС孾adky Pr<ΏO&Z{·MͷO0nEo--}POFzoP5N`׮=SŮՐ8@cu%hw#PՈ>g2C&OV^w03װ O -x/Pyv:фɐxD/AhO.!Tmܚ,Igv9qz`X~9lu7ܷ A}7g^oc\7zUo;@ #bNg@oIoRG{ŕ& S4b|&"* ;FjzB{>C$@ʎ2# w|{K^T\1 ;OؚA!9Dz=#:_kSy`:(=P ~}noᜮڷ_aOtc ],`|}ouTHMF=o>C\3D{NUo0H }4q`0Gyy{imM*N >> +1fJC0C s!fK5'B퇚AsdMU?g'x=j< 2,O(,{<̧="%}[p3n>qRf@ܷgWxsu5;U4c&}0_7W+,D@~E:U F2R-n/Ђ4u"> >G@ ;.=^׫ɳ})`>>`>_yRFϥƹ|3~W!Jz+ԏtq9 _x*C; p?Nb~o] I="'n]IÒ_ݮsHo 6CHL@~P>Ͳwn7>S= |l=\'z%__t;ȕDiga,3ϙS]Zno?dr2 ~"_ֹ!Pd"yŢ۟'s R?o֝6lY\l~Al!| t- v~vL22՗Ǘ{6"OL&'~ϕxmΞczcu jrg(|BK&.~ L׭#O ߪki{~L=M⇧r\:fOsN}} 5g"sQ/԰4PpD\O~9L S=^ov5w?'ķt@ߺók}{~Ý:\SA"8<&"@ύ)|iާxYX5<]w?vb,*0xvn G?%oQ&"׍# 5 gL(g=֙@n$O>=J}߁x,~A|368"T$}]z.+=_n/x{%Qo4~lIV%A~@@77"w/Lk8*p"frws7kELz6ˣъ,iۨ( et9D?P9O|Cu)@*'ݺ#ѳlx/2 "(k?U+6Wi6O@y2=|<Ԍ%~ӾgTn|qzxHINjN6䁏Qx.(|K2Ye0xlzry?UHy~wߓPf < "nݟ\X a3̓OpjϧY9S> L]<}ws.^T(ۣ *~)oTH,>?&ΓA"^E$"ɮo~O>~7_ﻥ7 ݟ]oPa/o/BD-S{6ԯ5Zƣ"VIIc󁶢XBw I/NlRv}+bLOۿ~ϗ0sPmί3x K P[ؾPy=|+$+6fDuz훍=y>Ha#+[aIÌCYWu = |@lgB/K}Cz+[3ăLZpy>d|RyO#'B7wlUoE:x~ ';Zcxx(ءOm~qZ:+_ 񓷱*uuޏxE1͇5otR:|![A*G;oxqO?;^jKv5v/}wk;MKA/Q1_?YQR]xPVO+_MrP>+Sk.xwe۹0]cL}/c%zOHܟ|/R]Y٤S; E_dZh-p׮L4v&"d~I<#:/VDd>B$(CRQjAO'X=w3őW[aϋ FٍOey%OHnj*]'&mxђ5Du\N4^nOAa,e"#m>J*|Ɠ1j ݾg ׫Zėt@,+_,rۜ&3kOqs]]ܾ3~nlοxsd+ %ɚk>W m=L/~<5r~ގ5^^`}V:"#~VH{h%YBI(S߇g::6_qe73I7nb 'Y„M/wL$=23#o2e 't tYן2D+|*e($ g/1\;~ ?q{zI/S~:~Y?͆_ZO"CPLNb~8aX1[C_ikO=m~kOā>{YIwO̫fOt7 %>E'M}ܯW˖.jk]xE$ 'DGxR9_2,^O==0U'=ޟv77g? L\TOƧĒP k| (^>%#yyXXSyK\vZiy ׁxlIW6#j~ '8u/zU'>_ueJ=xO?> ԨC~ %yR0#sDPC$~4<;ɑ?fAEh_cYe'pǨ ϲ 9,wBؒcsb$r5(ކm}:Ebӌg^9Oh>>yGoQj| ڗ+4S'ZAV{ >`3Hwxq[.zM kHy>YG\z !J=}: B;%u`bIP>R=1L=6/_pz1p.RxH[K/ʷL`^ݟ?}Ť]CxA8g9FAv:dPw<@0jOx N{w[M#oNPlvO6xh̯:_/eĦ--u hq7'>?O AieY0寡|ψKnV-K_珆)z6[wShy.)DF֧Z,eʣ7ԧOr=w}u-d(8;x;4>zdV*C L'P^) ~:K6D M \GC<3pb% s_2x*SϻKq7y%P%G`ՋKK,0wn'J<:F ms/87I]8|{$zu\_ \9y Oqx7䩧~2>bu.dw {4Zp¿.?Ѡh3yI 8x_"S"xmtY5>:Ly=%WG+8ȿhG֛q_evwlYڗpGC`Tx=AdӮ7jy <!?f<-9>ί3Oeؒw܌T1WUq7xR ~͔k)?lrnM5G@yZrxWX4%9p_I|{CexK2S!u\Dv*Z>}`Mߟ+[cP?I7r ox?8އwXkC+L<WߟfxEA}+7,2hJ<}KMx|a/._{wOMk]Rne)Y;t6O 799WZ1w4"T>@Mo }9TEHTO,⽅~QF }YR&2c<_S nh73zoa : S8=99x4LQ~oiT'~mw? dtSmo;z?cL\㣱7wS?"8tqÄ? OT$[a|89=yCwA:1O𞉟 <&=|+5}U ㍦ꢕ]*ECWW; 5^w_*@L'lM{+DŀTֳx?9k{4^7gKt#001KⱙC7p6F*Luoeh:Hp$ˬR̅T}+Oh=gXq}_x !Dž\?o֝OKGB.{7aщ-O$& !d[\3S !mϳ_G_v. +? ent"QNM 0/gDQ}nR'^+ot/|8oП2A{<8oCd3\:Od[IR_ׇ7 ,}RϣkgiN8qhr5~An/d}׃ %@Ie\N, ژA TqkgF[}I6n?-/2)G<d] /|kJbߔy~%_CDû|Yg _lJtw 0E ϔKjv} `Vb/ųoQH?Co/6FMl?kB5~ S!}ERqk7kyqTObRw(A>w o["ҽ|r q?lx([ۖ*2#$H2{eBqd.}<v`5^ė♇/3K2/P*5O1bV!7Ft%~/>*t~~~]qV_*tAA]D_lL<ȿu"gu„.ښw pa'w-ﱄ-HHO[>Pڔ,gWY]52>F47ORW惡ŋ/S%R +S ߛbo㥊c6\}_ q~~_S<8luyO{yq? >^X Bz쨷H Ģ'[-<`3(0-|q߼!kD{iȣrQBM: g9ެi`+oc_ ly_;W S#w۟ډMEZt^o#|0:ACyDhF</W'o+ K&:b[o/7I!r#Ǣw񐱟*P/c7??x[9ZI/q /rQr)3~`=K}l\:)nQzYNb?$=Ϭ7CQelJo~ZnO~7|e|3Z(eERV&x`7ך?գGW|Q_i>?37עߋvj ñ>pS' ok$Zϥ.)jͿ&7\>PYH)^26!!Yxa7~ iDȓ?y@=¸=ⱶpѐ'>,/ rhϟTvxyqݬ=ߴń٬/L ]CA2(6ϓ?TlYy}(anAKB脧}łlUGu;_yw! tiKwfmudn^a{ʵf ˢR}dxT1a-j1YPmO5q\a:#_o-O a8oYro[ZgpҷN|x;!} aR`Kt0@b>p?-js>SIα6XγI&. ~T,y'O,oCrS xSh}$Yn]fXF;,<ʨP0K( 8gK$sjͰ_aMz˛;Dǹ=%%ŭEe扬Wc=لe>_9>3Y|1}Bxד~:X ~؁T{·&/fD\FQR,e5(tߧGvϩ\, JDx"ZYgO:R}ų\ơΩ_` )Z =ߞ}`@?gV B5 /h2cAF1b(CT} r#yx<J)sHW& W4 })*X䝚:??浂n˻Nn%OX{,OUrBzşKtAl{=t4 \GdE|wn>^eƧWańwsȩ`m&g(.߷`5`ySd_Kä*O7xVqk}HPK1i)`/=F(}/㤾~޽Lsn@Z?F-6o{ E:h}Y$iRWd-^~f{xd#ZbGS[' i)=XEhE6G'6y!t*.ߙ~}`ƗgyV2:ϠWkt5/Gc|S+oڕPV?c]bG!<3_3?+HX߭ݔL/y$Ǽ9ރxBV48?B,P?\_| ^x9 xn&|/XWG7ښi5 _unn]{a sW sIx ./?ԷU3pſ[w 2׈%R{UDR_lz0)"W=svjy^r!2Ʒ R1+pSf/5rt+R'l /#|&92b@>_|LxĤlxL>Ol49D̮roϒ۹5b5c}YFhb\_yMJ $CDv},U|1\K!"ko}`nNJdBz$Ɨ#/}''ւNw3CP\|[]|@ |㟪B)?A#|)@~E=MG%O?kYc'8O?^V #/~?di_(xAO$?y~D޷o= .Z5= xr*,UY0_Tr#ǫc^#M$; a)Pߟ;o©G!^:Г[>DKk#k|/0uΡ׀ᖇ.N2Kփ*+xwz77{s¢v|?-oPxm7WSQW@;,\. {>-}Cy@?c)b 'L%Wy{FO) N ߆yi o};`bCK|1C#1ķ ]9 -/gqP{QT S܄Jϓʭ'F?L\?l9; ~z:>C)Ѱ|aoD~O{MT0f{J$խ Q%`|yg'd2/C j_W*V3 A`eͨ #l|.nߓHԒ ]d6c<uDdz𚖓Z]- CW׆*8(';O~o'~C/>zTgQ>%'x@q.H.%`@;?x>`~8cG[4jNoRgb~@}q騃(0:ޙ8ěyߥ,͘gm/jRϿ<C7Gl@5{tuk|>+^>gTwG|d= 8/_Tk~*C|z}) ]z?o_lKr~uqXN~t#WG1rΑ?;5(ǼO [㥚C/#opHa+Ƈ{j<ͦ}*߾8IYfG- 4e$_vt͂=KyNO/.[} F_*]2w]}}~) ',k7OdIoTEfzOY>GIЍ:ɟ? F_&\x`?se#.dWzUd}x](i9bO@/7z~ Pox|ހc}XxrMaS?:_zr|Ûi,ǕxKOL;]':u 7mPюM}ImԿ,z@M>C/ҥp9xWo'kd<|ʩ6_>bY'lY o Nc|c'!7RO+80:1煜y Ac|$ ^}ûAwxPw ^x!>TxL|GO?Cxmr/|;,^,9Ӛ_8-`c6Xpx(PϾTiNxY$M*S{xkD6eCV4}t*:`Y<3VFV~kBW<%n.~ak<' KEoP`!~K&}/sU}qzA.S} *F7lxX~ȬDrMZ%cr~ hE<%׼ڞy:6S$9j"5 }8f}XF_)#h1lI~}{TEi##ˑ_oK|6Htb=^ūB/;o+BD\Rף62FN7ǫKEv~ S俤oa>ň EY:O2!A#tv#ۜKn^Z-QCxL|L&PRnx]y ș^8އTdHF4jw<<]Lo|Q.y'7oR61; I]!ACxBǃ\pAq 1yσWq}v}3" -bfS;O/&fo$$ޥ߸5"~w>;n(~v~1mgExB4վ%XxO,u%Ud?Q W0Cĩ y]yC`rz_w5p>W":q%_p5_| p^}^|C ,B%%n?sx\\Race\_nAJe|YPJD!WVy$p~;=hU_fzhs\ A~wp |}7q}QxlPM#Sx, _geQ|< 7t!Dr<{r8'JRnt4XxXl!cP> QSC$p lwOZmMSm/`~8?c _Ϳqn4NylCdD~ḊYa,pROt<͏bM1_pDٛdLmž>ѵ( =ĵOM"H}|H~;qbh *^u '#3YΥG"߇/W<Ϝ4\?1g9 h}E1bmt@˗ɤĤ&ATb Rz{RT ^?)vQw؆Q/i|M:=l'>z Yc譍*qg v}9}( [3><5c鿏L~>6e,8e`L\04IC?s z93B@ՑF\} .=vLX<'*΁?7kaҼCƛx6dؚLR@Rf;Ow)3>4Otw1_hoܷx'Ǜ7ia?vpR 3AYOi Px|g2 -.w]?=0w>?dK|4=f_L۩ZAD|h|f\kv|?- ~-rY SgFϊDc_ON*|k<&qQ:x?0ax`(RAh<π#f5{+^+OZI^s~: D϶h ڗ 䛬(-28>"st߱lua 0_І(FXqA3}`o6Rf/YD'[R2;և&/&/?ϴ W"Ǜ0򥺻9-y|/x#9~ndӁ ͸~=טj>xr6 8_GzGG<`ҸFy,Ok_ ЊkD%L!G&x5*O-`?;`}[/]Sԥ*,f)Ӽn P/M ml8G7z__)p_ <(R]GϪ 1 a=4qi8#ڗ Φ7Fv?m{ϟ ;~x(sv~x@BM\ge5WZXp] ;Oz:lpzcƷOɰ;%%O<wo!5?]gA|L׊aKs鴷x=KOmx,ULa[ 6~~h2'lS^ʬ7;$jM3?NޛY5ʣ+M'U:%D$ ;ޖF`S?aȖy_귰xjAk},ݼ|qzg|zsXL H.[ u}:CN"x"!M[}#gN"ۛxvב u1bGLw{[`įx=k{GI~5I<7 ^&Ox|+EǛ1lշ1c>˸쟞~6b#:~.e S}L|ߡW_( P_G ME:\ o~p_Odo-R?p~@*S??8oc]/n! bXCCR"q4<ƚo~g7lbA dRюh|ǭ R`l~ΡG1 g.E/}J\)TSg/|_asvއa ^@i=}?y5Pa޿~%&F r^QY_xH}r%ORGEKl_'o5͹󠾍],2cKn@<]Nrtсϳ=nƥp XxoK|G^z4ЇIt`۠q^h}T8ߥ}gk_9ׁ-eO> :/5xmRy^s AyvҐNo| G͏2+>-W gC/p$r`g/|/W5y=wWո9W1_<XO)V&+E)C}9OTrFEn: =xe, PȾCߖ1}$#d%oV74@W aLA_rtC_&Xw'QOJ`ZyS'ݶ27Kf RP3{R{IxA CRޅfaV2A> ^,_;^F *G˻hz}_!)KT,!C S K<;gly xʧIY1 {ri֊e^Ot =y]$Dvl7z> k">ߢݑ~IfNlMyuq`T\ i pO}OWr%QT܁xO%> }ē"qxA\Y_ndoÓnC@u;oAǻ!JȵLf/19}u]3L0۬X,H9z~/5}+)I _/XL'Jqa |`؛`i^gK݈Cy_~~g#_ϣ \kݾ%oDy6_JdrrJ%yv k-u%/u#xO]A[YQb <gXF[O6/7jEv4 O>79E"ápǻ >kǓ)IC} "F0&1xlJFvy/ 9RocguF|ȿl_,RʭQc}roy@%KE"Q[jm#NyzsȾ5:0]1~ ȎJzw䇇X@3Q &}E3.>_ߪe>~SrV <_fDGKO1|އ}*эW_[^eG6鍂Dϳ# ET"qJ^KŐ>'#3(ߡt{OUʻ^:o_@F?_*-O= ϗ't^r(쿤)JTϾ+uz+_fGp}G_/@|1BDVR녿#/}kn_w/##IȤ@S/(N TN[=z;>XGycѝw I @Ϩm^=2뺑Ț;^ZvF,>-`y'R0y~,׉ odDUetf ;yN-Ct_y]dĶ_O>wh</Xd(.dǛtx$x/LM(~:ӓJT*kԳ[-~`t* -1Rmx߁{ʦw_KKr}O>*yW登N+zy%sATRCp˱~/y4K߼aKC=S!}Р@N2.Z]F%rP-B*_CRåt࿔<b$=x^jo3YS_k=~OM73z"tƛ};Mc?~-oվ8s˻]bʴˁ.Va~Y꡾|p ]5/9sz"CU]>*yTZƓ/it̓;![R"2D|~IOk}Wկv j5j?_ɛ+Dk5?Xx!Q=C?o]i#L@=\K\ 7**y>lpu@}736}/BrddyxZrJ=ɤq>Ob !6d@AVd_oVJBb>~*'1k&+p%LE*z?XIz~/ya}E&)n&65 YOϏ~SD"k=ăqŌ!R ?G;;8ᏜsK)BgUr5ժiW"왆h3&[Id~w#E`N5vyO b* 7<{;L\c]^"[+޼>2<|"[=ē-/12D([Kt+1YZh+m~0,2}ט=]X^P'w[X=3uxfK?᡾|-aWy5羗^F NKa'Jw Ɲ)@Oa|nÃKW-˃湭&+ó:tp?NlnYm$ϋ9߼|V&\]"bY5xPxoELUn[՟pD`y&Q?oߩpfɳ J Vxw|lY3vBM־':`?&lpy\hZO|{%[e^z"J]{!4* /Xw(_zaڌ=ԣl?+C+⩘75xLAF)+?&pF,H > At>k,\=2Nr|*7:Utr zsM[rJO'Q): ow<)Pm%}|=]y9`ċNt. {o8/APԼ~~z>B}^|<^i_'a?rOf%>8!G#ԲzO{î#<@zё(u=a,-C<Ҭ6QYSa%ѾWy03ad; .Np=7\P-U<1_US>ܗW2֞ii^8 iϦ뗼{uͿ^325W0>5~RPToaL(~#>2 Qt;Ƀ/0!.YAMc}9tFg';.j^yyw:Ůbo';DG:`(J¿_2z" ^>U xY{DkF%2fubưx~幰o}71%z<ȟw<`~8o4g* O2彞'7Eʈ*61sp8rÃ>_FG(IsN?kOǗ\S_yMM 7IWWs[~w݀"7^3f".!O}$aLxM9 rĤ'NC,dȡ'ALuz#%׼d$p32٧o:;:2aҲ`ϻ>:>Ȇ"c~=u= 厧:roypryP<%N3CʂN1H*C<ҿTڗg>=}e"b/ 73A|fRvSw%`QUPD %\"ҒqdQpfQFf Ν;3fw6@ʹ2%4K~WaR*%i.ѧi{QS8gޞQy=巼O$0ZF7Ԝ> T%P x2DƓ|vv Oz (-E o ^~g2[9? |ػ*߶X?IBG`zb=G󅴙X<Р 'ޞT8_xIz%,0FjirNH$"jO 8 "d0x>x4aPċ~O`eX;z *$hjƣ# YSZ">A_3w<GoĽb2JbE9VmQϏI+ΆʷڅÓ5S[f&B^q?0xvƾB- x ?(<dX=?@_$/J.Hikp' ~2G/8A.Nb<; Z&azyzFݑGZ\^D'*~ ù4L0x@VhzlnВr XF`5fou/18wk` O.@c(O5KFc<_VYfK$[߈4ڇ#ϸJHBNMI4RP.X"Mz^h[0Kc`Ɨh!Ϥ-3>͇'f[=&s^3x<fP{ ly^;!711^ =I0Y߷TA.IqCޟ/ ^DN8L#RǧV+N!oÓr[<[<ΧZ O EMDXO̳3G.Lҋwh+h1+i6c*b|0-Fabࣸ0ڄYW-g3x$fʼn$vl.>'qj7/m.(`[kt wI|g*aN%|z:~C!y_/Y0'< )ii`1. phky}Fsw4⿈&1zƣo2~-%Qfi޿FL z KDC'b0S8Ic6LWL,|#5aN^VH$Y3p1v> w}|>cHu{LIHO (|r[('kUѠxӫ[] ~:'%mQ೻H /wI8biv`|xVm 9^νR7@?9#nꘅg;cP,O/Yhb t<@>@Kc<{Z ٟ4/?^Ľ8:-# (^!(Ƣ׀4w`[Fzz3Ȟ/֍>h3whAR\<baj=zqM7jۆ+D֧Iac'PCr"EiEyp#7 P(/^YayFp-bקIOn>R-M}7sA-&uڼx,wswXE9 ouF`jw7XKŒO ;{'KV<ߔ͔S=AQ^w|<~O +9nt\d~9g?x@7&B7 /iZ>쇌x|<j{ѯ-T:>pJ~H3lx |~/eVG|Nay2pF)CQGQB/1"#|urn%RV5#QNYPUq<yGYl l_s;kh)O"/O.c_d-p3ƣ=^ 'mYN-˟m)=~Җgw\]_( . |FƵO#L$H+x|鴎7obI W{ ]}I#[ gw0yÍZjUw#vX,xQ.v.b݁;LJ@oؠpM6hxE&iϿhKPj2f5!f^Q$fw5X#a?'ad>ab+=asyZkvҸdWrGhE n`~o.dm(kOI`_tδ<ޅSJ 8q[g̗z89ea%|49}K6KPҧw*E|9VQ,33t}cY՗[I^\4#C*V-ޘ|c·Ma=^]d/x~2bKmn8oPc'UƝ-9mٟo`e*MЬl=tkM<{]ՍKc6nܴS'TT?F(v[]Tw '(Nc8[]9,\pʷҥKʼnv DbU%CjnML:_{Ѫÿ$dgg_;?h)#MM_6|M/0~ۇ-^ QD~jj~Jش'76>]`6q&yy5N%%)JarzܔUM8aϤ9>-5ol޼yܘViV:cͬ=K׭>|]{z.nzrnްz1H9z4Kmt?NK^qMKÓJ}_8御3|.)-\3/o4gt@?F=Ѷqǂz?_B.}mwdg/ 8JYaeJM+sO꫚uFAdGPYfuМwQvm_K%=l4fp?W-~S,>y-Ա\BV(Ѭ)~h̷:}ggq ?Mim. Y+]otx|_hU ϖX&~<~Dt…].~ent֖MLܣa^I84ti[emچ欻:fWLbiӜhVa~? y7\$e4Y]/ͅD?ck%`rHM3+ /YwPs>?/|_o6o~DmcvkU)!9s/cko^ j5 G/yg բQv _>nsa~!e6xȍ7B J:mv5̜9\U2䵜DO:&O-s`Fgt &5Uhw{eSN={bۋk0 ""O"IEXng^GX6^\ŵ% нO49)""× 2{\\TE~5ɰݕ~o>i[\(ύ?QM+bi.7l,To|^7L[ڔqZ]C9r><9l\w}WSѧh@vw}~*iUMUFg7z}_h~mwej k" %m*I](s~SFWl?98kb<Ǚe)5[Y.v*5?w'c6ieNPӸ=Z~W,WUPI[R^~qڞn1&=`e X3Ǡ*,Ƨ՞V>y}}śӏ^:n|h + $ Lbݱ}-wݟH>'o<-{;oy2C7=8Y#ɋ2wo˲ҳ[s7@s~[?pv?r]o}|W&gGs|hrh z.(W\<[G:{՛|G;yK~ϼӏ;v摑讇?oǞ=xƃ<7{6ۮoƁ'oӷ/~w=m]H}]y ؤ dWsb/^y&y巽'yO_2wlo {wo&}wtS//x{?k/'{vݭ{_`/_x+.Ksk'>OAq17^$z˿({؄ q)'; Zؙ><}>Oylo-HfDELL#a]D !ݡӆ+\C.s甕+r!]EYV'L1KGb(|2aUYHEb"fC!F4+Z`axf,f 2 }$᪁U’q\MTQ~Х7'FjEA-Ɛ"qgVU(wj'f2GC HMy!!fVBx4=WX,63)ű++y)HBN eE)$Ao12% 8]Lh"LAphhϕy|'̹jbI**|OH dSI^ZdxqTMX~w^ɬF8 ' 1kaPV%=M*k!̈jWiSXVdvG;})wJ5Ʊhׂ4#*$c,~hx29e3:b05t\@EIʉy:~(< @:¼9CNHnpŊQbdf yUJ@(9%MPr\VXLD^X$.O5C2k7 I _gWx9-灌DTUt9]ƍXe<::}) FoN`qE:OhX>ǩ20(RreP A8AґT|"c@X*b}@CPeХWip%!4&s#J"g`}xtńXMgx/DBJu 7Pvߐ9 kaBQ&]k-cB1,pOvl'2s ̌3x]LhWQ&42s gB-3L(23Ʉ-3'DLhwJL3t ʴ̜dB-30=-32-31}-33-3aBԻ)kUG(SjYȪUKH՗ F5Bdm驦U %[Yfp^ի&zAVHdS+Իne:I՜j>+j||FGFs_/RĠU4O ƀwT =*c;vd ` wyU^"e# R)a,TuFN.Y\X׷@_Cˍ Sd5/@4NxjͼЌ rʂVGh(E*/ J7,65UőBYMC[}Q+q PG!ј.-œ ,q4f_-7 >f԰L4#.f 7|3r oQDr5K_ER[ #kry LeeEL63a0`׋7 CnP[}7+5%:IdҙuV <; ccKQ)ĵXy!Pd$m1BUho c{)G#eMK!^FI0@uٸFV@fDO bb`# τ@H{( @G*iP4Dd9[2PE䍠uB ;EcD(` zQLz/X=Emj*hPrYƩ {m}뚟wbcp:6z xp[jaBVC1VecS<ˬ.Fن]۰kvOa¬T u 6v^ PxC˰,`Rخ\)tw_(])8eWE5 Y!hunE] 1f09,^;6&,>0aMoުz[n.m˪gĒT_*yE@֋[X^dT3qBGI3.E(mԧ_44?xwRy_uF:0Hm 'ok9/:o\gGygs~?10tCqW5 3[rbn!Yг <;AqVXMqc,GjyU`jyRSٓ8f C?M KxF_@;xmmMSAzTMmTgyQQ!EQB R- !:@x^ ChbxSijjqȜLY?7X9>XvQ|$99{;wߗzH٠c^]O~ݹv۷IѪ|GuVMӫr`x/"$GyG{<2G{/')Qj*DG)RF65:tsF0KqN^iv.BeFElWls`p܈ cvA@FEQxE!92wfÌ.)GH΂Nu;y-wdߪoWM2:ErrպURhGDCJNe7s <M)>'⃺&\< >v!Uֵ6*:>:=(@d~ǐ]E%Py2 +#~ORcXKN{MM*i,gWufj5*ynP\nrmUvnZRoI<6OiizQ#)ٔwuIϜ 8w,I.P ݅{R 8lo=Iܝm>ף=T>r-{/O.,dbpF[مXVcxFi\sh̽#"'GVrIkkU|IF .y}f\v6n`ʈ'R ^ROSY-wtzd%8Ȫ=UO{$AXgFrB*0urV}@owwuBX;3~A).}Lv.,MC6{}8*CJ/FQҴ|ه6уY&tk4JN/6 .K4wMv^kfhSRiەf:g+7E{gfU{P~EO 4E}b+KnbpUJ·V|Д4O#/!$/Cśʨ,B_H$ zbi0TPd/}Aypiqk&8vo/(/**V lW/%rbqiK\IX45ˇ7c:ҫj@u3/SH7ԉlH-9:væS?nlFW r͏"%|KaĹ_EJ]Pu{| A>>qZ!U 3ɞ` ~Z*Z GWӚgV>ҟ'+mm}Ao VLwq?*Z"K&Fde.\\\3URZaOa>ƇgU.:.:yY0Ո̩2g:|}#EUZ>D}@'x$C&:ٹTZe{|k?"̢3lbcVp Z8==6kħ(lz+4N O>"3xc2 Gͺ /LLɽ5Bߴ}}WԯrJX 3v݃or?~$& zvT `FܤrjmqAaR4J߅g"5BI~ u n Ԃh7o0D$~G&HrE`zUklz5n VyvKm7@;"RDjtRݨj6am}̀ {߽[ǁ:W|ܹ{ӝ^mmTsxa[@S<Ӄ5F\Ek,fKCQgɸ%[v̤9pjz;ERɚ7skPI]ŭaF}sRbΜaΕ*I5gޖM"ٹOX}Ҡ"b_7#X>YЧj<}w1K~ lDzE !n:M c6c]!4pktEj^_h! Zx}:Onh2Qr ~\.Gx>Ǐ/f;+!!=HӠڕ*OBB=Bttzj {?W?jm UlŮPy#pOES?}n!:Z>.N:$M3]9g6֦kyjB&{h$ ±+^LrmʾR*1k悗/bΉE]5[}-\+a"0U5!B;Yٕ^KsRWN7I!yά Px {jjٛMWC&x^_ث2rF?7'έ{B?\TxcsFxd_%H LhYvsi}Hpͥk8 &8fV-zʹiAb 'S%KUʙTdD[]ʊn<$Tfɂe.M~tq*;Đ=m@P&klHjU$.m~@~V/aڬY:bgt' nE/IRxl t'XEs NNOqL{X|D#zTб1eg{9j [wi+*S-ლS8B9^eƛYyiI֩׏y )@g.銝$iܺu+dr! ;ԇIC"ư\- ! 9CyszAB\<˫Ⱥŗ:UK.8Unm/(\Y{c-Kk\T.ntiI.J ,5 {,T]S0"BJƧU>&H.tr6ev}9zh oq[|6;6ujπX_" ۏiͰIb* W8^K BG\G.s?\qx͆|Hk4K4S\Yk.4ޏ~۠ޥj0_EM>=4+RᏓ7 ȼzJP=vCMVKH_@&T:4~P=T lGEǸcys )F'=j^gKW O %YH'ŸH7*lǾp4ք^{K"Ea\RC0t/;7J4{+%wiVxB(IH.÷iOEXAؖ[\>Mك"#ڼ#YO,Be{[Ug4\Afu=WXk:c+yT[eӽνo"~uo#3.qIS rWq"ӊllb4H0;(fqdW[o⎌P#al]. N2G*|Թ-\eP6}Bfk>q >yv:NLwsS3UWT#!͒UKdN1҉Ţs?m5="sq$$]Zw쒫̥$Tjy.i81DЭ41S+u.G˷J5JLŧ|L䘹}䩞kF7ן<㣄s0xΛcb8(ڳWVaCPUTA!S)C&$xKqR|'+/G" ֓OG9't?ϥ xe)K/dD]kJxݒWJ\ ,'n݄֦at9NRϻ,vWqnMguDeɳwا%WYUm=x9C5툩T$~22Ԩ$>M̗0> z}`STӷ wKu] qt##[l%B+mUPyՈM/# <J2&W-H/E邻# %#Xpi 842,#pa*mapf_Yad^0q|%:~U$ aau΀4Ї8nW=<3wʐ40a T'>:R3J&0VhrJuV},o*҅he䴡L?YF`)zz)WEyߩRXYX{]z6s~X@\ܘ(|]ru?4Ue8.t'QU AN6֦~"wn2q^K{+)6'257|Jo_i)>`$(,|B*f53uLO= tnmRӚoo8 ‹!h\jٛŕh'6B׽;zn8HlR?:SYYy}Bed ]Q$A>vn*#Haa"<fu׾/o=nنR:-qv: ;7IkֈlSC'ٰC{J() J  y|%,ě0tߢf s2`2);#ޭ7}'އ|)gch{}XXf8G*W,ҭ5߂=ଞpc=!yrkfQu!oES}{ G VW]_rg:n_l,*Ĵ^LS$&4@6$s<{e,$0`p^DŊ3 XI۸5gmGC68Y;G]]Wƒe΍ ҹlWH 9nUС8́뉍 ܓkX<9)5a5U=IOT'$vV=[sX(^>e:::tʗ_U"& =o1x)HA f{Q;]10kwOݚ4JO-[bɨ}OAGegf]tÐH`K@W)>v|gAB+'&aZJM7֎. *@{䄠Ӌ7WE:MP}Hm! vF.m~ᮅ9r ڐƪ e$'Hdv0k Qu}Ǯi197P<`(<4?T`36xt.Ԏ)o&TDzCAsgBo q.-kj̋tvd#圐H{c/1*Fk)Muii,cR!a\:`Z:^gԘ;vA6DеEcz1 ,$+'tvT2'x3#hڟY^nb|h#7vjˌ*&4TϿpq͛OaF ̺` &k#xϓ)x-7*w6znAgM4eǏ77GqO PrP\W; {'*D#`0/c ժRL}kFQ>p&oS}/ iUST8\ohZU1ӰhKv][,ڰȱ[UA?A3S]őoT}߂yGj*(0UDܓʬyImUN9Kզ IaQջX:t62|В۸f{B]< B< l@"s~7 X/e7C b8OcCDMlYwǘ;Ͽl;a s~xOBB";W$((_uY }M񣄵C?WCt8qvJASNK^p?2p)V̊H, ~FXָ)KuBAN[Ғa?)juEY#pH.g 䪞>wNp,E@pX_d`' P >$E`h/Zc7iTqt¬̊0.7?}?`tW'|ߡT:±hf ,Xpwlðr3\] 0ӥs3+5 ~'<68-@]8"?2J+0j%C !bN`''F@K6D:10y'3X,h mW؁ 2XO54Hg]Fϒ@w#6!m0Gk-o5Es&@̐/~FaFm~+âo9!h^7XONGv 0ih 3bf;02XgQ( qv[ C`p[O[~@E OYv۠FP@:Bm;4oFpJY~/ sdV`+62aX7 ( ePGmHrA>7ݒIS8o E8|ǵH5'YuZϭ3m0$!̺h @P vH&Da-5`6u, :Ghrlݠh+(f{X ̀pVhu4F!cqAQA)jЀ;.M#=(vkl-Vv(64윐XkSvN0f3 !"N.9@(## Lm^5b['+cCm0]\ 6}ϜZiF#!f0 v"V[- `'5';ZP Gog*A[\ 0X C Q([3u;aaQa~>A>a8OyQ_Zg- 2ud!< l8v i QyA|`m{|[[uo4Ca`W`+? Cԅ;1kh};o+E`xt4t݉>h%+6 6oa1?×Ayr.OJÿ*}+qёh,%/ #`j涞9+ҽʼ2b _d,Wy!m֗c=8f9SuC0a2 3yz=`gU`%r`W?mqkLJ=htZ+YH}|p&JdbY\ќT_&XkN,xηB\=X~CV~-3mRQK[f^WG89e%DA{c%6D6,.//eloj voI5Y'vwu_+B QP1/h{(FVv? ?y{Dѻ:䝲Qx:]/IՕ&eg$`| {$M+#"c,K>?[E#-ba(~ ҃)nٴ?^6RSjP 9Y8 8WaLs$$kN|I9b FE;wYq&;AUnc4aUJ2wkOоG2WgN2kZ?f?&MS۞s ˇSUuo-.Xa΃(f KpEqve!)=XىGڸ^A|NSckZK0܃STsq֣y|ZKT=zOhZAaٹ!`1yg*kn; đX\>!YӦ>cqY=c֚J}ɫl{dyǥo50y9 /x rN΅ifh́X&kz=Ǵq{J_2VU+1)*x>ܣ@ru#fʧ4FC&U,,mȉL=z993w=ؼ8$")~b\dK]ZRKFzؕZ f>:tǪv:sf6E;Ƚ!DY^`̈́o\Y+Jr|i(mЭE3#a1!+m)rgnH_:4Bn60~2o&'K+*DDDG.{_'ZO"Z[`./)nzvR$?ٱ(0!bm̢tޢ~<_`Q@ٽ5lN|"~ OʯC5iXzH*MGUI^pޡ|80k#),(Zdqseݵ–sgʢ[2PgC+5UDWk޾ȼHI >q* M2\7/F@uXy0`FDzc` 8e| #|c9+Q(l E7'rJݵ$`O|,5SNIց0!۽:M̪?:k߮q>?#q++wItHʸө zRME'=iE---ѡyJ9t>b9B{ch97qʧe] /sΨ !YU+HcS'lj f p ğ8-%4~uõqrN:R@ƫ~5}tȄ65VȚKQ1lL+_ ,[ɹso_c1E+ZG] (]Ժ-%x":S1mp=3$^YyyXپ}/]ּ?L,==eyֹr+ip; |,rʮɵئsDKl%si)]*QIgc(1,fWS~t(.;AtdRE'O*r8HTgs}G7)ٻޟF.nCݬ=Eq%ɍNftY|<~91]tpȁpbBbwyh6Q˼-.y$P#Zo* INe\v9j{ =veszRbud[xi֎2]7Fեhy290{0^?[:J>:Ъzx6ĵE"ץнGB7+"¾'--L<*1~m 8r )wش0XVgA5Y}Ƕ=Mc25K”6 ruIUTi.g\–]n9TFыgM+Z#a=5)ُ3@ֿH6.zwRz8oR{(( (778BΥסԎuBxDVMVϖ'M7q'ZϸqOlE4aont4gϓݴyQ,/69қ6"= Pv%L~\`dpu)I!NYV|U@TrLR #{M_}lRF&VCFVW1o$䙩ȡ$|bvn2!QxK bZS8Q'a*1it5IXrb.LE T^ }6W+KA!؄Ly'tPw;m4 4. #[*+oof Q>"Q$B@M@6Zeخ)(\ѐ{E$E_$= (H`o(,-=˩!=U ƅeW {!&ñ1 EqҦx&;l/|nBA6*&BYR@2IEpi1Tއ }F=l%b4g{w??Z*q8Xu>aHR!٩'dPpSQpҥ /8;&98F&L9'۹hx>|NR,τ Iu3k3XΞ1׻'r=Rf+SX9U4oo_Pѐ;s-6B21kjOF 9AR:f[Eeꥢ n7g_pFWrY@c'KlӈRQ;$bSʕULJ[rn]-p(*t>~%( "1QIwP#]j=W/˞.˧1U`sQS1BƂseIj!fGzht惌ȉliAE V5d 9{0]t7ҒuOtMwJ@~:dRSc¹H[FMTACN7>mPӜF^3Ҏ[j-QɅ(wsWM бLu0rQ0u@px_B=,#OGʯvgJsy]^Fc!wUsoO[F5t4IScALjO[R^n[UcxJeٓOg;Iw\;aG U-NQ:s'[)- cY*Ws++ftC ctUKN f ! Ϥv ~h:R85ix.|K3M<O`̞>Єe(3_ .c35(FX&=Z-*<NBB.eԲrdFV{Z> f)o6ۼLpUo \PfL0?>~>ԩtn$/9(L_}au2=Ȑ7r6ǚ6X/}"8pYJrs23:/>vll1f^J KPtǰ= 'dxZzhqXh#gYъXsuږϗ \,o{l#KK$hdjW j^wDA-VB(Ln+L:.;0p,N_L.Jhz~&:ityc~wGZ>u)LU;.am0@#L΃ ePӽʗw}ƻ(`-hB|WGGGd@~YWjE4DȢ )3XЂguEkֆ>|h=KL~(mNuYpS..|1wa11阽KNG4y,sB&GDǙ*or'1\R<zշj#ԐGs~^sGʹ _Ǐ.{ᓟMq22n0qVxhK\) o3(.b0wD{o7NQ~lvp*S}Ti#N7vm肞?{໶l}+SG[@cyw.6!ݤhv,wb /sGfu3^%f*n<0>w^˹)wAlcrPOhS;[7n:[U֕_J-,.Fz9;<fJpiiV%szg:+4HQ*Bف=H<h;&I[?"b#jED`Mg]$OC8 1"$cYt7i#jD$ ͮ;5a1.|K2HNٔC=-X[-gxZ^)JWH&]SSk.`.?' suk;O#yW/!T=i7+;1zGfp:SFT,.>'"ۿg79v&9cI&j7J5>~Ջ} !XRC\ng,Sz[]4߿yQ[Izې>1lche򓁶*֏zͱ128:{}S$ЇE{!1O+5Y/ Z|&Q*(ɽ"0?4Y[X$<\ *7< a=zڑj:0s*:@NcF{ak/1LHrOԏF> n) 7>@f(m?%&ƽ[|HuAYL)mgJ-]2Xڸ$Vſ1f69Y]zZ5eM'(Nb]hÈq}!wqngQSR99L<_VV]=8 {qQjw mwrHMGXVo3Vrea ԡ0o]XKWK+}JFMm='|ylq&@¨S8_%(| } *BTD*5XBҶ/bMN"w_pWnZtJ@Q@849s<]:GU+IT@Y+Oi˰f ((@l슽O渟1j7/0i_XٜU.?rCl)ԸAnVq~",HյK&{@!.,bQ*1: &&;5IQG1M /.r>_z')i-FMJOD_O4&U+4}bvK:翷uꕓ]hHe25PY4U@0qtAY[qZs.je'hGC䭋CY!Kҏ B &QZ>[%),jy7hw5ֽ.ZM'A d6@wsg?:.  ?AYc|߮?3Ͽ}jT_jZ|;տPK߯+ˀoS|N;տwVV?%,øS:\y/1/_Pb?WD;U }B_\9;R>;z 㿲7m(FXW@\@w1w0u'(/v,3f wZZ!> gq,CZo.݀ 򯫮mp6l2lImY8`g,O6DveI/=w\G}_eE5upN/vI2ǿ> h=(j+T>ۼoyɊ`KD@uEfG^LJ'DN:std|͕gC`DorIˁPzz\o'&Y^U~ȈKl-QT⣶ZVU&+Y $@$ P nv'ɚZ}`֪IUڊJ-ʯROwݙٙٙ$=$5s_=# lhz_IEo$t$;6 q{onN$Q`RZ.QdpW[b-r P[:.|K2TFKRR%(Y]2)%WJOJTlԕT^%IIHI:H }ޔLlzSS$~X9Ǻaw"Y6\{|I6_x<#<`aU"QG{ǀfgu11110jeJĴU ;BwgIkd=WcQ%r%?K٠+_E6=KbålVqSl@*V/B&!]Uf 瓅/py} A}!Vw0Ϊ69>VgL ā.T)f?$ ߁de\:@uhrTKiZrނ>u$Ut)0`0`0`0`0=0I}  X1qB `x6j `VX`fL*ddKq; _@n nN6>hG;vܖ 鱃Ky8 o5PЏ~h>1*GGU@?~V؏l~4C\QgcljFQ!Њ|xưj-c>d9q7Xor[". 2W8j|oD}`>l*/C,`=롋KKE\l#ôw@`# -WWq347p C-aܬA7d\&̦jz!4yDqj$& ]P$+J17lS,b Ey|[h#w.ChQBJ 狣GBon:xEp,aW0"v3Ot0矆 6"'(#P\mYO7 HBP$6MǶ3+*#1^e7HUf'g`?o/3`?? `i +dV*OYb <FXİޱ+h'EKZK`/{X+%r"E.nhЈ(ra 1L ZJL 8?$EmoYIK5lBh塺C5Zvb}㬹MsZ:#!B|lDsVk+Y!tNi=`PV$]\{ឥ.[\6F:M^$5GF9(̠Œn 5&h:CvZ1ڬ7gt"4xtAŴ06?&E=Wx IoNK_/aݍ#wM9bg,$ .ͦ`D5[\o7R7|BQ͘KV-rG3$I{ M' ʼS0~5t4JJwV9⢷@b3or_]Imū-980s$JYWդaPqسuTcK1D Z)I9bD 9Br75áGu3͉Su[+&-&2L1 f%+2*.$N*1<$8Ƞfy#Z`@]bYGI73sk^4옿eƲ)DBua"KC| ԁT'hFIPa>m'X4:m0YAOSjEO$//q%Տ:v{P "N^)1 U4 ) Bў _K,|TbT>(M~"n+Xpe EiJ:1 &Ye&QsȍV/Ci4*QlaRFޟ干Y4AI}io cS|tI"L2VF"Ɖ& h 7(H&d˨3/$3LM9i'jKiA\#ܵ,L&qP,_h( IU)~NUopopop*u0#,Oۀ w[̔αȌ@d@PfS@ `H P/[iz_?$ϭ1~D2;$f[ib<0^H~:(h,7$ my9g PStdIʱlZctdֈ4]rL_K PLnA[DYAW).6e%̮xYjg~w݀w$٬6: B ))#L_)5뺂a u&#b+$0[9c >9lWW+,d4'ߠ󣽡AJr ;$kZ{&6ZۼG{ F)|[Zꚩ/߉df| PM`( P_*.$h><(^s./%ws(SMF}(ɽL8S>7wm_ۙl$mBֿ#$TU "( "( "( V"fA#V]O@zw*1TANDWGgU*h~ܠyh;'WHI)qS0VLG$|!$W8"n3KVF-d!ZuZhZBlSZ:=[|Y2v-dgtBO -LtOB xJI!!RIcXoO"V_k3F&CJ^s"mDYH29#?π#)Әy C76,@v=!t#`V(J a! f{W*,P{Y>>[4ֳ>e?YW|RٜL[ݬ@\U>7$/WWn_o?9F#ZZMqkH5aB* A[9 .Pʌ ƜTj(!T՚AI QuIwJ[s|`\N\P6b`#6F^.ɯA|/U?yD-'V )}t9#4%Y3q hϨY^%cj#fُhw;sV}WY,U3J8rU qgTofw"|J_(V0bVL5jQ>f HhF3V*Z:FO`w"]3QF8#zQm6.P0yݍtPzE*Yc(׭3HbH ̖B ]}OQh`0Xoxs~wvw$U'!R'h|PեUuJT|@5@h@h@=4vʸTC󁊗2jtAKRPPc4ߵH*:_6vy;hWM(Vi@ m!H:vBMZ>%:r bS0ScJ%hc YyFQՔŠpGǴ"TCe"TcsY"T}0&hם!_d<=Ȉޞ=Ѓ=Ѓ=Ѓ=Ѓ=Ѓ=H$=^ȵ0J-6Gj, \xc]wCpqpq} kUpPdۡW-tbSJ]e|L>e&'/E%{Lt\n\C3dFmFgP8!ɔn cn?HUAa j???Cxq;h?fR3 bXv0a=CGc,zgȂrNS3BevEEu m:`@Vh%(?ϗhW"7V?2~v&U)SmMG[?0 UjͰ$5eZ QЈZш&2LÓhy|#ȘT k(E,R>UV[2)?Jhǧ8H2D`C 0!<@e8PP T$(Rc4 |@qGkcXFO&.& bu 4hGWP _mQ?Y Hd`YQt$Kt(p@7:3-` /Vm#;"X,A&sxp:zuP.֮Ѡ L2{bxaHf$1y?N\GlPf JT <:X㸧!B"` GJxeJ OѻgY+HЫ遡ŵ/DvEvL/KF1=}!5m)1+u'e?RJ,%A]'Hiʋe{s?n`@27Wwv`R8 κ٢(IR*V\=ߕœ%G#a.34u˄ Lg{{♩ e|Iaɡ~?0@x &; ߠŢiփJg{ l[%ZdDJijn(z&1g<=H0|BPaz>˅>~Eox΄^l O:g g0TPV$2 K` #aWf41EVAeٸX]8Ƈ1AίW[:SPHӸI 0_"E:|('ҲA$&DS7HPlXi͑Q<^4fA;݂F4NvKG)̟yo6l@h肓C\ڵ0ɦ3)&S cP3{Dw&[j3z.^(/`?0UYU3H\t4&K}䕨l65xáE^_;IEY RSi4E'j :N {P3(AH!BOVB,݈2߃NyXӏ{.=(O%e0B b0 */uXQ__Ƞ8 9 Hb(CJyaR2YYzD8A& *F$xBcub&;1Zab=ru.lkk ^7H>q`򆅲t!C|4Ihe-k!\9:+[' =b*Ð4R$]hLV%!* no04T}~{j&2yk dZW`4U+4oXdYL'hlsɲ/uD*7lmr'+trgX(x9S/9xu-p0rl)ozê?GߖZ P*w-h,@EpG@2Tl0Mt(Lg\ek%cP, .5%X <3%H S6V1^r2Tb,>? ߑTeM>ʸʀqD%?c-(L)䐆4! ?LCz,E1u``\Qt%b(V;(KRQ،YN+;☏TϹ>5?IUfo?i{W`?0J sf VAK ZbZbTL@Q#`X`-h]0TIF86s0~IU'3 f0猎V.ttP[̽v*yYP ;o찹j?[!ͫvFn:ʈa( Y6r+kNV= ErZBcPI[pG@gZUY3xB@8O8A0 |rj,qcG<S5  48uRmE:5x=@ q= :yh9w@%$g )xn= 4 (8xXk#DG'ȩ<>ſjP u{a{{KKsKsƒdo#+dZhnPh`]a9jXOV}t2WLYufR5 MФФ955d: l5،H{**rFdx ՍB|3儨hj*ΙL:+I qAj CyhfjQM9)zW e>BbtA4~U$,GR֏m~j%߈iI4oLXakp[paA4A<+cL窈nF{%DuOvp? y  'R? ??? d|Em?cLeдb0Hh=%JZ[ՈekJ)h. Ap ˭I QߨQxR$i$Gp[&A˭08AIX-pKH$P, VAHmGڔD6!Sfq"t!G|xr'wPݒU.fe"g4=2TtP4Faµ@BX D$ϯlsRV.y-\nw'^ "*%zB|sZЯjЩJᗄюTlD!Է"sUzAj!ɮ['uE;jbe᳠:=n`$Q35·I*T<ѽR~rDbXν *7I'o2 !ٮYxF0=YQS&-&2.~ď*jJe3јiQ*ATRMm-zG}h+{0O@ ,@F)XNxg :PZ]vL{<%,6{K%mּ9;Dܬ67"#p.8Ut#rVmdy4IMFHE_9߯}^q"UVҦX`pppǟ*u0+0l KXXM>fev-s΋Li i91SNF+.b"f"fD[/WGcϑT|s`}9u;t֧/@:5ӆSeHuj78})y^D?6]9Gk<.ѯ]Kdv^b$ 3&$mHXYǝ_t{8ӑT_Lc/oT3٢{deKPlE?ϫ>ֿ#fՁWWfguU^U^U^U^U^U^^,j:jT5y Հ8x_SVñ@@DY]duXxuX3Ga-J':SI??~Va~8HeA{>G]{`HYu1)KlR??rjTE5PT["9u ?1~9ZntAmp*;pEҭe"!"sN :/cZ6a'?mG?>3oN!Џ>92rˇy'4|7 p{Zg|'3qCE^r9kˁ>za8Oo?ykKm@N|{ˮyw\zWnߋO< Ź?|G1zw?oW壟]-[ޟȮ1m۶-Iqn7>޽{}O~svr?nlkn<*'X|uxWEY6ۢS6?=]-|y٣}~3}_ݱ#_= ^k=g̬駮k}꼟0濭ؾ˷3|oN93 Ml§'7=`jom~8\4ם2mk7}7 ?vI=wO%iH ;{.Zv7Ǽ/ d̽ܓ;/ O??1o{}Ŗ偛ݶdFk7}.G{nAglImg_zi\u5/۞o}ooy`{ǞxN{Q7,l=~w笞ݳ|.6s]5?u4lm_ہ n9+ul<꼚kn}7߶=G]n8szxr}7wtodcO]u'p½i^_[|{-y>SO?5 俾=w~';w|ŅoϿ=㚿y|{nj'n|x=`?v=}̙f&y{Jx< xhc:_ l~inw;mego˾m돿O-ꊺ77ٚѿ'gf͚5GӲǾ[w5;p5цw[sïo_;f{y~e{OjnZҼ趫F~fOsS>pپOg~cد<~;däK/PeWZfMOi+ҧOxaף\svG;xߜ~ˇuwlۯ_Z?:xq7ܯƇmhjuK^k?3{Mn329yw n߿볿S~s셃r+nY߽iuϜ|}_|?W=47^-7Dooy~|~w3=ǮydæEꦝݭo󧏞#e6ԭL&.O|iwfm74rGn[UOZ|yG<?[{֭k9^fߖcH~JGyޣa7oܛ=_$i0;?-Ejܬ]2z\ϋ?fݽ{M̷N1aqg̑? |,a3N<}9ܧz?[޳?__|XVOɟ?z(%W:/͎yF.+-}톋z:},H=s8Z] [6K.ׇtAygs PcX4"M: ص6~A:~Fwo! "UܛbEDԦ=O8~ANX&>OӼjѸhümI[v8~ʵ7$>5G>wnR8}+Yiﻏ$.'xQx%˞KZu̲5VύN#nCrg$;]5fEG 4ҕwyI yzM{!7tf]yr?>m59:>->knnM~+wN:Cq粢vtOHQ{cc~ӐE=z8jOթq_b }™UUS?}v ٜ-;J6oفn !C^Ǐ.+=sQ3[Xܠ5.;=ΘiPvu;{M{ry[<׹؜߰en7 '+c]:u^Q3YG;.kgߣa'u)a# Cƨ^zvtӐ칳|O#׮)2UO8.s?v+4Iv3·ٿ%ײt>.rsWG_ptxxsIa:lE\=J&\]<9~O:=EӯVޯƍq9v:EVޮ7Vd& =wt=/: )3^=8Q;&,(Tn6-6i9i\&:]O-v z’ ;Fj!"!:E5.~UC6䔗41շВmn x7^Q{6Nd25)]$I?X3NϤ3Q{Mw}m&? tOaV.}ӛԒhJw,oi:0vW~,|W.{ 0,r߳!}Җm[NrC.=Gϒ(g9[-M#Qrٶ+֐jTRc=^rogS>7x$3#CD>T>^%ռs{/'}YaG=hrawW:chanw#߆ĕ- lp()eo}/x1#]BWfL87pHN+ g ?RK#iaη3"VL>s6op)O_N)>7D,gɰ5=u!Lv0 º琲lGN;MYjW*/tß&z^ 9yM98O;ϛ|+&Oϑ:CiKHC- TӾ65z w:gs΃}~>όڻW–SW)F.Vo|vs5ӘU'zk>mʰյtV;\Ҹ[hGL)?gRғ+8;ηt&gU{Yaz{F?%{'8%/'<42i2#+[rՠYOtJ9R3'f<="ևXֈ+wǙUS.q2d/aj^<C{0>S3KCڒkw>*qH 5o)Dzvg]?zѾLOgwbL|{|"\ܭfc2}\owtȹLz0`SS6Ӽ<{O7 ,;E1bi׀:W,&4N*ؐ9`+]|<̻ZZ۲u7nYe~os;}AXBc[W(:н䃻ڳh;Uo;Z5>e3[M&ݻ9ܝ(K>jkϽ j.Rp375s&2:XruYB V)@9k|\zAzUfj#dAV}ބ7Kqm|lӜ!}:`x! [-v=-8c/BjñDޘwSpq} ڻJ7iM֔_eu !9ݦ:$$-h`G|ƛ>RyY#õ'brT{q߶چ/- Ɲ/ޥqwXx,\_Ϲ2Ǹ=1uʍхCĹnLzj 늨[kKd B@V{':rܹг{;㫹SZ=_sZBd~׺>gwf½ NPյN^)aJն-wJk,)b-JLt8˸(5Fi\ { re^pq|hS6wR{g9olm9.zk >s#<9BJL<\ f#zI1Z_p'00w>3aGpƦ6Vռ~m*uyU/z'DzX,95`Ͳac4^Н%0ї\uWFp m47o>D#>,cG08pޤu{wBjev/kӝ;wuinf/׍t?={f?h9+"Ia=''+Q㿌R΂]20([~6>tk>v|m.и6#Xدny5SBw~quOg"oS:%=^}cPa3ߨ xoo>z{?/t2ϖlؖޤ]\Д}֥$Ӂ8:xm_ӥ 3hw" ݣcR_wܥW_<Ƥ߱'5=?{ӇYj*l?Pa VZ朚3kGpWofF7ŵ'&#/|xRokuMmhiy*s`fV/oxi틏r{d#_AQM)njVdNeEOaXFkw_[KF_3|lUw}V.9Mǣb^WlæG[HK{d;,k-K[|N8\ɽNF=Nzxm۶= K_@)N~sL zq[Js|=?J+[nEl&v>666J6A'H|{Ѭ[v,81%v3vrawb!XKfM.͵t)]e~fY{b~0m:jΧ_f;tTln}T޶**Dc)+$u$rc_co'njꡥљmb4cm?6'641]ilQ?M21"#P7;8!T9[Dd"7$[׋"ID̡SKY9<9'v*ocB ~hЂ_5n~Uh/? Z!GAs 7BHK<[CW{0.]q@&#\GNmW@ FT@nX9/ru SarCDVd(%2)DDW< :pPyb_ aaéTD|AcT}%M.@1jGwp0TO<l_pOc+-SSb+q)J/(j ) 8ިxiH46R`W^d0i}) (SUE~ ,*S&$(E6z+@%_b +JLϒV;*6@؈]IyF#Η.4hlYe+k^T)3Qv[at=LXVET 0i9PC6^r{-On t$`b^K` ̄lqvTpc3 le4ʮ;D5&t,#99t EE랢IИXdP9|vAj6T: |iZӜ/un`ʟfm?`@peXri xP#ܷ) l)(rB>(96Oaau KW؇4 BFQB ƛMaql@X1cP0*%wf,Ƴd}*RG0)}AzRut u I βN]XcGp χʂFd(u Rz8ȑc2 %FE_ƙ4T9aË`.6d2x q'4X(cחѤ߄([eCD@D@D@D@dT7sut'P* k%*~#K#s,e%UFߟ*͡?3 ?xd̃*F0_<M 4j*P022!43?Z3"F^]̳Kuu7i(;yiLQhb "@Wp̪KdH2TDVbPe _$H(%:*Dvt*FS9ֿTĠ33#K$xHbBSqf0kC],C?DcFȣb 곃Jeݕ|[w%l3NGjAG;=6 d.Rn)y$#1?Q?D qOMO_"hKR>X8t6Š:%KKE:&PliK\:[꧰ndёŠ\V]77֪8:8(+oW+uP(p_o8n Q>`{C#)g5iW1ljh)rk%F L1*FO ;\R@g|^>ɢȭ2oWl>ld]P@BaE~!RZD-r7Y#qAbv7CGR_*ː]2d! e.Cvː]i/XSħWl:oM33n)r#W;4f_ }AK7@yLC xs~ c(k^>I?H0h `ºR8bUJ0{wl1z`auypzREի# ,X)N.GFB"B {E5F,8 " xt2xd[RFãxKNT|A 0xꢋ%Sx, ޭˣ|=&O'ft $w^p0B9P#Ð_ \!aEr\!aEr\B.]2d! e.Cvː]Bv[E(h1ת0MabP%-ue00Gt' 9e+"2jEP{Vn Gl1)(ԗPc1<Ėj!<@|py>'L*7Dk3kho~dAݏ#D(R4P#T(# 9P<!i# >Ay&`2tk鋾eԺhALP:`N 1tDZv,5W/dv8 C8D^{J?6l2DC2Yz.E$ $S@aut _V1&"#P 0F>iIB0˜_ӓ,?[;|«,)I@TG~,\Bn#P2*2Kq$$oꨖNN>6Y~f/d nD_,1O1P(L%#f ƱGQ #@gbjс&a/M&,T=5mAzq @ЎhUW &ٻQ<O:ĵC\l}GAчv9E@!(hŰOP,c`, q(:I&=}2迓p`Q G_&6\B6&3FK?p.eQEpsY _; Ž!Cа:P71THڮ]JF /uѕ2fq2a# ̰!>ՠP? [nx!kqT* ? -~Z*FXs-1MV{.%áKV{%##?p٫Lz8d#rK #dI_, _*o+a?/~{x|]n;`{?l)6YZ.TCR)FH6VCfq +JaE)(VŠRXQŠJ+PSƶp_p%|S))vBS@c84rBNP 9A!'(X)^2rSe%.+qYJ\VcƞJ̈́ҳ.TjaJ쿷RL㋶Y\&avd3;궟d}8qHKî\qca%FV*zӶ[..BDd,9Ze81|h'v8rȺ G]'M¼o6†Ma^^NZ VkG8TMk55eFJ<̺p c~rY?l'ߧb~\ ?Z+6Ϗ\"ŗÓѲQ.6YDYrC5\u[pߗ(bA%SٮzG8:hi{@xA;bvY]քU? '#aR akJu{DK!H (lhZу_9V~f}4¤98jXz42Fw$D9qg0QT# Ge|,9B=h"\~,߰?7o|pC|W\T}V2B>=r vXuKՂ"8aa½2FV]Zmb9톏f}P+~9(64{W}Q߅_R~9X2EYRCh&,"HkF6F365ZOZSl8lkvlZZsl8<gZ,6\kF^hߴoщ]э5F5~5FSk36Gl俴ƿf9\s8st o8P#[IS/7:ѶV؞WQHq&yp~y0 \{7xa?q+rs"i[(Ywl9PyM td3 ^R!HtdJ"-'~{;t/9$wK6>5:=w24ʚpxJ*w?hz4W8- 2@XJ}9QEޘ.[z9?UC` 3B]Δ֒ 8uM_-3Щ#3> BR, {c௖7 2f9ߵ:F1 y]U;4XL+W'3Z"TEW}sցt%Tv0AكNxI3:PO=n}ijH[.[аwhؽg9VlQkw2q1XzXViA2,q !/5=S*/_ ĂzPJ&RQNk؆UnMl[ +Ww2ğkݻsp_j=?s#orRD8MKsgl%W m`8C.o8!E~Qhb Js+/&}ϼy_xh~B!ǧX/Sql)i;QS<IjQv#ٓBoit]*{ϒ>G- ֯TxB+$KxԟVz2E>etL\ ǿ+_xKe$lވ>Ld 0ՅΫjߐ~ix. 1,Lgb?PJG .d̠LT.Ha;[Dƨ;Y'pY+yzQyE;N^~"Wk7访KԸdwTÏ,d&) L8cR.G㷍,^ɍ/XP[p1Iׅ̊^7y5"K3~%YYD elI'/Zl&~qTBK!&BN%APPR g.#4ݩӧ=S /{lL=glKcjPx"ASۓ,ONfC)^HG3 )F S`X J^o#ĎEuյW_]kbc@ua5R*Bk*yA$۳\(3e&Q3kB^`Q2 Y(d3E!/2UGX.Ut U-W5P@]kkMGO+(?Uj]UJ3wn*ERJ)SW6*>ƨ(vF(T/USt8KP19 PZ$ 584jtbɘ'؈/}"<<ٍInh[7%+ OTHd͢hdd>uN.Qg֙Bsm2mGJzIgS?|LS:B>,dWԡ&^]~<ӣ/ @8(|?Wӡ%5M^f=S?1.#sMIPlHޗWH|o!E֘:M>kJ4"C]lVh1)͍r&9ȱ\dU*|n:sߌ9NT$M@t+cI{VO>qGY%w>#,|RQ%י7N^1Au[(/X M^\]5rO1s-ᕌU5ɵFpC4ƽu)Zt-J|8g GbkiDuNzCLBR=)r+*EOe!H,SÞC rB^[vHzA #L9n.z:3sB B^( {*셠]Ըj1NE1n/g Gձ8*mWfKmUUW*_e#%lPW*_el GOmoK묔}4dx5Co:f3ܣ)Tn1Ins|dn| \&KXNKy/A6c+"_t{52Awl[1Ʒ&k89~ 6pF+ob5X1FD}u?DmĆ\2 =,+bO>(̚Te@my(.ݔ ;A— -.N5FbiAd(LA4U~v'ò3a(1OM1??JEMEk)m;VR:cNz:#P1æ?iaoEUodX-USNBnR\khXv| 1bNAz4#jɏȾҙ4^LfD&~?sh#e#0`LiXEn#nkJjG ); yX ]Ҷ3GsH`ӂH0ꦷ8nRQxEl1Ot68u]'-3JKGN0܊o#4k-ՂNXo(\wXϯa/T*- ~ņ+-\*g_ (yKBR*)VBiO_;L 63hi;PxWR^AagqU:wc Q !v)}/;Oj`t|o H$_6Iς%H9tg^T]tEA-̑pu'fs_TXHI-jɴP M Ȇ .HE OCp+z/b$(FIo``vh|,)UaLa2(\?ǔg24vcǪ;D!27 cӋUp)V†?!`(ff*5zTnJLTFoTQgXNCA,}2OlkԆtDGhx1l^a3o}^K5{(//w\\J ԪD9 C2S[^8V}`?-@OV\hO q+!ecK'lmvYva"р61\ ԑ܂J8 nfDƌ?q'<ݳPm*$(@ WJؤWM'9jAkK# zL *RT/ _QC4y@9Z=>Xo#nT`28BjZ@7R# tYv ڲxs4։n?3µ Ia=tjsT u\/V?|\G%WNR0B "1b(\_+aX(V_G?.Z{zB.徖rf":par3{DKrv]c!:hi{@qxA;bĝmbꗎ%vݓVRFiZѡdv ། }t-~U?i}l͛f?mhAö4߼ݣqpx"=\T(AP|o{1VEw;)c#P-pt ϐ*{X=iVoXN@!ԅJ;l ~ uظFn͍˺+0rӄb:n]6^>kQ@$$a$hl/qyLD_d ` B"vS$ u/3=18X;^1~кԇ;vR>!ǝ?J}xv);>9ió3c{3PEjϩ;;ԇ;vR~/;I}oK}eg_fwq-K  νH=0|%8|@.Th͵;iN~8 <w޸w~z~ZE$:5'@N|^-BE5Π'''>gtG{pg0ޗW7*sekY{d o7Ό(Ğ\|pZu~wN/h )#C<x*=X3f-8g#Kvs/:Fά;M^xϽi殗,rFOzd֒f:s=)@9rG_! 2n $Y 5ɲ8ԵܝzkVu+wm28?sPY{x0$wu Lp'_*]sìoڊr@,_-<C pr>=) b =rK_tj3c)N;u4KbfÌ!ᬃ Or lltk'BĐ٧ϒeƹ\"9d6 PCh{=q{`@mڿr>˶; Ou2bn2)k g!FxBvq=ƃY?Y>d}\U*? =qpunMxJk8?q#0ӷyz&eğa?^N]QL!:Ux$zϾ3{S2ŕ^o$0L0pIĎ{w7~Q)Uh0?/= ,Zx1ݻ1L+Q%ܽ;b8o >/kKؒK^-ymrSJq}1Syٵ~,~h&qo Cn15w}]tkN=ߓd@e> '7>/Oyܪڕ5d:kZ/%mIIO'?iI?___P['?ikI鿆K8IOiHOl E6veȃNq&M~7&C8YE".{StoMѽ)ΡݛQMSߌֻX"y\A8:w^PBwy<лو@Gt@衣:z衘sNS:M4ӔNuD]a8}rc]}  "RD^R+$S-ѱw( M\=J?<9@L>T\&}@[*f ͘x\2%ѬɵhdzCj8? &t!VehuF.W=Y߁DzcV6tNw>\JU[nSٕy]W[u%svZalӼ Js c^V+ӨMWF2; #?Go1[#G#om#@GV/?7$J5M=S:tp8̯hk}ZX1}jK⪑(q ̜WNVWǵP}ճM_p; Z=ÏQ +-\8R<8l%Spy .%C0= EI3L4ß۫vM#d(P|j5X*lDq1WWlѰ9ȯhV콏[M U<᯹;fl>X:`91h;Sђ"V{hY4%o'?)IORK}iNYUVJ(BL\R$ 6B<l"/ E%" $B iH. L.w-[G(cF)H$!ެFmHM[.O*HpHSF2O< nl()HEPh+HD R"e,@u}SY~X̙b9~ْr\v]ϕ'LZ[zOiyzU۫u[s罴F\dI^$Izl3^;6 Tg >bsAOO8Y_vu*^NM <5I;>׼{Ƌ&v# hIi3KR\̤K6)= ?)˒DO~ M'?_&]R/C߹ L CU$F_I^ N1" 3L9x Con8\&@1SѻnWW-E5U6r<| .ڒoR7:.sA\e:JȋJ43޸=͐WC1"OJb؏X|zSQX,,| aBB(7}YՔ;}֔Hv*okڔWFB %;S.XZHz̝(odF$+_J$f"<|rA3ʼnn'UZbȒ Νdϳ a]"] Op_5gY4GYf+Wa!/ 7a?iŷg{Ċh ĪDЍ’yW4v-sܽgsGZ/k~(]Tv'"(me+Bq^?w16$T\46"- .6k^ .}H-,' ܙ{i!tVZj)\@r1,,Y$^:м?f+iZe-߄&7 Mob߄&7)6xt!KMo/WDb5(qiv_2@;g1|bI)O=C؟uŎ,IN<[7g:g#R@sz4O]oe4oI)IORRF@$Wl*!M(OK!AGʆbEA c E( YN3*9%e̹ZK?$Wuo#[G?FISFWEcmM4F0/<:?WbN՛GfW5'V+xNeW*>K kR>9RDA/@JQ s_2C< -KqlO#k)%x[B턶瞖ҒDNh:iԢ 2ҖE"G@# rDE"DeX-ܸry!./{؅$"-D*)*?ڬBdR_ɯE w4ޘ`@95qQtA Eqȅi7IrjvrÄ5QC͛ C}']"[F3xPPH>1_ew^$ϽQ/B0"h;zޛ*(G%OjxP-soʤ|xT )\c VXAɔbrw0'Vo<,I9 [6Wh,=Uj߾vwa-5=@:SLf>;Qf{<^R~n/.c>_?xstQJT> s-4ZD5"`N=|e XE&^`EdG5QdE$vZt4CR=)ovlue^zkOg#˻|wf6]3cdCdag_R[PE$vd1S痝}u␇02~\RFlJ C 3 #   s c SCo(6;2;.;*;&;"[;mgnAUৣ; ,&d0FDcFN1&͸6~Ԋ6 8t4qޛޅoQkk 5gi&Nݽ7|}͊ΖTpq6ۨ,i`U26[Y#\y飑MэG?gQW[ꪭZsRxJEMnn(9hXZ6)yoO o"A|[A *Iulʝ>M4Il 6*&tC cRW6n0m\OgSOeF^sENP( & 0lzxaNoObcQ;7qQ`잹 ibcr_7D&wE:99z;?8' =TU"L![ٴ7 (a"Ex el:L`o6~Gеԯf;}hʣ5[X55MiFNq`<&ʡNYM 󻽙Dv~n0]UOjkoSIm /Xm# u{HmDj7.z҈9j]:J&fg%%mI}ϦCG9sbwm6 FRb=`zQ QֲbpvCs3+&Kw~1ǛC=lI^=`  Gm~vʐ=;ٳ=&۳/$ȴ|o;x5.--[Ժ}4ez75!B\f|L6FY&ղalc lGb} qaf{ND6}]R~lcUl11ŵfWp4|xFئhl|uMjo`n0\4ޏ`pdNL׈PrՈP>7{X=~?&0l8Lf`Oixuh#~:s; ~7r9pׅ!fH7EHto^:T,VT/zKo3z-u\*xh/=>*%fw#YƬ ͙?/NshZglv*I8ra.F5#$3I/zKr"fǎ}F)F~)ZkI.?X}Q=UН,F4#CT3I6SKtsB2o t&NKp6K"$lv gD87p.pn2utU]{hkX3ր$l MF% Jjθ.4xW# (j+Gnٓ{ޞ,H+o8wyqs wTuW>أ}Gt)EL3;[?*iqC쇾GX+ɡi}0lk0l F}$ awa؊ð-t/4 =!쭘 Wl9C4G94#g1Fd86IF tR{Kœ !ϴe˦9~j)|+Y(\o>q6>&t#crW2n0e\4E %Lk,Խ0Srck1v24"O,2D.7\Uȴ {4ݮ9c·yI m=?t ðD2I#<$`k8’mpdXg+?>4XDQ*~t0:h`W+n<1|{fn1~7r#Yx7Zѵ-Źڻj Win(̟HDZ*!$>ʁʾ=݃DBALS:Vг/%gdb́=Vޛcshvw!NF;%vt#E= QL` E].ƶPckԅ4/U4 P]e\ǮYIB[CD72L.,!܂2BSɑLndrEܘ3J yur40G#ȀAL5 _&Z7;͡rh/L i6}F]bMNe4v`Kyũkd#pj{j ]Ki~"Ch==v&;V-<}`v:d4-t/*U\d_*NWgezf͹;]n)~p{{Z}̠XsdcÔn$WBD Σ9Žs rfpw7s83hƪđF{S:,qT>X {ւD(28NR{(C~;蜝} w.z _bޗ r.t}LB0rW;9f!U*=Ӵoy://`yĎn$SRm5WӷL {ӝ:C=OC?rڣ٬zm^BҚvrYŜfTno$7*Uvc`/U̫l91jq;_.܋R6$:R}^S+̿qzcÅl63ۍһKW agx3ˑ,"s7X9+0*brl8fό]k 5tUg_/ML'^n6'u>޼cEޫf c ȫXvrc],W|\6FrY&r93}]:k=l)Tb |8l6LFu`}30]~UG> WW.CSt΃=4+ñ٤2I-S{KsfqL4j S[Y"WL27Lꦓ.p;59a:irHS`49Y좝JBm7&6\L2y-\mKl(D[ʗ͎ɓk9wo:/e& f3=H3tO'vsf'vDfAFLgfh:ڱF995k fYSZ[1|cؘl6ݍ 3KFӫf:ؙj==/Uɪ)FjI}ez7E 'j Q uj~u㮥JQFe_+nwl&n$&Ve,h=)Y{&[ȣrvpz|yqpxjlGQ*Oa+?\jQo4/%L/8թkHE[ i̼λĪHwBEɟ:;V~IA,J-3Mxh'ebEPS^5;3!~O<36vN@ѻHy7Ax&Ֆ˨}gFw͡rc)}D:;vGtV-Y&]2#p4)p8ź!0;:?;V^ U;=8~!'i6a@$#9T7e8kaBjNk{4~r w0aFUתhͶVkך!~ޝl+^[6Oaޕ=@YS]5B[XCjئm#;{CsdCSv؈U~J?o4hVkoT76ZUoʇW.ku%Pܻk GY=d"o~G/;7}s?rOo]Q_FZOkoo/p[o7lL)?_acTeW%IV3VEr'O|wAx 9X,3DZƓDywQ]E#Z^F}sꆶmY0p :ʣ([yP]՗p2UZSjsʾ2r<|R86or5erY'ص,rvMmb Yᓧ2C.o gAk3fئ$b{ȂvD}49)e5%YUtobA$wR^ at6tj8:c,{gd67-@qLt0 1""˳ <|r* UWχ?y_E>>5&ȼrǵޤyϟ!S/;^ _v&ܲ/e~'W߳w2wmP;2JUaf nǣ*X?zT~|rў HeMv|c)u׫Uy;H_MeE+f3ztxeڈKU~vo>݉ZykN?>>~vc#Pݰرwp;@|o~0} 9ݝP~~knҳ:lSІI߽2^ G x+a x+a x,a x,a/ xNa x,ࡌ?߅q&o0qu$Zc#E,} d"Jb_#ʴOw h'e\ )|Z2pƞH1o҈wEɝX啥ީXoVD__VK;YPqj~|5` ~=]RosƷ}'v뾍o^01gt_x2E9[ E[I {>pו&gM̙C'wƙLAt^ԃeUvd !]#D |Kx_׸9wf?rh{ӣ#;?;[FONxF8t85œ'"Db5Fmt1 YcE:q{f󦘛X vY=5,דfy L#f^-f&~`;:ʤ//UJGo 5%ɕswEߤHƮ/ =U `x#G0<= ]_}8`OD!>",AҊpNdW|ɦsirjBNMҩI2Ba[=ʫ;DHzM F)X2> 1u(0jcA *°)°a0d1 ]RJsFaDA2Җɧa'?)IORo/-09kTKV[ ]RwJÏ["!"yQmHdCJCdd:XN- E)H@R`VXa-YHD[- y6r$}#!/ yWbOE6K!$'gimX,PM˳#{9Lsh{e׹;#sb]j[F_ި4nHRr Z1͖F2?qd }<;# Y;S5 @4uo+FgCA.ͱ\Nm=? 2 ڵDL}{k Rch=ju02 {q4H YH4qs 8&ds"B*B001T!p+VoH_B2GKjRڟ'?T:.+vtJÏ"!HypE8d GMN)/#[_ӚzдH[&g#5H @jRdW|V0c!?8ĹdGrݍ3$o޼BdGVRO_4?R'&[L ^\_Raqw&.64<]:սzj,sU}d+Rox$rdܸq۞kbY&8l8ΗmW :S^,3N3JLڧ ӨoNj+ޝ:1[N!W mp %^X]눢ԚUSv3yf?}Q>[Qɷ~R|uN,z=p-u /1́2Q]FW3; ^VBA~%/̚0&dogdB^Ϛωwob6303L9RKoY)9 Nv[rwejUo>[؁Yv3Մa{{8)p 7[n NwAA#oS^+u ;=Vt"ao`B@  kcltJR.{0@[ھ,K_nv5}pomZxo'/",c5JA,K,.HB@?*O8b\)^UdI v?1u&^Lb ļ+)WZ㭣|@7P]vQa9Nq*"*h۱Ls;yĪq r/?:;ojwg`G=U0op>Ot1jѐo1`:7!Dе^DxН=`_>vzvzu<1LX`z1@Xrm1 >UGT;wp~K"z{[-4g P.)Y:8CH7PYeOePnشHf<0+6jn f#x1@)+ޥ/f앷Cו*N>+o\?../᏿"ϧ"`kNk>46 &cj>(O~`3 H?ΏG/o،3ءԹW-vGgJ}n*``>X{oaT`Fr%iWvhY *pkxO>^mWPdb)h$Qj[FhV(yiɟ.SG6CI#QFL^Apuֶ bo+.@C1'`zoj_䗸V9"J+Q ¥R'_4 藺FrNy?~,qԛDHa}wu̡zވC eoiG7yߌ{g ofMR4υ+Te@>E@+h?,֯p > B`9 IϑW" ZVFT0/R|q-YyD#h: 8e= ebO\݀ZS3 N;u4 zU/ZEо}Y,l}yYo=8>g=uN>g.'g B׉5d墲eg\ry qgC):ET/,v`[NG#l3C){sԾo䊀 ?E DmAaA#!_5 |_.Epp\ӣ+F!DHx!䨒uVU?(:GA`s=1 5)W}u 7_oppY!1!,)z"Mp;wn'X5.[Xp0F/WǟWΕ:TVs{4`lLԱ'\ZcT c(`W `WoF]е^w@Awd4&Ԁkgbe?>z1@$r!m: >T; >TGxwuxZh@8]R}ó Eeed TVS !oΣ b o`؞?wS4;\7J {ˊo^[^^ו*N>+o\?../+f"Pk&M>$dJE5؃ZiaMcOI!Ϩpb>2}SץHDiJaeyC"dе'2hlu)-?;:?]ۢ;Y[ǗWt [py,Kk~:|9>]2Xzך7L j4v֛R#o{T/zpqxJR{++1OFmCvIeYF^5צd5M6Ik8  \ =b9srQr#8~r/>Joӆ=˳MRLnggԧmoJl҃., \sKv_2/;\4?0n7S]LsMM"2Җ!P/ PdM߱dMߑdM|{ ?fx!c}C>#{\gJNI9 X ʷ7 !2u "݆"Z\(o5)Z( iG._GG1OjI}l5TND[] :_k5o[MC+D{Xl%']cE+QVkǓ*3SYN_& 5d^oK?NF$3>G^u=1yOyN yD㕇=WU4Zڳ.2tpu_-¯2smcP:'z=-M[Tw{Sn$v?!%{^}& k>&;{; nH7}s?e3IfWVߍK:&l5`#OEsSy*"OE䩈<"TDSy*z^OE}CKވT⊻K?EWY:Gp iE_9q` ^IȵUp'c_&70,b[Vђ$+ZUr>'x&|6|:QbW]p:x9K2O VyrtRfTRfJ)J!EG3D2A 0{9/9[phuQ_FZx2MߋZ[/jzR8vV| xg/x{k5b?Y_F*FR|qa<,<,'N!1TM@NgLGէO67[9@%-kڏX%P|B%>A=+*T* E>'Եt3Է0k'`~=vws#8ُ?ڊ]s>+19&@s͖w-}fv>/ dCaۆ hjs]$uu $v[;y`o\l"9sXd91]xt\.=X'rhǗKwKyNȑ+^ZbVH$a/)r'a2T݇$q2|S ˲ĸy_[|!`)K0Cl٣HM A3(vs{:Ԋ  hB)[\1W4WR2?K'?iIO=b'?iIO!(aHGgkt_CX!CGS8hȂ=URV H㞀斂x5U{[@5{}{HtJyKB l9>@?t+YlQ[ARҖ̙'?IO'?IO0o ?k\k\Albg zzp`ҖG/]IYrYvRe sZ.V7NoY8edw y)L"lҘXqvXXpoZeJq0.|DtQ.F ?pw5͗9X m/$'Y$d$'bW( S/ѱG~qOL)8c~i/"?AKI[=CZZ& K_𗀿%?9x6YA yd!#\yX؎'8A :^.t/ j-qP<(>%U/rKʘQj4R,Eh-X^6b+!F_F9T\?F=2F)G C2?M(<]Ouo1F3r7Z2'XUoiYjSƋb&Wb1 "rgs\94?- S/,G"#Q%Q%Q%,GK[Z#zoe_,˝.~*~t?^R#t'D>ߌh6+%v/)}fMKݡ";TCbs/Xc zC:EG㤊q/!~sIʩz\/` )w#$Oo+|9_N`gk]ȾڽV"դ^7JnZ[vFa%sm=41ӝ#\ݱ~0N.e;;=%VmwpF&8Yb/q<^R MWZo\Zz2۶PDKt|5׷ۺ&=qstkyT+*croNy w{Ҳ*J]Mc*\0qplzp} ŅNX/V5e6rKwc+w_pɗm_ [TCfwvB*YR7ZU~cL1Пy?WP*_3!r\GawoPK!,)?Y,kz}E^ExН=`_>vzvzu/ o/ +o6o jO]A([x߄?]3\V|>7@8" }3'y/@]ļq v |S(Dž|Q:b1 h:b D;~M0vlc5CW %{sTy⭯8o` gW8~Lhx+LU6o` jt}gŌe#oKztK䏩@v^e?mXF }/ S)Kpc ORh;0tlN;7ɺ\cJ%q'[}a6M~'l]5khN:JqY dћ O&)} oQu{x]y6 #I pq`U*ƥ!N>Љ >xEs~2f)‰|-%_K] +v**#w.Ů],y}QEK,9%!2u+#_6e #ozFKI[&g7 EjR 5(גZ!j) tI]2eIx׮{$-Lě7W"L e+*:Zڳa1UCj1'htat6JlHEN vٞJ k>&c~eJpr UEx^8;n$:卽Z81(:% ZLOQ%D|~W'm׉eVB76hHdx9hzN2R P989׏|]?K뉅^V9_k6Zߨiue[@D.UcBJ _'[p1Z>ZE%e.edMYJD&U>'" l\j&{1<)G4|QҮpEaI*l:u9'MlwҘXqYh rcih?\]wYߌ&0tKuY9 w:8JnDwxYcYzbbյ Å%EBJ*awB.`Y0ȣ`@5mF€ $fn8xۛIbvPA5R"ϳ Aul9En˵x]*!&aā95)ϼX0)1J#?IğO.ǐxć!iJw8<p³ ص.[d_ތ"I!{m+Ako熕 , /ww,X9ݱ~x1ߦ.;TiNI:oy̒)^s+l8т^^v 0+sJ.xخ@KbA8bA {j?2*Jel,7Q*{(^N*= Ex=WlGz֠,ar0;ڿ7kY$Y0d[@QyVLLzCpG7j=5|GgǕ@J{TE-iS% Dlnȶ$i//+_'/夕ᰤzOkkoKᵶKK 5Gs)/ M5ET̸⊓'Qմ*\HBx'ɓ!D%$́{[; %afwN&I4|Eҽg .|Vp =^@j?1&Kbذv )N[ʭ=>\ؠn !9q^y%<(}7GI|V?1C::$94n+nmżsP \ ļ{`Qr{YS?J%DM<%'#/DFcm{bWuZ4e-,y%<XK`lXS"<;Gꆸ%k=l`I,%E\fxɺxm/+K%Arvo]6q?ug;MC?WrI]lѬKki  l|H:aQ XGmJa>uր?feZ1cVq6כ%\8k5W3b؏II%Lb?K8A؏9W~p[} E}$x߳=߭`zH2lR jM)Dw:`!cY؎k)~l9mx}Q2#0E$Q˛rÿj7i /䅟慟:ҏ wwO ?E0D.a"nmQ4K|_.v" ؇t +'`}ټEq>bQBc>(t~SbHXDH` |$E&MQahv9ƶ˨ioeKܓɘvZnnSbH672ꚑad,H!D?֣k)i F'? O?'?Sb@!"? Ϟ+*jC`4ylXJ0Z 3;@}#KD-SlR1^66f&h?#go1wK7pI;w@qM 8= P38`$ Q^@(]!-)0(ѪZLv0`>X0t\[n$6 C - -prWK>2b0@yHq$SG~f?翐c xLRW8r[q<p37~`Uͮ:} Xh| `. ē/mG*@?(,uue$ein:Q3"_k _> }>ΖKWZU]O2V0o6ި/#\ֹw*> sSao9.pamA}5 j*_|eE/#󕫎y_&2RHő}/} {/͗QOfPRҊZ·im=>ʇ[MY>a=ϕrJhVL|U*ȄQEJ!(T$=//oYT4h _y"#}ϒY>Kg,y%ﳛ}V?F~uJsz+55Awd7rF9~#o[퓱/,0?QlmH8 ߂} ymurHY\NpG s X/")Yy_jFG-tCR" E)2[-\"P,݀0b%wļ$]I\+CwE\|vL%fxt^R\,ċ$BSe,#epYF] O\eh_ɯ#MQ_x2Rj:`he4'a? ȇ<#a~0q %XF$FݟhTo9 3C1D2CsCsc=1Du.QV眴b Ksg{ia(!^z1D0 MȖjMF"ibGdJjR 5^ Hf1 J%A. r[Ơ$]%y$%nh71h^ajA BxQehr@Hӊ  6ٶvM/6n..f冀g*,#{y7&dpϻ;{7ωդ9Rq~8 sA)3s.,v}`:[NG#3C)tJ HI(< ʆ4 {ye_TC#TRQVQEysً v-_ND$EXs2lz7 J@ \s{CDȸDBBGwĨ$]1rb'(UJԙc8'Ń8)n~:'Q^fI ʎpBC*5CXSEXvlgNj\Ȱb_?+t:gWߝ>=hؾ™eO<ҵƨAAN0ծZAߌֻ>,kz}U'ƒ1(;Ci^/LVbp,p' A|/wl5|;8+LalЀ5pB8gALň2˧[D(7l]o;.̊[@;b{ޅLa.;&| 7ޜ~'\zS~yۯyy޿X5ۚe?UppYєzqqpyłaqtUz)ų<4mcOO=mOI?p $(s(E"$\J@&7H298A.L+7SBMG"GմlF]6ccwlUF፯-xae+NTMQn/v8'-7[\GaQZ`4b5ZR\5CSͰٝε, uC ?H[f?,@4!Y(Y(Yv[RdJdJLAɹY&l@l@D&1/D#0 ZKX>+<5/#^1O0j1MXJ2?L'?iIO?K/4T'?iIO,m KiMWE:eϕjKUk0&s|gyu}'ÏQa 4,1`,]q >_E uN2oEcDzT-&m`n~` |gs%W{e!@p =2Y} 6踋G {LK7V"&&0<A_dF#ERD5'Q@-K? ׽]lՍ0uze$ Ř g}ƻrLN,| w~[S*D=/qUVY"C+Q)%|R _(tTKkIJ^/ \aѓ ?7j )G1ÞkFQkiDH_o/'|HJJ_Us75=z7:eO⋣ ZQ@A (H) P R@A (H|dZz(@IsU޲qa!#`˻,smJXW'ؗY _1 BQ?y'Os3 ӲlJjMݞ1!~{?9V `!Muo C_LxM y˙'wArkHTA q Ky)D슅 Q/ѱG~Oݙ& ]Zy?V4(G)iN`B&0! L,\Z &0! ay RcB\0& wAZHȂpD@ 8-h@ [=HuhYh)Bz8'm_jKb+!z濌s}oX#UG6GfdJI3pG1䤊rCw,-J]OsCF]'_FB\|9[Kc [ Dk"V-_܊(( p h#V|TD-j:zk4kH!GI0J2M(S9ax wܳR^ʹ}Zt/%vXw]'s^*t!?㻢KwCW=K@O=.kHS/|.8pEGw $߁;|;O}$'KLs(otrO#" o+TzOs*0cZYд"L+Qt%jpsHY"+ Gc~?5XVi tPʇ|zS7tsMoߡ7zNe⑒+|q Kw I9#煤`&__Q&s-burh;p*>kl֍VjVu@čQO?6}`ka^vN*iq/C/lhbTkGCq]]4Ǔ Ac/!RxoOjxJHT%^]Z#ei>]^޾Ɩ"x8?Gk nhOy0BV'd?L_ '$`^V+?7W5 ?dX(vFy[}F(P~Q@]nq}gMWj !xo/q\E6"BoLj'C$$xM?-h3Wַw70cw Q;dZy(5+0KdZbyRߊ~5SAW( {ጙ׵hA7TzN<8ky[@UzDܼ'>YaP6;@Z7];/*/CoPE,O_yᕠVY)c/>!籹t~^Z׮B >lap"{}WDbUHxVzXŠ2fT +J$Hw'/_#:ٻyFs xgW_&d0|򯒁g>^tG| v*0{W(%l߫ԠH)2B&A peyO>iEǨd[]&c]ZR% kʍDfU`_)If4^[3(G))l^̿=Ws4nU7kk7s cP}|"Onw߉>͡h"ߨg)[tia+8<0Oy"aD'<i0O?O/G6Lێg1f2QL.X'](DzD4g9I^ϱ3فR3F9w$>S67>\(n,sM /$BKk?I+/TN\2>Lu$T B%(nu V_\qŹ*Q cnաNAv~ݎ pB+]tf?N?PDj1LhUs-zhIl (L;,T,ʠcO.ϽKB%75VeF^z y^S[O\߼RR|Hőq"'qbƉM( 9^9ވFC/#mY7Q7F(oMo#Q7F( ⿽oeCQB vh˴-D@6Dh; M[(ByT`nd"E,x jo*S_i\[JjXs+'m !@B`@HA@BE#7 @BX@:D@z7*L7*~Q񓪜<|OS1&:4? _LsF#_5]oe~?tIbJjRڟ'?Tؗg,8*n&0 ێ2Y#pIy8'F6R*ld}"YHDv+,ۨN]s:XF#5_o( iBn#[Skz=1ev% sb+?I(7uAzRB(ADz h@CRy)Ryzikl?c,SSƊc|pmI?W0k)6zni3Zx94E7 67r){5zZ}ߟZןpd]uީ݋QJ\/Zjv*mP`*}LW}9)ウd꟦XHlx^5Vŵ׻L7٦vYlc⦳ 'JVDqt2-8n51 k]94]Wgz݁e&*:CƤ( 2݆.<ջruP PWu h9~Mժ)js?Ͼ(ik[?)cRC}N\rY'~2y\Ϟ>qF>^$$% S{Nl%;ɞ.p&} ''lp'^q6ͿMϲ?l;o%x)2 yq],I,=c4&VDsSV%j~n,oa!Z{$j!\:"gyM TCkvW燫ez32NIʾUcU*<-2n1HK3w( ؑ8Gׅ[-aqv~u\śׄ]6op?8-np+Bk m8cnolʈmejf+%T L'4V{ +K( .Nw#_b c24Y 1MiNI :o}35@!ȩ`eQbdnb۟jͯn3.#Ԅ{ugjU/\ X}RApJ=;oT Tijh) EiV.d@ߪfMA9liX.tcl)a`ƞmX5{s ㄎZRƈ=btokzOpyRVle['sdפ7.>'ٟC2wo+G.- :\ؕdWا W0PN"ƿNpBW<z :YnR.^bC&7p%^2p!#+6}QO\>cIJBC*V)ժSgۦ r茞Myu+`; cm!ņ' pQaaNq*͒9A`܎-`#VϞS=hؾNwIJ yQww}XCz;{2|`xB.XQ! e^ \){8P:' YÇʽE=:$LAlЀ5pB8gA:w}7PYeOe Pnؾ̴f<"ho`؞?wS4qqǮ0XVpkb/:ѻv_"W Fpt\)WǗWE3n߀>F 51IJl:A?Ƿ?o[z򑶢?.u:+JEWl(SR;_0B :@9^E_zqMd # O>P`~Q aa"{P=JQ6 &a LNN J4v_p\n@L) LXxې˨iRm2ԖC K6>|K)ĻHRe];L!5_ L U&,؅[kҽS[Lg'͚Լҥz-co.F%Wnjz%uDv=?mBo7j%ב֐~IJVI-x7nv]Cʘ{EIؓ; 2o1I?^yͨgQRҖ3 5'=$''__n|~dOdOdIGF; /?\Èc\VYSgÊVbsf[m=w4 }(uu%E- B)4z k>&n \?F$d_9sM4H( o+0Ʀpy!@.J#C83ZU\'%u+̍VL(|6"$HR6N =jԛH / #`@ܻ98rP4lEzN; |!#Dxr<+R;xb>P g1n:_;5+#eAg"ɨD_(EBP|aY]mvJs-=5F?KI[yI$nrI?'9$ǟnO~9Um"JYI޳yi%8-ϗl< %ױ:Tױ1Erv#G9];D/R,$c^ue- ()H@R"`rY!.h)qIKbM6/F v_rHKݕD[DE1B1$]&ג+ӗmrY!2ܦ %xM~9B|Q, t@@[+}G#W7MLc"R?OCsK,-|zެQ2RH[c7od_J2ON5 ddşt,i͗- _0|9psKл7 KPq_\ kmJtRJy(1?]u=0 gjoں1A|a3Z4ޢ7ȋf]OV©9*dz0Q<8bA1VWŏC]z 7ƨ!iN0/AXh!"P9?j4o u=E5 QJ ?x8 ~ȉAuy`TN{J>jFz告/ MmP4oB-^GnoMA$?A3,̼'1$qbz wjփD^9 ;'}ܛnz}Am.;}lW^֥ީ*[hb!wp8|c#=Oc 5ns6wU\<0淇!Nr5>pUn$6`<0~@| " {ԁA}U_uk#t!'0 Dl۶ X@l]`t_bUM9g_Y/y)MpZj4}t,MG-<*x2"F~"W I Xֽ4U`kdyp+[6o vL-*ܨF7 uG'ӺoܾhjAM~{[HPS=&#h<'A\{6OwQ4nF `pő]ƮTf[_j4u_JZMg32~R" %Adz#3^2q8)CFS7Mey+>,wEĊÒ +'֋$_dgeソF/L\c"-'1ZZ3Uoe>4ݑP C(?[瓱/.0wQ_S|KTR^BX"H[FQ( UR('?P<%Sud xDev7 FjR 5U @BB jK(z<';a>sIKܒĹbxy uG^ x?u0%}˼aR%`VBXX?g<7ߎX@x88_YyaN-Tk(oQ׻< ֲIe5J)N0 9vz[t<$Z@<eoj T_q]cf *#<;k!3l6(Zh@8]R}ó ] eqU 2˧2J(7P f<0+6"G.$Cߩk=A/0y^ٟh alVPßj oX9dģ",,Μs Mv&ļq v |S6ȅyAzt,4Az ##qP3ѽ ֖z;6qб!{ X7L=x+96?yt9Bxhx+U6pnWqG{˾b2 4cdnS+݁Me?mXF 2 =_?/Wg5xUf\zr8D>]I.&Ck="yȌGg(aŲa<7U^OV5,bG(:\&<Ϸf()\ѱ';Q"[%ELʒ]$;G&'A\ ޞ\F^hk23d>2۷kR ;koYpc'9\RӚ݅3m0d;ZbBR|7d;Ҕ,(#V6i=kRD,#"^O]zKJH?Ꚓ+Dr%&w #X8q+)0Y)Ԗ,q^wt&$֔.ͦt'. !-KEdi WbV/r%{Bod;ZFsXrIR}:p*6$; %P*q0ҽYŁ':5U(ݕ1do9hr_$|;9@K>fh9dG h|C֔d_!|~WI滓k!K 8b}Af͏\ƞ[2cM+v&8wXX3JєM0xQkE-FH[7Qp"Qp"Q83ED "Q8G(pQ(ܽفG(܊"mQ 8G1R$WMkAq }@lFKWMLb(>]"Kv.m%zPD%J(QD%J(QD%J(QD%J(-Y@.