Package: rat2302frmavecs Version: 0.99.11 Command: /home/biocbuild/bbs-3.22-bioc/R/bin/R CMD check --install=check:rat2302frmavecs.install-out.txt --library=/home/biocbuild/bbs-3.22-bioc/R/site-library --timings rat2302frmavecs_0.99.11.tar.gz StartedAt: 2025-11-05 06:00:21 -0500 (Wed, 05 Nov 2025) EndedAt: 2025-11-05 06:03:28 -0500 (Wed, 05 Nov 2025) EllapsedTime: 187.3 seconds RetCode: 0 Status: OK CheckDir: rat2302frmavecs.Rcheck Warnings: 0