Package: rGenomeTracksData Version: 0.99.0 Command: /home/biocbuild/bbs-3.22-bioc/R/bin/R CMD check --install=check:rGenomeTracksData.install-out.txt --library=/home/biocbuild/bbs-3.22-bioc/R/site-library --timings rGenomeTracksData_0.99.0.tar.gz StartedAt: 2025-11-05 06:00:21 -0500 (Wed, 05 Nov 2025) EndedAt: 2025-11-05 06:00:56 -0500 (Wed, 05 Nov 2025) EllapsedTime: 34.6 seconds RetCode: 0 Status: OK CheckDir: rGenomeTracksData.Rcheck Warnings: 0