Package: phastCons30way.UCSC.hg38 Version: 3.13.1 Command: /home/biocbuild/bbs-3.22-bioc/R/bin/R CMD check --install=check:phastCons30way.UCSC.hg38.install-out.txt --library=/home/biocbuild/bbs-3.22-bioc/R/site-library --timings phastCons30way.UCSC.hg38_3.13.1.tar.gz StartedAt: 2025-11-05 06:00:20 -0500 (Wed, 05 Nov 2025) EndedAt: 2025-11-05 06:01:24 -0500 (Wed, 05 Nov 2025) EllapsedTime: 63.4 seconds RetCode: 0 Status: OK CheckDir: phastCons30way.UCSC.hg38.Rcheck Warnings: 0