Package: org.Mxanthus.db Version: 1.0.27 Command: /home/biocbuild/bbs-3.22-bioc/R/bin/R CMD build --keep-empty-dirs --no-resave-data org.Mxanthus.db StartedAt: 2025-11-05 05:57:15 -0500 (Wed, 05 Nov 2025) EndedAt: 2025-11-05 05:57:50 -0500 (Wed, 05 Nov 2025) EllapsedTime: 34.9 seconds RetCode: 0 Status: OK PackageFile: org.Mxanthus.db_1.0.27.tar.gz PackageFileSize: 461.4 KiB