Package: org.Mxanthus.db Version: 1.0.27 Command: /home/biocbuild/bbs-3.21-bioc/R/bin/R CMD INSTALL org.Mxanthus.db StartedAt: 2025-10-15 06:00:08 -0400 (Wed, 15 Oct 2025) EndedAt: 2025-10-15 06:00:26 -0400 (Wed, 15 Oct 2025) EllapsedTime: 18.0 seconds RetCode: 0 Status: OK