Package: org.Hbacteriophora.eg.db Version: 0.99.1 Command: /home/biocbuild/bbs-3.22-bioc/R/bin/R CMD check --install=check:org.Hbacteriophora.eg.db.install-out.txt --library=/home/biocbuild/bbs-3.22-bioc/R/site-library --timings org.Hbacteriophora.eg.db_0.99.1.tar.gz StartedAt: 2025-11-05 06:00:15 -0500 (Wed, 05 Nov 2025) EndedAt: 2025-11-05 06:02:34 -0500 (Wed, 05 Nov 2025) EllapsedTime: 138.2 seconds RetCode: 0 Status: OK CheckDir: org.Hbacteriophora.eg.db.Rcheck Warnings: 0