Package: ontoProcData Version: 0.99.9904 Command: /home/biocbuild/bbs-3.22-bioc/R/bin/R CMD build --keep-empty-dirs --no-resave-data ontoProcData StartedAt: 2025-11-05 05:57:13 -0500 (Wed, 05 Nov 2025) EndedAt: 2025-11-05 05:57:26 -0500 (Wed, 05 Nov 2025) EllapsedTime: 12.7 seconds RetCode: 0 Status: OK PackageFile: ontoProcData_0.99.9904.tar.gz PackageFileSize: 470.2 KiB