Package: metaboliteIDmapping Version: 0.99.11 Command: /home/biocbuild/bbs-3.22-bioc/R/bin/R CMD check --install=check:metaboliteIDmapping.install-out.txt --library=/home/biocbuild/bbs-3.22-bioc/R/site-library --timings metaboliteIDmapping_0.99.11.tar.gz StartedAt: 2025-11-05 05:59:51 -0500 (Wed, 05 Nov 2025) EndedAt: 2025-11-05 06:07:06 -0500 (Wed, 05 Nov 2025) EllapsedTime: 435.6 seconds RetCode: 0 Status: OK CheckDir: metaboliteIDmapping.Rcheck Warnings: 0