Package: metaboliteIDmapping Version: 0.99.11 Command: /home/biocbuild/bbs-3.21-bioc/R/bin/R CMD check --install=check:metaboliteIDmapping.install-out.txt --library=/home/biocbuild/bbs-3.21-bioc/R/site-library --timings metaboliteIDmapping_0.99.11.tar.gz StartedAt: 2025-10-08 06:04:24 -0400 (Wed, 08 Oct 2025) EndedAt: 2025-10-08 06:13:28 -0400 (Wed, 08 Oct 2025) EllapsedTime: 544.2 seconds RetCode: 0 Status: OK CheckDir: metaboliteIDmapping.Rcheck Warnings: 0