Package: hpAnnot Version: 1.1.1 Command: /home/biocbuild/bbs-3.22-bioc/R/bin/R CMD INSTALL hpAnnot StartedAt: 2025-11-05 05:55:25 -0500 (Wed, 05 Nov 2025) EndedAt: 2025-11-05 05:55:34 -0500 (Wed, 05 Nov 2025) EllapsedTime: 8.8 seconds RetCode: 0 Status: OK