Package: hpAnnot Version: 1.1.1 Command: /home/biocbuild/bbs-3.22-bioc/R/bin/R CMD build --keep-empty-dirs --no-resave-data hpAnnot StartedAt: 2025-11-05 05:56:44 -0500 (Wed, 05 Nov 2025) EndedAt: 2025-11-05 05:57:22 -0500 (Wed, 05 Nov 2025) EllapsedTime: 37.3 seconds RetCode: 0 Status: OK PackageFile: hpAnnot_1.1.1.tar.gz PackageFileSize: 228.8 MiB