Package: gwascatData Version: 0.99.6 Command: /home/biocbuild/bbs-3.21-bioc/R/bin/R CMD build --keep-empty-dirs --no-resave-data gwascatData StartedAt: 2025-10-08 06:01:35 -0400 (Wed, 08 Oct 2025) EndedAt: 2025-10-08 06:01:55 -0400 (Wed, 08 Oct 2025) EllapsedTime: 19.9 seconds RetCode: 0 Status: OK PackageFile: gwascatData_0.99.6.tar.gz PackageFileSize: 110.1 KiB