Package: geneplast.data Version: 0.99.9 Command: /home/biocbuild/bbs-3.22-bioc/R/bin/R CMD INSTALL geneplast.data StartedAt: 2025-11-19 05:55:26 -0500 (Wed, 19 Nov 2025) EndedAt: 2025-11-19 05:55:28 -0500 (Wed, 19 Nov 2025) EllapsedTime: 2.0 seconds RetCode: 0 Status: OK