Package: geneplast.data Version: 0.99.9 Command: /home/biocbuild/bbs-3.22-bioc/R/bin/R CMD build --keep-empty-dirs --no-resave-data geneplast.data StartedAt: 2025-11-19 05:56:42 -0500 (Wed, 19 Nov 2025) EndedAt: 2025-11-19 05:57:43 -0500 (Wed, 19 Nov 2025) EllapsedTime: 60.9 seconds RetCode: 0 Status: OK PackageFile: geneplast.data_0.99.9.tar.gz PackageFileSize: 3.244 MiB